{"text_format":"1","workbook":"xlsx","n_sheets":6,"sheets":["Tableau général","Importation élèves","Importation classes","fiche","recap fiche","Imprim"],"not_rendered":{"charts":0,"images":6,"macros":1,"external_links":0,"defined_names":22,"comments":0,"pivot_tables":0},"unopened":[],"bounds":{"document_bytes":16777216,"sheet_cells":100000,"rows_first":2000,"rows_last":500,"rows_between":2000,"halvings":0,"cell_chars":16384,"cell_head_chars":4096},"cells_cut":0,"cells_raw":0,"read":"whole","date_system":"1900"}

{"sheet":"Tableau général","index":0,"n_rows":500,"n_cols":40,"rows_kept":500,"cut":false,"hidden":false,"merged":[[1,3,1,4],[0,0,0,5]]}
["Logiciel fiche de suivi"]
[null,"Imprimer une nouvelle fiche","Saisir une fiche","Voir une fiche déjà saisie"]
[null,null,null,null,null,null,null,null,null,null,null,{"$f":"nsaisie","v":0}]
["  ","Classe","Nom","Date début","Note","Observation",null,null,null,null,null,1,2,3,4,5,6,7,8,9,10,11,12,13,14,15,16,17,18,19,20,21,22,23,24,25,26,27,28,29]
[{"$f":"IF(B5=\"\",\"\",1)","v":""},null,null,null,{"$f":"IF(AP5=\"\",\"\",AP5)","v":""},{"$f":"IF(DC5=\"\",\"\",DC5)","v":""},null,null,null,null,{"$f":"IF(B5=\"\",\"\",INDEX(nclasse,MATCH(B5,classes,0),1))","v":""},{"$f":"IF($B5=\"\",\" \",INDEX(tabeleves,L$4,$K5))","v":" "},{"$f":"IF($B5=\"\",\" \",INDEX(tabeleves,M$4,$K5))","v":" "}," "," "," "," "," "," "," "," ",{"$f":"IF($B5=\"\",\" \",INDEX(tabeleves,V$4,$K5))","v":" "}," "," "," "," "," "," "," "," "," ",{"$f":"IF($B5=\"\",\" \",INDEX(tabeleves,AF$4,$K5))","v":" "}," "," "," "," "," "," "," "," "]
[{"$f":"IF(B6=\"\",\"\",A5+1)","v":""},null,null,null,{"$f":"IF(AP6=\"\",\"\",AP6)","v":""},{"$f":"IF(DC6=\"\",\"\",DC6)","v":""},null,null,null,null,{"$f":"IF(B6=\"\",\"\",INDEX(nclasse,MATCH(B6,classes,0),1))","v":""}," "," "," "," "," "," "," "," "," "," "," "," "," "," "," "," "," "," "," "," "," "," "," "," "," "," "," "," "," "]
[{"$f":"IF(B7=\"\",\"\",A6+1)","v":""},null,null,null,"","",null,null,null,null,""," "," "," "," "," "," "," "," "," "," "," "," "," "," "," "," "," "," "," "," "," "," "," "," "," "," "," "," "," "]
["",null,null,null,"","",null,null,null,null,""," "," "," "," "," "," "," "," "," "," "," "," "," "," "," "," "," "," "," "," "," "," "," "," "," "," "," "," "," "]
["",null,null,null,"","",null,null,null,null,""," "," "," "," "," "," "," "," "," "," "," "," "," "," "," "," "," "," "," "," "," "," "," "," "," "," "," "," "," "]
["",null,null,null,"","",null,null,null,null,""," "," "," "," "," "," "," "," "," "," "," "," "," "," "," "," "," "," "," "," "," "," "," "," "," "," "," "," "," "]
["",null,null,null,"","",null,null,null,null,""," "," "," "," "," "," "," "," "," "," "," "," "," "," "," "," "," "," "," "," "," "," "," "," "," "," "," "," "," "]
["",null,null,null,"","",null,null,null,null,""," "," "," "," "," "," "," "," "," "," "," "," "," "," "," "," "," "," "," "," "," "," "," "," "," "," "," "," "," "]
["",null,null,null,"","",null,null,null,null,""," "," "," "," "," "," "," "," "," "," "," "," "," "," "," "," "," "," "," "," "," "," "," "," "," "," "," "," "," "]
["",null,null,null,"","",null,null,null,null,""," "," "," "," "," "," "," "," "," "," "," "," "," "," "," "," "," "," "," "," "," "," "," "," "," "," "," "," "," "]
["",null,null,null,"","",null,null,null,null,"",{"$f":"IF($B15=\"\",\" \",INDEX(tabeleves,L$4,$K15))","v":" "}," "," "," "," "," "," "," "," "," ",{"$f":"IF($B15=\"\",\" \",INDEX(tabeleves,V$4,$K15))","v":" "}," "," "," "," "," "," "," "," "," ",{"$f":"IF($B15=\"\",\" \",INDEX(tabeleves,AF$4,$K15))","v":" "}," "," "," "," "," "," "," "," "]
["",null,null,null,"","",null,null,null,null,""," "," "," "," "," "," "," "," "," "," "," "," "," "," "," "," "," "," "," "," "," "," "," "," "," "," "," "," "," "]
["",null,null,null,"","",null,null,null,null,""," "," "," "," "," "," "," "," "," "," "," "," "," "," "," "," "," "," "," "," "," "," "," "," "," "," "," "," "," "]
["",null,null,null,"","",null,null,null,null,""," "," "," "," "," "," "," "," "," "," "," "," "," "," "," "," "," "," "," "," "," "," "," "," "," "," "," "," "," "]
["",null,null,null,"","",null,null,null,null,""," "," "," "," "," "," "," "," "," "," "," "," "," "," "," "," "," "," "," "," "," "," "," "," "," "," "," "," "," "]
["",null,null,null,"","",null,null,null,null,""," "," "," "," "," "," "," "," "," "," "," "," "," "," "," "," "," "," "," "," "," "," "," "," "," "," "," "," "," "]
["",null,null,null,"","",null,null,null,null,""," "," "," "," "," "," "," "," "," "," "," "," "," "," "," "," "," "," "," "," "," "," "," "," "," "," "," "," "," "]
["",null,null,null,"","",null,null,null,null,""," "," "," "," "," "," "," "," "," "," "," "," "," "," "," "," "," "," "," "," "," "," "," "," "," "," "," "," "," "]
["",null,null,null,"","",null,null,null,null,""," "," "," "," "," "," "," "," "," "," "," "," "," "," "," "," "," "," "," "," "," "," "," "," "," "," "," "," "," "]
["",null,null,null,"","",null,null,null,null,""," "," "," "," "," "," "," "," "," "," "," "," "," "," "," "," "," "," "," "," "," "," "," "," "," "," "," "," "," "]
["",null,null,null,"","",null,null,null,null,"",{"$f":"IF($B25=\"\",\" \",INDEX(tabeleves,L$4,$K25))","v":" "}," "," "," "," "," "," "," "," "," ",{"$f":"IF($B25=\"\",\" \",INDEX(tabeleves,V$4,$K25))","v":" "}," "," "," "," "," "," "," "," "," ",{"$f":"IF($B25=\"\",\" \",INDEX(tabeleves,AF$4,$K25))","v":" "}," "," "," "," "," "," "," "," "]
["",null,null,null,"","",null,null,null,null,""," "," "," "," "," "," "," "," "," "," "," "," "," "," "," "," "," "," "," "," "," "," "," "," "," "," "," "," "," "]
["",null,null,null,"","",null,null,null,null,""," "," "," "," "," "," "," "," "," "," "," "," "," "," "," "," "," "," "," "," "," "," "," "," "," "," "," "," "," "]
["",null,null,null,"","",null,null,null,null,""," "," "," "," "," "," "," "," "," "," "," "," "," "," "," "," "," "," "," "," "," "," "," "," "," "," "," "," "," "]
["",null,null,null,"","",null,null,null,null,""," "," "," "," "," "," "," "," "," "," "," "," "," "," "," "," "," "," "," "," "," "," "," "," "," "," "," "," "," "]
["",null,null,null,"","",null,null,null,null,""," "," "," "," "," "," "," "," "," "," "," "," "," "," "," "," "," "," "," "," "," "," "," "," "," "," "," "," "," "]
["",null,null,null,"","",null,null,null,null,""," "," "," "," "," "," "," "," "," "," "," "," "," "," "," "," "," "," "," "," "," "," "," "," "," "," "," "," "," "]
["",null,null,null,"","",null,null,null,null,""," "," "," "," "," "," "," "," "," "," "," "," "," "," "," "," "," "," "," "," "," "," "," "," "," "," "," "," "," "]
["",null,null,null,"","",null,null,null,null,""," "," "," "," "," "," "," "," "," "," "," "," "," "," "," "," "," "," "," "," "," "," "," "," "," "," "," "," "," "]
["",null,null,null,"","",null,null,null,null,""," "," "," "," "," "," "," "," "," "," "," "," "," "," "," "," "," "," "," "," "," "," "," "," "," "," "," "," "," "]
[{"$f":"IF(B35=\"\",\"\",A34+1)","v":""},null,null,null,"","",null,null,null,null,"",{"$f":"IF($B35=\"\",\" \",INDEX(tabeleves,L$4,$K35))","v":" "}," "," "," "," "," "," "," "," "," ",{"$f":"IF($B35=\"\",\" \",INDEX(tabeleves,V$4,$K35))","v":" "}," "," "," "," "," "," "," "," "," ",{"$f":"IF($B35=\"\",\" \",INDEX(tabeleves,AF$4,$K35))","v":" "}," "," "," "," "," "," "," "," "]
["",null,null,null,"","",null,null,null,null,""," "," "," "," "," "," "," "," "," "," "," "," "," "," "," "," "," "," "," "," "," "," "," "," "," "," "," "," "," "]
["",null,null,null,"","",null,null,null,null,""," "," "," "," "," "," "," "," "," "," "," "," "," "," "," "," "," "," "," "," "," "," "," "," "," "," "," "," "," "]
["",null,null,null,"","",null,null,null,null,""," "," "," "," "," "," "," "," "," "," "," "," "," "," "," "," "," "," "," "," "," "," "," "," "," "," "," "," "," "]
["",null,null,null,"","",null,null,null,null,""," "," "," "," "," "," "," "," "," "," "," "," "," "," "," "," "," "," "," "," "," "," "," "," "," "," "," "," "," "]
["",null,null,null,"","",null,null,null,null,""," "," "," "," "," "," "," "," "," "," "," "," "," "," "," "," "," "," "," "," "," "," "," "," "," "," "," "," "," "]
["",null,null,null,"","",null,null,null,null,""," "," "," "," "," "," "," "," "," "," "," "," "," "," "," "," "," "," "," "," "," "," "," "," "," "," "," "," "," "]
["",null,null,null,"","",null,null,null,null,""," "," "," "," "," "," "," "," "," "," "," "," "," "," "," "," "," "," "," "," "," "," "," "," "," "," "," "," "," "]
["",null,null,null,"","",null,null,null,null,""," "," "," "," "," "," "," "," "," "," "," "," "," "," "," "," "," "," "," "," "," "," "," "," "," "," "," "," "," "]
["",null,null,null,"","",null,null,null,null,""," "," "," "," "," "," "," "," "," "," "," "," "," "," "," "," "," "," "," "," "," "," "," "," "," "," "," "," "," "]
["",null,null,null,"","",null,null,null,null,"",{"$f":"IF($B45=\"\",\" \",INDEX(tabeleves,L$4,$K45))","v":" "}," "," "," "," "," "," "," "," "," ",{"$f":"IF($B45=\"\",\" \",INDEX(tabeleves,V$4,$K45))","v":" "}," "," "," "," "," "," "," "," "," ",{"$f":"IF($B45=\"\",\" \",INDEX(tabeleves,AF$4,$K45))","v":" "}," "," "," "," "," "," "," "," "]
["",null,null,null,"","",null,null,null,null,""," "," "," "," "," "," "," "," "," "," "," "," "," "," "," "," "," "," "," "," "," "," "," "," "," "," "," "," "," "]
["",null,null,null,"","",null,null,null,null,""," "," "," "," "," "," "," "," "," "," "," "," "," "," "," "," "," "," "," "," "," "," "," "," "," "," "," "," "," "]
["",null,null,null,"","",null,null,null,null,""," "," "," "," "," "," "," "," "," "," "," "," "," "," "," "," "," "," "," "," "," "," "," "," "," "," "," "," "," "]
["",null,null,null,"","",null,null,null,null,""," "," "," "," "," "," "," "," "," "," "," "," "," "," "," "," "," "," "," "," "," "," "," "," "," "," "," "," "," "]
["",null,null,null,"","",null,null,null,null,""," "," "," "," "," "," "," "," "," "," "," "," "," "," "," "," "," "," "," "," "," "," "," "," "," "," "," "," "," "]
["",null,null,null,"","",null,null,null,null,""," "," "," "," "," "," "," "," "," "," "," "," "," "," "," "," "," "," "," "," "," "," "," "," "," "," "," "," "," "]
["",null,null,null,"","",null,null,null,null,""," "," "," "," "," "," "," "," "," "," "," "," "," "," "," "," "," "," "," "," "," "," "," "," "," "," "," "," "," "]
["",null,null,null,"","",null,null,null,null,""," "," "," "," "," "," "," "," "," "," "," "," "," "," "," "," "," "," "," "," "," "," "," "," "," "," "," "," "," "]
["",null,null,null,"","",null,null,null,null,""," "," "," "," "," "," "," "," "," "," "," "," "," "," "," "," "," "," "," "," "," "," "," "," "," "," "," "," "," "]
["",null,null,null,"","",null,null,null,null,"",{"$f":"IF($B55=\"\",\" \",INDEX(tabeleves,L$4,$K55))","v":" "}," "," "," "," "," "," "," "," "," ",{"$f":"IF($B55=\"\",\" \",INDEX(tabeleves,V$4,$K55))","v":" "}," "," "," "," "," "," "," "," "," ",{"$f":"IF($B55=\"\",\" \",INDEX(tabeleves,AF$4,$K55))","v":" "}," "," "," "," "," "," "," "," "]
["",null,null,null,"","",null,null,null,null,""," "," "," "," "," "," "," "," "," "," "," "," "," "," "," "," "," "," "," "," "," "," "," "," "," "," "," "," "," "]
["",null,null,null,"","",null,null,null,null,""," "," "," "," "," "," "," "," "," "," "," "," "," "," "," "," "," "," "," "," "," "," "," "," "," "," "," "," "," "]
["",null,null,null,"","",null,null,null,null,""," "," "," "," "," "," "," "," "," "," "," "," "," "," "," "," "," "," "," "," "," "," "," "," "," "," "," "," "," "]
["",null,null,null,"","",null,null,null,null,""," "," "," "," "," "," "," "," "," "," "," "," "," "," "," "," "," "," "," "," "," "," "," "," "," "," "," "," "," "]
["",null,null,null,"","",null,null,null,null,""," "," "," "," "," "," "," "," "," "," "," "," "," "," "," "," "," "," "," "," "," "," "," "," "," "," "," "," "," "]
["",null,null,null,"","",null,null,null,null,""," "," "," "," "," "," "," "," "," "," "," "," "," "," "," "," "," "," "," "," "," "," "," "," "," "," "," "," "," "]
["",null,null,null,"","",null,null,null,null,""," "," "," "," "," "," "," "," "," "," "," "," "," "," "," "," "," "," "," "," "," "," "," "," "," "," "," "," "," "]
["",null,null,null,"","",null,null,null,null,""," "," "," "," "," "," "," "," "," "," "," "," "," "," "," "," "," "," "," "," "," "," "," "," "," "," "," "," "," "]
["",null,null,null,"","",null,null,null,null,""," "," "," "," "," "," "," "," "," "," "," "," "," "," "," "," "," "," "," "," "," "," "," "," "," "," "," "," "," "]
["",null,null,null,"","",null,null,null,null,"",{"$f":"IF($B65=\"\",\" \",INDEX(tabeleves,L$4,$K65))","v":" "}," "," "," "," "," "," "," "," "," ",{"$f":"IF($B65=\"\",\" \",INDEX(tabeleves,V$4,$K65))","v":" "}," "," "," "," "," "," "," "," "," ",{"$f":"IF($B65=\"\",\" \",INDEX(tabeleves,AF$4,$K65))","v":" "}," "," "," "," "," "," "," "," "]
["",null,null,null,"","",null,null,null,null,""," "," "," "," "," "," "," "," "," "," "," "," "," "," "," "," "," "," "," "," "," "," "," "," "," "," "," "," "," "]
["",null,null,null,"","",null,null,null,null,""," "," "," "," "," "," "," "," "," "," "," "," "," "," "," "," "," "," "," "," "," "," "," "," "," "," "," "," "," "]
["",null,null,null,"","",null,null,null,null,""," "," "," "," "," "," "," "," "," "," "," "," "," "," "," "," "," "," "," "," "," "," "," "," "," "," "," "," "," "]
["",null,null,null,"","",null,null,null,null,{"$f":"IF(B69=\"\",\"\",INDEX(nclasse,MATCH(B69,classes,0),1))","v":""}," "," "," "," "," "," "," "," "," "," "," "," "," "," "," "," "," "," "," "," "," "," "," "," "," "," "," "," "," "]
["",null,null,null,{"$f":"IF(AP70=\"\",\"\",AP70)","v":""},{"$f":"IF(DC70=\"\",\"\",DC70)","v":""},null,null,null,null,""," "," "," "," "," "," "," "," "," "," "," "," "," "," "," "," "," "," "," "," "," "," "," "," "," "," "," "," "," "]
[{"$f":"IF(B71=\"\",\"\",A70+1)","v":""},null,null,null,"","",null,null,null,null,""," "," "," "," "," "," "," "," "," "," "," "," "," "," "," "," "," "," "," "," "," "," "," "," "," "," "," "," "," "]
["",null,null,null,"","",null,null,null,null,""," "," "," "," "," "," "," "," "," "," "," "," "," "," "," "," "," "," "," "," "," "," "," "," "," "," "," "," "," "]
["",null,null,null,"","",null,null,null,null,""," "," "," "," "," "," "," "," "," "," "," "," "," "," "," "," "," "," "," "," "," "," "," "," "," "," "," "," "," "]
["",null,null,null,"","",null,null,null,null,""," "," "," "," "," "," "," "," "," "," "," "," "," "," "," "," "," "," "," "," "," "," "," "," "," "," "," "," "," "]
["",null,null,null,"","",null,null,null,null,"",{"$f":"IF($B75=\"\",\" \",INDEX(tabeleves,L$4,$K75))","v":" "}," "," "," "," "," "," "," "," "," ",{"$f":"IF($B75=\"\",\" \",INDEX(tabeleves,V$4,$K75))","v":" "}," "," "," "," "," "," "," "," "," ",{"$f":"IF($B75=\"\",\" \",INDEX(tabeleves,AF$4,$K75))","v":" "}," "," "," "," "," "," "," "," "]
["",null,null,null,"","",null,null,null,null,""," "," "," "," "," "," "," "," "," "," "," "," "," "," "," "," "," "," "," "," "," "," "," "," "," "," "," "," "," "]
["",null,null,null,"","",null,null,null,null,""," "," "," "," "," "," "," "," "," "," "," "," "," "," "," "," "," "," "," "," "," "," "," "," "," "," "," "," "," "]
["",null,null,null,"","",null,null,null,null,""," "," "," "," "," "," "," "," "," "," "," "," "," "," "," "," "," "," "," "," "," "," "," "," "," "," "," "," "," "]
["",null,null,null,"","",null,null,null,null,""," "," "," "," "," "," "," "," "," "," "," "," "," "," "," "," "," "," "," "," "," "," "," "," "," "," "," "," "," "]
["",null,null,null,"","",null,null,null,null,""," "," "," "," "," "," "," "," "," "," "," "," "," "," "," "," "," "," "," "," "," "," "," "," "," "," "," "," "," "]
["",null,null,null,"","",null,null,null,null,""," "," "," "," "," "," "," "," "," "," "," "," "," "," "," "," "," "," "," "," "," "," "," "," "," "," "," "," "," "]
["",null,null,null,"","",null,null,null,null,""," "," "," "," "," "," "," "," "," "," "," "," "," "," "," "," "," "," "," "," "," "," "," "," "," "," "," "," "," "]
["",null,null,null,"","",null,null,null,null,""," "," "," "," "," "," "," "," "," "," "," "," "," "," "," "," "," "," "," "," "," "," "," "," "," "," "," "," "," "]
["",null,null,null,"","",null,null,null,null,""," "," "," "," "," "," "," "," "," "," "," "," "," "," "," "," "," "," "," "," "," "," "," "," "," "," "," "," "," "]
["",null,null,null,"","",null,null,null,null,"",{"$f":"IF($B85=\"\",\" \",INDEX(tabeleves,L$4,$K85))","v":" "}," "," "," "," "," "," "," "," "," ",{"$f":"IF($B85=\"\",\" \",INDEX(tabeleves,V$4,$K85))","v":" "}," "," "," "," "," "," "," "," "," ",{"$f":"IF($B85=\"\",\" \",INDEX(tabeleves,AF$4,$K85))","v":" "}," "," "," "," "," "," "," "," "]
["",null,null,null,"","",null,null,null,null,""," "," "," "," "," "," "," "," "," "," "," "," "," "," "," "," "," "," "," "," "," "," "," "," "," "," "," "," "," "]
["",null,null,null,"","",null,null,null,null,""," "," "," "," "," "," "," "," "," "," "," "," "," "," "," "," "," "," "," "," "," "," "," "," "," "," "," "," "," "]
["",null,null,null,"","",null,null,null,null,""," "," "," "," "," "," "," "," "," "," "," "," "," "," "," "," "," "," "," "," "," "," "," "," "," "," "," "," "," "]
["",null,null,null,"","",null,null,null,null,""," "," "," "," "," "," "," "," "," "," "," "," "," "," "," "," "," "," "," "," "," "," "," "," "," "," "," "," "," "]
["",null,null,null,"","",null,null,null,null,""," "," "," "," "," "," "," "," "," "," "," "," "," "," "," "," "," "," "," "," "," "," "," "," "," "," "," "," "," "]
["",null,null,null,"","",null,null,null,null,""," "," "," "," "," "," "," "," "," "," "," "," "," "," "," "," "," "," "," "," "," "," "," "," "," "," "," "," "," "]
["",null,null,null,"","",null,null,null,null,""," "," "," "," "," "," "," "," "," "," "," "," "," "," "," "," "," "," "," "," "," "," "," "," "," "," "," "," "," "]
["",null,null,null,"","",null,null,null,null,""," "," "," "," "," "," "," "," "," "," "," "," "," "," "," "," "," "," "," "," "," "," "," "," "," "," "," "," "," "]
["",null,null,null,"","",null,null,null,null,""," "," "," "," "," "," "," "," "," "," "," "," "," "," "," "," "," "," "," "," "," "," "," "," "," "," "," "," "," "]
["",null,null,null,"","",null,null,null,null,"",{"$f":"IF($B95=\"\",\" \",INDEX(tabeleves,L$4,$K95))","v":" "}," "," "," "," "," "," "," "," "," ",{"$f":"IF($B95=\"\",\" \",INDEX(tabeleves,V$4,$K95))","v":" "}," "," "," "," "," "," "," "," "," ",{"$f":"IF($B95=\"\",\" \",INDEX(tabeleves,AF$4,$K95))","v":" "}," "," "," "," "," "," "," "," "]
["",null,null,null,"","",null,null,null,null,""," "," "," "," "," "," "," "," "," "," "," "," "," "," "," "," "," "," "," "," "," "," "," "," "," "," "," "," "," "]
["",null,null,null,"","",null,null,null,null,""," "," "," "," "," "," "," "," "," "," "," "," "," "," "," "," "," "," "," "," "," "," "," "," "," "," "," "," "," "]
["",null,null,null,"","",null,null,null,null,""," "," "," "," "," "," "," "," "," "," "," "," "," "," "," "," "," "," "," "," "," "," "," "," "," "," "," "," "," "]
["",null,null,null,"","",null,null,null,null,""," "," "," "," "," "," "," "," "," "," "," "," "," "," "," "," "," "," "," "," "," "," "," "," "," "," "," "," "," "]
["",null,null,null,"","",null,null,null,null,""," "," "," "," "," "," "," "," "," "," "," "," "," "," "," "," "," "," "," "," "," "," "," "," "," "," "," "," "," "]
["",null,null,null,"","",null,null,null,null,""," "," "," "," "," "," "," "," "," "," "," "," "," "," "," "," "," "," "," "," "," "," "," "," "," "," "," "," "," "]
["",null,null,null,"","",null,null,null,null,""," "," "," "," "," "," "," "," "," "," "," "," "," "," "," "," "," "," "," "," "," "," "," "," "," "," "," "," "," "]
["",null,null,null,"","",null,null,null,null,""," "," "," "," "," "," "," "," "," "," "," "," "," "," "," "," "," "," "," "," "," "," "," "," "," "," "," "," "," "]
["",null,null,null,"","",null,null,null,null,""," "," "," "," "," "," "," "," "," "," "," "," "," "," "," "," "," "," "," "," "," "," "," "," "," "," "," "," "," "]
["",null,null,null,"","",null,null,null,null,"",{"$f":"IF($B105=\"\",\" \",INDEX(tabeleves,L$4,$K105))","v":" "}," "," "," "," "," "," "," "," "," ",{"$f":"IF($B105=\"\",\" \",INDEX(tabeleves,V$4,$K105))","v":" "}," "," "," "," "," "," "," "," "," ",{"$f":"IF($B105=\"\",\" \",INDEX(tabeleves,AF$4,$K105))","v":" "}," "," "," "," "," "," "," "," "]
["",null,null,null,"","",null,null,null,null,""," "," "," "," "," "," "," "," "," "," "," "," "," "," "," "," "," "," "," "," "," "," "," "," "," "," "," "," "," "]
["",null,null,null,"","",null,null,null,null,""," "," "," "," "," "," "," "," "," "," "," "," "," "," "," "," "," "," "," "," "," "," "," "," "," "," "," "," "," "]
["",null,null,null,"","",null,null,null,null,""," "," "," "," "," "," "," "," "," "," "," "," "," "," "," "," "," "," "," "," "," "," "," "," "," "," "," "," "," "]
["",null,null,null,"","",null,null,null,null,""," "," "," "," "," "," "," "," "," "," "," "," "," "," "," "," "," "," "," "," "," "," "," "," "," "," "," "," "," "]
["",null,null,null,"","",null,null,null,null,""," "," "," "," "," "," "," "," "," "," "," "," "," "," "," "," "," "," "," "," "," "," "," "," "," "," "," "," "," "]
["",null,null,null,"","",null,null,null,null,""," "," "," "," "," "," "," "," "," "," "," "," "," "," "," "," "," "," "," "," "," "," "," "," "," "," "," "," "," "]
["",null,null,null,"","",null,null,null,null,""," "," "," "," "," "," "," "," "," "," "," "," "," "," "," "," "," "," "," "," "," "," "," "," "," "," "," "," "," "]
["",null,null,null,"","",null,null,null,null,""," "," "," "," "," "," "," "," "," "," "," "," "," "," "," "," "," "," "," "," "," "," "," "," "," "," "," "," "," "]
["",null,null,null,"","",null,null,null,null,""," "," "," "," "," "," "," "," "," "," "," "," "," "," "," "," "," "," "," "," "," "," "," "," "," "," "," "," "," "]
["",null,null,null,"","",null,null,null,null,"",{"$f":"IF($B115=\"\",\" \",INDEX(tabeleves,L$4,$K115))","v":" "}," "," "," "," "," "," "," "," "," ",{"$f":"IF($B115=\"\",\" \",INDEX(tabeleves,V$4,$K115))","v":" "}," "," "," "," "," "," "," "," "," ",{"$f":"IF($B115=\"\",\" \",INDEX(tabeleves,AF$4,$K115))","v":" "}," "," "," "," "," "," "," "," "]
["",null,null,null,"","",null,null,null,null,""," "," "," "," "," "," "," "," "," "," "," "," "," "," "," "," "," "," "," "," "," "," "," "," "," "," "," "," "," "]
["",null,null,null,"","",null,null,null,null,""," "," "," "," "," "," "," "," "," "," "," "," "," "," "," "," "," "," "," "," "," "," "," "," "," "," "," "," "," "]
["",null,null,null,"","",null,null,null,null,""," "," "," "," "," "," "," "," "," "," "," "," "," "," "," "," "," "," "," "," "," "," "," "," "," "," "," "," "," "]
["",null,null,null,"","",null,null,null,"    ",""," "," "," "," "," "," "," "," "," "," "," "," "," "," "," "," "," "," "," "," "," "," "," "," "," "," "," "," "," "]
["",null,null,null,"","",null,null,null,null,""," "," "," "," "," "," "," "," "," "," "," "," "," "," "," "," "," "," "," "," "," "," "," "," "," "," "," "," "," "]
["",null,null,null,"","",null,null,null,null,""," "," "," "," "," "," "," "," "," "," "," "," "," "," "," "," "," "," "," "," "," "," "," "," "," "," "," "," "," "]
["",null,null,null,"","",null,null,null,null,""," "," "," "," "," "," "," "," "," "," "," "," "," "," "," "," "," "," "," "," "," "," "," "," "," "," "," "," "," "]
["",null,null,null,"","",null,null,null,null,""," "," "," "," "," "," "," "," "," "," "," "," "," "," "," "," "," "," "," "," "," "," "," "," "," "," "," "," "," "]
["",null,null,null,"","",null,null,null,null,""," "," "," "," "," "," "," "," "," "," "," "," "," "," "," "," "," "," "," "," "," "," "," "," "," "," "," "," "," "]
["",null,null,null,"","",null,null,null,null,"",{"$f":"IF($B125=\"\",\" \",INDEX(tabeleves,L$4,$K125))","v":" "}," "," "," "," "," "," "," "," "," ",{"$f":"IF($B125=\"\",\" \",INDEX(tabeleves,V$4,$K125))","v":" "}," "," "," "," "," "," "," "," "," ",{"$f":"IF($B125=\"\",\" \",INDEX(tabeleves,AF$4,$K125))","v":" "}," "," "," "," "," "," "," "," "]
["",null,null,null,"","",null,null,null,null,""," "," "," "," "," "," "," "," "," "," "," "," "," "," "," "," "," "," "," "," "," "," "," "," "," "," "," "," "," "]
["",null,null,null,"","",null,null,null,null,""," "," "," "," "," "," "," "," "," "," "," "," "," "," "," "," "," "," "," "," "," "," "," "," "," "," "," "," "," "]
["",null,null,null,"","",null,null,null,null,""," "," "," "," "," "," "," "," "," "," "," "," "," "," "," "," "," "," "," "," "," "," "," "," "," "," "," "," "," "]
["",null,null,null,"","",null,null,null,null,""," "," "," "," "," "," "," "," "," "," "," "," "," "," "," "," "," "," "," "," "," "," "," "," "," "," "," "," "," "]
["",null,null,null,"","",null,null,null,null,""," "," "," "," "," "," "," "," "," "," "," "," "," "," "," "," "," "," "," "," "," "," "," "," "," "," "," "," "," "]
["",null,null,null,"","",null,null,null,null,""," "," "," "," "," "," "," "," "," "," "," "," "," "," "," "," "," "," "," "," "," "," "," "," "," "," "," "," "," "]
["",null,null,null,"","",null,null,null,null,""," "," "," "," "," "," "," "," "," "," "," "," "," "," "," "," "," "," "," "," "," "," "," "," "," "," "," "," "," "]
["",null,null,null,"","",null,null,null,null,{"$f":"IF(B133=\"\",\"\",INDEX(nclasse,MATCH(B133,classes,0),1))","v":""}," "," "," "," "," "," "," "," "," "," "," "," "," "," "," "," "," "," "," "," "," "," "," "," "," "," "," "," "," "]
[{"$f":"IF(B134=\"\",\"\",A133+1)","v":""},null,null,null,{"$f":"IF(AP134=\"\",\"\",AP134)","v":""},{"$f":"IF(DC134=\"\",\"\",DC134)","v":""},null,null,null,null,""," "," "," "," "," "," "," "," "," "," "," "," "," "," "," "," "," "," "," "," "," "," "," "," "," "," "," "," "," "]
[{"$f":"IF(B135=\"\",\"\",A134+1)","v":""},null,null,null,"","",null,null,null,null,"",{"$f":"IF($B135=\"\",\" \",INDEX(tabeleves,L$4,$K135))","v":" "}," "," "," "," "," "," "," "," "," ",{"$f":"IF($B135=\"\",\" \",INDEX(tabeleves,V$4,$K135))","v":" "}," "," "," "," "," "," "," "," "," ",{"$f":"IF($B135=\"\",\" \",INDEX(tabeleves,AF$4,$K135))","v":" "}," "," "," "," "," "," "," "," "]
["",null,null,null,"","",null,null,null,null,""," "," "," "," "," "," "," "," "," "," "," "," "," "," "," "," "," "," "," "," "," "," "," "," "," "," "," "," "," "]
["",null,null,null,"","",null,null,null,null,""," "," "," "," "," "," "," "," "," "," "," "," "," "," "," "," "," "," "," "," "," "," "," "," "," "," "," "," "," "]
["",null,null,null,"","",null,null,null,null,""," "," "," "," "," "," "," "," "," "," "," "," "," "," "," "," "," "," "," "," "," "," "," "," "," "," "," "," "," "]
["",null,null,null,"","",null,null,null,null,""," "," "," "," "," "," "," "," "," "," "," "," "," "," "," "," "," "," "," "," "," "," "," "," "," "," "," "," "," "]
["",null,null,null,"","",null,null,null,null,""," "," "," "," "," "," "," "," "," "," "," "," "," "," "," "," "," "," "," "," "," "," "," "," "," "," "," "," "," "]
["",null,null,null,"","",null,null,null,null,""," "," "," "," "," "," "," "," "," "," "," "," "," "," "," "," "," "," "," "," "," "," "," "," "," "," "," "," "," "]
["",null,null,null,"","",null,null,null,null,""," "," "," "," "," "," "," "," "," "," "," "," "," "," "," "," "," "," "," "," "," "," "," "," "," "," "," "," "," "]
["",null,null,null,"","",null,null,null,null,""," "," "," "," "," "," "," "," "," "," "," "," "," "," "," "," "," "," "," "," "," "," "," "," "," "," "," "," "," "]
["",null,null,null,"","",null,null,null,null,""," "," "," "," "," "," "," "," "," "," "," "," "," "," "," "," "," "," "," "," "," "," "," "," "," "," "," "," "," "]
["",null,null,null,"","",null,null,null,null,"",{"$f":"IF($B145=\"\",\" \",INDEX(tabeleves,L$4,$K145))","v":" "}," "," "," "," "," "," "," "," "," ",{"$f":"IF($B145=\"\",\" \",INDEX(tabeleves,V$4,$K145))","v":" "}," "," "," "," "," "," "," "," "," ",{"$f":"IF($B145=\"\",\" \",INDEX(tabeleves,AF$4,$K145))","v":" "}," "," "," "," "," "," "," "," "]
["",null,null,null,"","",null,null,null,null,""," "," "," "," "," "," "," "," "," "," "," "," "," "," "," "," "," "," "," "," "," "," "," "," "," "," "," "," "," "]
["",null,null,null,"","",null,null,null,null,""," "," "," "," "," "," "," "," "," "," "," "," "," "," "," "," "," "," "," "," "," "," "," "," "," "," "," "," "," "]
["",null,null,null,"","",null,null,null,null,""," "," "," "," "," "," "," "," "," "," "," "," "," "," "," "," "," "," "," "," "," "," "," "," "," "," "," "," "," "]
["",null,null,null,"","",null,null,null,null,""," "," "," "," "," "," "," "," "," "," "," "," "," "," "," "," "," "," "," "," "," "," "," "," "," "," "," "," "," "]
["",null,null,null,"","",null,null,null,null,""," "," "," "," "," "," "," "," "," "," "," "," "," "," "," "," "," "," "," "," "," "," "," "," "," "," "," "," "," "]
["",null,null,null,"","",null,null,null,null,""," "," "," "," "," "," "," "," "," "," "," "," "," "," "," "," "," "," "," "," "," "," "," "," "," "," "," "," "," "]
["",null,null,null,"","",null,null,null,null,""," "," "," "," "," "," "," "," "," "," "," "," "," "," "," "," "," "," "," "," "," "," "," "," "," "," "," "," "," "]
["",null,null,null,"","",null,null,null,null,""," "," "," "," "," "," "," "," "," "," "," "," "," "," "," "," "," "," "," "," "," "," "," "," "," "," "," "," "," "]
["",null,null,null,"","",null,null,null,null,""," "," "," "," "," "," "," "," "," "," "," "," "," "," "," "," "," "," "," "," "," "," "," "," "," "," "," "," "," "]
["",null,null,null,"","",null,null,null,null,"",{"$f":"IF($B155=\"\",\" \",INDEX(tabeleves,L$4,$K155))","v":" "}," "," "," "," "," "," "," "," "," ",{"$f":"IF($B155=\"\",\" \",INDEX(tabeleves,V$4,$K155))","v":" "}," "," "," "," "," "," "," "," "," ",{"$f":"IF($B155=\"\",\" \",INDEX(tabeleves,AF$4,$K155))","v":" "}," "," "," "," "," "," "," "," "]
["",null,null,null,"","",null,null,null,null,""," "," "," "," "," "," "," "," "," "," "," "," "," "," "," "," "," "," "," "," "," "," "," "," "," "," "," "," "," "]
["",null,null,null,"","",null,null,null,null,""," "," "," "," "," "," "," "," "," "," "," "," "," "," "," "," "," "," "," "," "," "," "," "," "," "," "," "," "," "]
["",null,null,null,"","",null,null,null,null,""," "," "," "," "," "," "," "," "," "," "," "," "," "," "," "," "," "," "," "," "," "," "," "," "," "," "," "," "," "]
["",null,null,null,"","",null,null,null,null,""," "," "," "," "," "," "," "," "," "," "," "," "," "," "," "," "," "," "," "," "," "," "," "," "," "," "," "," "," "]
["",null,null,null,"","",null,null,null,null,""," "," "," "," "," "," "," "," "," "," "," "," "," "," "," "," "," "," "," "," "," "," "," "," "," "," "," "," "," "]
["",null,null,null,"","",null,null,null,null,""," "," "," "," "," "," "," "," "," "," "," "," "," "," "," "," "," "," "," "," "," "," "," "," "," "," "," "," "," "]
["",null,null,null,"","",null,null,null,null,""," "," "," "," "," "," "," "," "," "," "," "," "," "," "," "," "," "," "," "," "," "," "," "," "," "," "," "," "," "]
["",null,null,null,"","",null,null,null,null,""," "," "," "," "," "," "," "," "," "," "," "," "," "," "," "," "," "," "," "," "," "," "," "," "," "," "," "," "," "]
["",null,null,null,"","",null,null,null,null,""," "," "," "," "," "," "," "," "," "," "," "," "," "," "," "," "," "," "," "," "," "," "," "," "," "," "," "," "," "]
["",null,null,null,"","",null,null,null,null,"",{"$f":"IF($B165=\"\",\" \",INDEX(tabeleves,L$4,$K165))","v":" "}," "," "," "," "," "," "," "," "," ",{"$f":"IF($B165=\"\",\" \",INDEX(tabeleves,V$4,$K165))","v":" "}," "," "," "," "," "," "," "," "," ",{"$f":"IF($B165=\"\",\" \",INDEX(tabeleves,AF$4,$K165))","v":" "}," "," "," "," "," "," "," "," "]
["",null,null,null,"","",null,null,null,null,""," "," "," "," "," "," "," "," "," "," "," "," "," "," "," "," "," "," "," "," "," "," "," "," "," "," "," "," "," "]
["",null,null,null,"","",null,null,null,null,""," "," "," "," "," "," "," "," "," "," "," "," "," "," "," "," "," "," "," "," "," "," "," "," "," "," "," "," "," "]
["",null,null,null,"","",null,null,null,null,""," "," "," "," "," "," "," "," "," "," "," "," "," "," "," "," "," "," "," "," "," "," "," "," "," "," "," "," "," "]
["",null,null,null,"","",null,null,null,null,""," "," "," "," "," "," "," "," "," "," "," "," "," "," "," "," "," "," "," "," "," "," "," "," "," "," "," "," "," "]
["",null,null,null,"","",null,null,null,null,""," "," "," "," "," "," "," "," "," "," "," "," "," "," "," "," "," "," "," "," "," "," "," "," "," "," "," "," "," "]
["",null,null,null,"","",null,null,null,null,""," "," "," "," "," "," "," "," "," "," "," "," "," "," "," "," "," "," "," "," "," "," "," "," "," "," "," "," "," "]
["",null,null,null,"","",null,null,null,null,""," "," "," "," "," "," "," "," "," "," "," "," "," "," "," "," "," "," "," "," "," "," "," "," "," "," "," "," "," "]
["",null,null,null,"","",null,null,null,null,""," "," "," "," "," "," "," "," "," "," "," "," "," "," "," "," "," "," "," "," "," "," "," "," "," "," "," "," "," "]
["",null,null,null,"","",null,null,null,null,""," "," "," "," "," "," "," "," "," "," "," "," "," "," "," "," "," "," "," "," "," "," "," "," "," "," "," "," "," "]
["",null,null,null,"","",null,null,null,null,"",{"$f":"IF($B175=\"\",\" \",INDEX(tabeleves,L$4,$K175))","v":" "}," "," "," "," "," "," "," "," "," ",{"$f":"IF($B175=\"\",\" \",INDEX(tabeleves,V$4,$K175))","v":" "}," "," "," "," "," "," "," "," "," ",{"$f":"IF($B175=\"\",\" \",INDEX(tabeleves,AF$4,$K175))","v":" "}," "," "," "," "," "," "," "," "]
["",null,null,null,"","",null,null,null,null,""," "," "," "," "," "," "," "," "," "," "," "," "," "," "," "," "," "," "," "," "," "," "," "," "," "," "," "," "," "]
["",null,null,null,"","",null,null,null,null,""," "," "," "," "," "," "," "," "," "," "," "," "," "," "," "," "," "," "," "," "," "," "," "," "," "," "," "," "," "]
["",null,null,null,"","",null,null,null,null,""," "," "," "," "," "," "," "," "," "," "," "," "," "," "," "," "," "," "," "," "," "," "," "," "," "," "," "," "," "]
["",null,null,null,"","",null,null,null,null,""," "," "," "," "," "," "," "," "," "," "," "," "," "," "," "," "," "," "," "," "," "," "," "," "," "," "," "," "," "]
["",null,null,null,"","",null,null,null,null,""," "," "," "," "," "," "," "," "," "," "," "," "," "," "," "," "," "," "," "," "," "," "," "," "," "," "," "," "," "]
["",null,null,null,"","",null,null,null,null,""," "," "," "," "," "," "," "," "," "," "," "," "," "," "," "," "," "," "," "," "," "," "," "," "," "," "," "," "," "]
["",null,null,null,"","",null,null,null,null,""," "," "," "," "," "," "," "," "," "," "," "," "," "," "," "," "," "," "," "," "," "," "," "," "," "," "," "," "," "]
["",null,null,null,"","",null,null,null,null,""," "," "," "," "," "," "," "," "," "," "," "," "," "," "," "," "," "," "," "," "," "," "," "," "," "," "," "," "," "]
["",null,null,null,"","",null,null,null,null,""," "," "," "," "," "," "," "," "," "," "," "," "," "," "," "," "," "," "," "," "," "," "," "," "," "," "," "," "," "]
["",null,null,null,"","",null,null,null,null,"",{"$f":"IF($B185=\"\",\" \",INDEX(tabeleves,L$4,$K185))","v":" "}," "," "," "," "," "," "," "," "," ",{"$f":"IF($B185=\"\",\" \",INDEX(tabeleves,V$4,$K185))","v":" "}," "," "," "," "," "," "," "," "," ",{"$f":"IF($B185=\"\",\" \",INDEX(tabeleves,AF$4,$K185))","v":" "}," "," "," "," "," "," "," "," "]
["",null,null,null,"","",null,null,null,null,""," "," "," "," "," "," "," "," "," "," "," "," "," "," "," "," "," "," "," "," "," "," "," "," "," "," "," "," "," "]
["",null,null,null,"","",null,null,null,null,""," "," "," "," "," "," "," "," "," "," "," "," "," "," "," "," "," "," "," "," "," "," "," "," "," "," "," "," "," "]
["",null,null,null,"","",null,null,null,null,""," "," "," "," "," "," "," "," "," "," "," "," "," "," "," "," "," "," "," "," "," "," "," "," "," "," "," "," "," "]
["",null,null,null,"","",null,null,null,null,""," "," "," "," "," "," "," "," "," "," "," "," "," "," "," "," "," "," "," "," "," "," "," "," "," "," "," "," "," "]
["",null,null,null,"","",null,null,null,null,""," "," "," "," "," "," "," "," "," "," "," "," "," "," "," "," "," "," "," "," "," "," "," "," "," "," "," "," "," "]
["",null,null,null,"","",null,null,null,null,""," "," "," "," "," "," "," "," "," "," "," "," "," "," "," "," "," "," "," "," "," "," "," "," "," "," "," "," "," "]
["",null,null,null,"","",null,null,null,null,""," "," "," "," "," "," "," "," "," "," "," "," "," "," "," "," "," "," "," "," "," "," "," "," "," "," "," "," "," "]
["",null,null,null,"","",null,null,null,null,""," "," "," "," "," "," "," "," "," "," "," "," "," "," "," "," "," "," "," "," "," "," "," "," "," "," "," "," "," "]
["",null,null,null,"","",null,null,null,null,""," "," "," "," "," "," "," "," "," "," "," "," "," "," "," "," "," "," "," "," "," "," "," "," "," "," "," "," "," "]
["",null,null,null,"","",null,null,null,null,"",{"$f":"IF($B195=\"\",\" \",INDEX(tabeleves,L$4,$K195))","v":" "}," "," "," "," "," "," "," "," "," ",{"$f":"IF($B195=\"\",\" \",INDEX(tabeleves,V$4,$K195))","v":" "}," "," "," "," "," "," "," "," "," ",{"$f":"IF($B195=\"\",\" \",INDEX(tabeleves,AF$4,$K195))","v":" "}," "," "," "," "," "," "," "," "]
["",null,null,null,"","",null,null,null,null,""," "," "," "," "," "," "," "," "," "," "," "," "," "," "," "," "," "," "," "," "," "," "," "," "," "," "," "," "," "]
["",null,null,null,"","",null,null,null,null,{"$f":"IF(B197=\"\",\"\",INDEX(nclasse,MATCH(B197,classes,0),1))","v":""}," "," "," "," "," "," "," "," "," "," "," "," "," "," "," "," "," "," "," "," "," "," "," "," "," "," "," "," "," "]
["",null,null,null,{"$f":"IF(AP198=\"\",\"\",AP198)","v":""},{"$f":"IF(DC198=\"\",\"\",DC198)","v":""},null,null,null,null,""," "," "," "," "," "," "," "," "," "," "," "," "," "," "," "," "," "," "," "," "," "," "," "," "," "," "," "," "," "]
[{"$f":"IF(B199=\"\",\"\",A198+1)","v":""},null,null,null,"","",null,null,null,null,""," "," "," "," "," "," "," "," "," "," "," "," "," "," "," "," "," "," "," "," "," "," "," "," "," "," "," "," "," "]
["",null,null,null,"","",null,null,null,null,""," "," "," "," "," "," "," "," "," "," "," "," "," "," "," "," "," "," "," "," "," "," "," "," "," "," "," "," "," "]
["",null,null,null,"","",null,null,null,null,""," "," "," "," "," "," "," "," "," "," "," "," "," "," "," "," "," "," "," "," "," "," "," "," "," "," "," "," "," "]
["",null,null,null,"","",null,null,null,null,""," "," "," "," "," "," "," "," "," "," "," "," "," "," "," "," "," "," "," "," "," "," "," "," "," "," "," "," "," "]
["",null,null,null,"","",null,null,null,null,""," "," "," "," "," "," "," "," "," "," "," "," "," "," "," "," "," "," "," "," "," "," "," "," "," "," "," "," "," "]
["",null,null,null,"","",null,null,null,null,""," "," "," "," "," "," "," "," "," "," "," "," "," "," "," "," "," "," "," "," "," "," "," "," "," "," "," "," "," "]
["",null,null,null,"","",null,null,null,null,"",{"$f":"IF($B205=\"\",\" \",INDEX(tabeleves,L$4,$K205))","v":" "}," "," "," "," "," "," "," "," "," ",{"$f":"IF($B205=\"\",\" \",INDEX(tabeleves,V$4,$K205))","v":" "}," "," "," "," "," "," "," "," "," ",{"$f":"IF($B205=\"\",\" \",INDEX(tabeleves,AF$4,$K205))","v":" "}," "," "," "," "," "," "," "," "]
["",null,null,null,"","",null,null,null,null,""," "," "," "," "," "," "," "," "," "," "," "," "," "," "," "," "," "," "," "," "," "," "," "," "," "," "," "," "," "]
["",null,null,null,"","",null,null,null,null,""," "," "," "," "," "," "," "," "," "," "," "," "," "," "," "," "," "," "," "," "," "," "," "," "," "," "," "," "," "]
["",null,null,null,"","",null,null,null,null,""," "," "," "," "," "," "," "," "," "," "," "," "," "," "," "," "," "," "," "," "," "," "," "," "," "," "," "," "," "]
["",null,null,null,"","",null,null,null,null,""," "," "," "," "," "," "," "," "," "," "," "," "," "," "," "," "," "," "," "," "," "," "," "," "," "," "," "," "," "]
["",null,null,null,"","",null,null,null,null,""," "," "," "," "," "," "," "," "," "," "," "," "," "," "," "," "," "," "," "," "," "," "," "," "," "," "," "," "," "]
["",null,null,null,"","",null,null,null,null,""," "," "," "," "," "," "," "," "," "," "," "," "," "," "," "," "," "," "," "," "," "," "," "," "," "," "," "," "," "]
["",null,null,null,"","",null,null,null,null,""," "," "," "," "," "," "," "," "," "," "," "," "," "," "," "," "," "," "," "," "," "," "," "," "," "," "," "," "," "]
["",null,null,null,"","",null,null,null,null,""," "," "," "," "," "," "," "," "," "," "," "," "," "," "," "," "," "," "," "," "," "," "," "," "," "," "," "," "," "]
["",null,null,null,"","",null,null,null,null,""," "," "," "," "," "," "," "," "," "," "," "," "," "," "," "," "," "," "," "," "," "," "," "," "," "," "," "," "," "]
["",null,null,null,"","",null,null,null,null,"",{"$f":"IF($B215=\"\",\" \",INDEX(tabeleves,L$4,$K215))","v":" "}," "," "," "," "," "," "," "," "," ",{"$f":"IF($B215=\"\",\" \",INDEX(tabeleves,V$4,$K215))","v":" "}," "," "," "," "," "," "," "," "," ",{"$f":"IF($B215=\"\",\" \",INDEX(tabeleves,AF$4,$K215))","v":" "}," "," "," "," "," "," "," "," "]
["",null,null,null,"","",null,null,null,null,""," "," "," "," "," "," "," "," "," "," "," "," "," "," "," "," "," "," "," "," "," "," "," "," "," "," "," "," "," "]
["",null,null,null,"","",null,null,null,null,""," "," "," "," "," "," "," "," "," "," "," "," "," "," "," "," "," "," "," "," "," "," "," "," "," "," "," "," "," "]
["",null,null,null,"","",null,null,null,null,""," "," "," "," "," "," "," "," "," "," "," "," "," "," "," "," "," "," "," "," "," "," "," "," "," "," "," "," "," "]
["",null,null,null,"","",null,null,null,null,""," "," "," "," "," "," "," "," "," "," "," "," "," "," "," "," "," "," "," "," "," "," "," "," "," "," "," "," "," "]
["",null,null,null,"","",null,null,null,null,""," "," "," "," "," "," "," "," "," "," "," "," "," "," "," "," "," "," "," "," "," "," "," "," "," "," "," "," "," "]
["",null,null,null,"","",null,null,null,null,""," "," "," "," "," "," "," "," "," "," "," "," "," "," "," "," "," "," "," "," "," "," "," "," "," "," "," "," "," "]
["",null,null,null,"","",null,null,null,null,""," "," "," "," "," "," "," "," "," "," "," "," "," "," "," "," "," "," "," "," "," "," "," "," "," "," "," "," "," "]
["",null,null,null,"","",null,null,null,null,""," "," "," "," "," "," "," "," "," "," "," "," "," "," "," "," "," "," "," "," "," "," "," "," "," "," "," "," "," "]
["",null,null,null,"","",null,null,null,null,""," "," "," "," "," "," "," "," "," "," "," "," "," "," "," "," "," "," "," "," "," "," "," "," "," "," "," "," "," "]
["",null,null,null,"","",null,null,null,null,"",{"$f":"IF($B225=\"\",\" \",INDEX(tabeleves,L$4,$K225))","v":" "}," "," "," "," "," "," "," "," "," ",{"$f":"IF($B225=\"\",\" \",INDEX(tabeleves,V$4,$K225))","v":" "}," "," "," "," "," "," "," "," "," ",{"$f":"IF($B225=\"\",\" \",INDEX(tabeleves,AF$4,$K225))","v":" "}," "," "," "," "," "," "," "," "]
["",null,null,null,"","",null,null,null,null,""," "," "," "," "," "," "," "," "," "," "," "," "," "," "," "," "," "," "," "," "," "," "," "," "," "," "," "," "," "]
["",null,null,null,"","",null,null,null,null,""," "," "," "," "," "," "," "," "," "," "," "," "," "," "," "," "," "," "," "," "," "," "," "," "," "," "," "," "," "]
["",null,null,null,"","",null,null,null,null,""," "," "," "," "," "," "," "," "," "," "," "," "," "," "," "," "," "," "," "," "," "," "," "," "," "," "," "," "," "]
["",null,null,null,"","",null,null,null,null,""," "," "," "," "," "," "," "," "," "," "," "," "," "," "," "," "," "," "," "," "," "," "," "," "," "," "," "," "," "]
["",null,null,null,"","",null,null,null,null,""," "," "," "," "," "," "," "," "," "," "," "," "," "," "," "," "," "," "," "," "," "," "," "," "," "," "," "," "," "]
["",null,null,null,"","",null,null,null,null,""," "," "," "," "," "," "," "," "," "," "," "," "," "," "," "," "," "," "," "," "," "," "," "," "," "," "," "," "," "]
["",null,null,null,"","",null,null,null,null,""," "," "," "," "," "," "," "," "," "," "," "," "," "," "," "," "," "," "," "," "," "," "," "," "," "," "," "," "," "]
["",null,null,null,"","",null,null,null,null,""," "," "," "," "," "," "," "," "," "," "," "," "," "," "," "," "," "," "," "," "," "," "," "," "," "," "," "," "," "]
["",null,null,null,"","",null,null,null,null,""," "," "," "," "," "," "," "," "," "," "," "," "," "," "," "," "," "," "," "," "," "," "," "," "," "," "," "," "," "]
["",null,null,null,"","",null,null,null,null,"",{"$f":"IF($B235=\"\",\" \",INDEX(tabeleves,L$4,$K235))","v":" "}," "," "," "," "," "," "," "," "," ",{"$f":"IF($B235=\"\",\" \",INDEX(tabeleves,V$4,$K235))","v":" "}," "," "," "," "," "," "," "," "," ",{"$f":"IF($B235=\"\",\" \",INDEX(tabeleves,AF$4,$K235))","v":" "}," "," "," "," "," "," "," "," "]
["",null,null,null,"","",null,null,null,null,""," "," "," "," "," "," "," "," "," "," "," "," "," "," "," "," "," "," "," "," "," "," "," "," "," "," "," "," "," "]
["",null,null,null,"","",null,null,null,null,""," "," "," "," "," "," "," "," "," "," "," "," "," "," "," "," "," "," "," "," "," "," "," "," "," "," "," "," "," "]
["",null,null,null,"","",null,null,null,null,""," "," "," "," "," "," "," "," "," "," "," "," "," "," "," "," "," "," "," "," "," "," "," "," "," "," "," "," "," "]
["",null,null,null,"","",null,null,null,null,""," "," "," "," "," "," "," "," "," "," "," "," "," "," "," "," "," "," "," "," "," "," "," "," "," "," "," "," "," "]
["",null,null,null,"","",null,null,null,null,""," "," "," "," "," "," "," "," "," "," "," "," "," "," "," "," "," "," "," "," "," "," "," "," "," "," "," "," "," "]
["",null,null,null,"","",null,null,null,null,""," "," "," "," "," "," "," "," "," "," "," "," "," "," "," "," "," "," "," "," "," "," "," "," "," "," "," "," "," "]
["",null,null,null,"","",null,null,null,null,""," "," "," "," "," "," "," "," "," "," "," "," "," "," "," "," "," "," "," "," "," "," "," "," "," "," "," "," "," "]
["",null,null,null,"","",null,null,null,null,""," "," "," "," "," "," "," "," "," "," "," "," "," "," "," "," "," "," "," "," "," "," "," "," "," "," "," "," "," "]
["",null,null,null,"","",null,null,null,null,""," "," "," "," "," "," "," "," "," "," "," "," "," "," "," "," "," "," "," "," "," "," "," "," "," "," "," "," "," "]
["",null,null,null,"","",null,null,null,null,"",{"$f":"IF($B245=\"\",\" \",INDEX(tabeleves,L$4,$K245))","v":" "}," "," "," "," "," "," "," "," "," ",{"$f":"IF($B245=\"\",\" \",INDEX(tabeleves,V$4,$K245))","v":" "}," "," "," "," "," "," "," "," "," ",{"$f":"IF($B245=\"\",\" \",INDEX(tabeleves,AF$4,$K245))","v":" "}," "," "," "," "," "," "," "," "]
["",null,null,null,"","",null,null,null,null,""," "," "," "," "," "," "," "," "," "," "," "," "," "," "," "," "," "," "," "," "," "," "," "," "," "," "," "," "," "]
["",null,null,null,"","",null,null,null,null,""," "," "," "," "," "," "," "," "," "," "," "," "," "," "," "," "," "," "," "," "," "," "," "," "," "," "," "," "," "]
["",null,null,null,"","",null,null,null,null,""," "," "," "," "," "," "," "," "," "," "," "," "," "," "," "," "," "," "," "," "," "," "," "," "," "," "," "," "," "]
["",null,null,null,"","",null,null,null,null,""," "," "," "," "," "," "," "," "," "," "," "," "," "," "," "," "," "," "," "," "," "," "," "," "," "," "," "," "," "]
["",null,null,null,"","",null,null,null,null,""," "," "," "," "," "," "," "," "," "," "," "," "," "," "," "," "," "," "," "," "," "," "," "," "," "," "," "," "," "]
["",null,null,null,"","",null,null,null,null,""," "," "," "," "," "," "," "," "," "," "," "," "," "," "," "," "," "," "," "," "," "," "," "," "," "," "," "," "," "]
["",null,null,null,"","",null,null,null,null,""," "," "," "," "," "," "," "," "," "," "," "," "," "," "," "," "," "," "," "," "," "," "," "," "," "," "," "," "," "]
["",null,null,null,"","",null,null,null,null,""," "," "," "," "," "," "," "," "," "," "," "," "," "," "," "," "," "," "," "," "," "," "," "," "," "," "," "," "," "]
["",null,null,null,"","",null,null,null,null,""," "," "," "," "," "," "," "," "," "," "," "," "," "," "," "," "," "," "," "," "," "," "," "," "," "," "," "," "," "]
["",null,null,null,"","",null,null,null,null,"",{"$f":"IF($B255=\"\",\" \",INDEX(tabeleves,L$4,$K255))","v":" "}," "," "," "," "," "," "," "," "," ",{"$f":"IF($B255=\"\",\" \",INDEX(tabeleves,V$4,$K255))","v":" "}," "," "," "," "," "," "," "," "," ",{"$f":"IF($B255=\"\",\" \",INDEX(tabeleves,AF$4,$K255))","v":" "}," "," "," "," "," "," "," "," "]
["",null,null,null,"","",null,null,null,null,""," "," "," "," "," "," "," "," "," "," "," "," "," "," "," "," "," "," "," "," "," "," "," "," "," "," "," "," "," "]
["",null,null,null,"","",null,null,null,null,""," "," "," "," "," "," "," "," "," "," "," "," "," "," "," "," "," "," "," "," "," "," "," "," "," "," "," "," "," "]
["",null,null,null,"","",null,null,null,null,""," "," "," "," "," "," "," "," "," "," "," "," "," "," "," "," "," "," "," "," "," "," "," "," "," "," "," "," "," "]
["",null,null,null,"","",null,null,null,null,""," "," "," "," "," "," "," "," "," "," "," "," "," "," "," "," "," "," "," "," "," "," "," "," "," "," "," "," "," "]
["",null,null,null,"","",null,null,null,null,""," "," "," "," "," "," "," "," "," "," "," "," "," "," "," "," "," "," "," "," "," "," "," "," "," "," "," "," "," "]
["",null,null,null,"","",null,null,null,null,{"$f":"IF(B261=\"\",\"\",INDEX(nclasse,MATCH(B261,classes,0),1))","v":""}," "," "," "," "," "," "," "," "," "," "," "," "," "," "," "," "," "," "," "," "," "," "," "," "," "," "," "," "," "]
["",null,null,null,{"$f":"IF(AP262=\"\",\"\",AP262)","v":""},{"$f":"IF(DC262=\"\",\"\",DC262)","v":""},null,null,null,null,""," "," "," "," "," "," "," "," "," "," "," "," "," "," "," "," "," "," "," "," "," "," "," "," "," "," "," "," "," "]
[{"$f":"IF(B263=\"\",\"\",A262+1)","v":""},null,null,null,"","",null,null,null,null,""," "," "," "," "," "," "," "," "," "," "," "," "," "," "," "," "," "," "," "," "," "," "," "," "," "," "," "," "," "]
["",null,null,null,"","",null,null,null,null,""," "," "," "," "," "," "," "," "," "," "," "," "," "," "," "," "," "," "," "," "," "," "," "," "," "," "," "," "," "]
["",null,null,null,"","",null,null,null,null,"",{"$f":"IF($B265=\"\",\" \",INDEX(tabeleves,L$4,$K265))","v":" "}," "," "," "," "," "," "," "," "," ",{"$f":"IF($B265=\"\",\" \",INDEX(tabeleves,V$4,$K265))","v":" "}," "," "," "," "," "," "," "," "," ",{"$f":"IF($B265=\"\",\" \",INDEX(tabeleves,AF$4,$K265))","v":" "}," "," "," "," "," "," "," "," "]
["",null,null,null,"","",null,null,null,null,""," "," "," "," "," "," "," "," "," "," "," "," "," "," "," "," "," "," "," "," "," "," "," "," "," "," "," "," "," "]
["",null,null,null,"","",null,null,null,null,""," "," "," "," "," "," "," "," "," "," "," "," "," "," "," "," "," "," "," "," "," "," "," "," "," "," "," "," "," "]
["",null,null,null,"","",null,null,null,null,""," "," "," "," "," "," "," "," "," "," "," "," "," "," "," "," "," "," "," "," "," "," "," "," "," "," "," "," "," "]
["",null,null,null,"","",null,null,null,null,""," "," "," "," "," "," "," "," "," "," "," "," "," "," "," "," "," "," "," "," "," "," "," "," "," "," "," "," "," "]
["",null,null,null,"","",null,null,null,null,""," "," "," "," "," "," "," "," "," "," "," "," "," "," "," "," "," "," "," "," "," "," "," "," "," "," "," "," "," "]
["",null,null,null,"","",null,null,null,null,""," "," "," "," "," "," "," "," "," "," "," "," "," "," "," "," "," "," "," "," "," "," "," "," "," "," "," "," "," "]
["",null,null,null,"","",null,null,null,null,""," "," "," "," "," "," "," "," "," "," "," "," "," "," "," "," "," "," "," "," "," "," "," "," "," "," "," "," "," "]
["",null,null,null,"","",null,null,null,null,""," "," "," "," "," "," "," "," "," "," "," "," "," "," "," "," "," "," "," "," "," "," "," "," "," "," "," "," "," "]
["",null,null,null,"","",null,null,null,null,""," "," "," "," "," "," "," "," "," "," "," "," "," "," "," "," "," "," "," "," "," "," "," "," "," "," "," "," "," "]
["",null,null,null,"","",null,null,null,null,"",{"$f":"IF($B275=\"\",\" \",INDEX(tabeleves,L$4,$K275))","v":" "}," "," "," "," "," "," "," "," "," ",{"$f":"IF($B275=\"\",\" \",INDEX(tabeleves,V$4,$K275))","v":" "}," "," "," "," "," "," "," "," "," ",{"$f":"IF($B275=\"\",\" \",INDEX(tabeleves,AF$4,$K275))","v":" "}," "," "," "," "," "," "," "," "]
["",null,null,null,"","",null,null,null,null,""," "," "," "," "," "," "," "," "," "," "," "," "," "," "," "," "," "," "," "," "," "," "," "," "," "," "," "," "," "]
["",null,null,null,"","",null,null,null,null,""," "," "," "," "," "," "," "," "," "," "," "," "," "," "," "," "," "," "," "," "," "," "," "," "," "," "," "," "," "]
["",null,null,null,"","",null,null,null,null,""," "," "," "," "," "," "," "," "," "," "," "," "," "," "," "," "," "," "," "," "," "," "," "," "," "," "," "," "," "]
["",null,null,null,"","",null,null,null,null,""," "," "," "," "," "," "," "," "," "," "," "," "," "," "," "," "," "," "," "," "," "," "," "," "," "," "," "," "," "]
["",null,null,null,"","",null,null,null,null,""," "," "," "," "," "," "," "," "," "," "," "," "," "," "," "," "," "," "," "," "," "," "," "," "," "," "," "," "," "]
["",null,null,null,"","",null,null,null,null,""," "," "," "," "," "," "," "," "," "," "," "," "," "," "," "," "," "," "," "," "," "," "," "," "," "," "," "," "," "]
["",null,null,null,"","",null,null,null,null,""," "," "," "," "," "," "," "," "," "," "," "," "," "," "," "," "," "," "," "," "," "," "," "," "," "," "," "," "," "]
["",null,null,null,"","",null,null,null,null,""," "," "," "," "," "," "," "," "," "," "," "," "," "," "," "," "," "," "," "," "," "," "," "," "," "," "," "," "," "]
["",null,null,null,"","",null,null,null,null,""," "," "," "," "," "," "," "," "," "," "," "," "," "," "," "," "," "," "," "," "," "," "," "," "," "," "," "," "," "]
["",null,null,null,"","",null,null,null,null,"",{"$f":"IF($B285=\"\",\" \",INDEX(tabeleves,L$4,$K285))","v":" "}," "," "," "," "," "," "," "," "," ",{"$f":"IF($B285=\"\",\" \",INDEX(tabeleves,V$4,$K285))","v":" "}," "," "," "," "," "," "," "," "," ",{"$f":"IF($B285=\"\",\" \",INDEX(tabeleves,AF$4,$K285))","v":" "}," "," "," "," "," "," "," "," "]
["",null,null,null,"","",null,null,null,null,""," "," "," "," "," "," "," "," "," "," "," "," "," "," "," "," "," "," "," "," "," "," "," "," "," "," "," "," "," "]
["",null,null,null,"","",null,null,null,null,""," "," "," "," "," "," "," "," "," "," "," "," "," "," "," "," "," "," "," "," "," "," "," "," "," "," "," "," "," "]
["",null,null,null,"","",null,null,null,null,""," "," "," "," "," "," "," "," "," "," "," "," "," "," "," "," "," "," "," "," "," "," "," "," "," "," "," "," "," "]
["",null,null,null,"","",null,null,null,null,""," "," "," "," "," "," "," "," "," "," "," "," "," "," "," "," "," "," "," "," "," "," "," "," "," "," "," "," "," "]
["",null,null,null,"","",null,null,null,null,""," "," "," "," "," "," "," "," "," "," "," "," "," "," "," "," "," "," "," "," "," "," "," "," "," "," "," "," "," "]
["",null,null,null,"","",null,null,null,null,""," "," "," "," "," "," "," "," "," "," "," "," "," "," "," "," "," "," "," "," "," "," "," "," "," "," "," "," "," "]
["",null,null,null,"","",null,null,null,null,""," "," "," "," "," "," "," "," "," "," "," "," "," "," "," "," "," "," "," "," "," "," "," "," "," "," "," "," "," "]
["",null,null,null,"","",null,null,null,null,""," "," "," "," "," "," "," "," "," "," "," "," "," "," "," "," "," "," "," "," "," "," "," "," "," "," "," "," "," "]
["",null,null,null,"","",null,null,null,null,""," "," "," "," "," "," "," "," "," "," "," "," "," "," "," "," "," "," "," "," "," "," "," "," "," "," "," "," "," "]
["",null,null,null,"","",null,null,null,null,"",{"$f":"IF($B295=\"\",\" \",INDEX(tabeleves,L$4,$K295))","v":" "}," "," "," "," "," "," "," "," "," ",{"$f":"IF($B295=\"\",\" \",INDEX(tabeleves,V$4,$K295))","v":" "}," "," "," "," "," "," "," "," "," ",{"$f":"IF($B295=\"\",\" \",INDEX(tabeleves,AF$4,$K295))","v":" "}," "," "," "," "," "," "," "," "]
["",null,null,null,"","",null,null,null,null,""," "," "," "," "," "," "," "," "," "," "," "," "," "," "," "," "," "," "," "," "," "," "," "," "," "," "," "," "," "]
["",null,null,null,"","",null,null,null,null,""," "," "," "," "," "," "," "," "," "," "," "," "," "," "," "," "," "," "," "," "," "," "," "," "," "," "," "," "," "]
["",null,null,null,"","",null,null,null,null,""," "," "," "," "," "," "," "," "," "," "," "," "," "," "," "," "," "," "," "," "," "," "," "," "," "," "," "," "," "]
["",null,null,null,"","",null,null,null,null,""," "," "," "," "," "," "," "," "," "," "," "," "," "," "," "," "," "," "," "," "," "," "," "," "," "," "," "," "," "]
["",null,null,null,"","",null,null,null,null,""," "," "," "," "," "," "," "," "," "," "," "," "," "," "," "," "," "," "," "," "," "," "," "," "," "," "," "," "," "]
["",null,null,null,"","",null,null,null,null,""," "," "," "," "," "," "," "," "," "," "," "," "," "," "," "," "," "," "," "," "," "," "," "," "," "," "," "," "," "]
["",null,null,null,"","",null,null,null,null,""," "," "," "," "," "," "," "," "," "," "," "," "," "," "," "," "," "," "," "," "," "," "," "," "," "," "," "," "," "]
["",null,null,null,"","",null,null,null,null,""," "," "," "," "," "," "," "," "," "," "," "," "," "," "," "," "," "," "," "," "," "," "," "," "," "," "," "," "," "]
["",null,null,null,"","",null,null,null,null,""," "," "," "," "," "," "," "," "," "," "," "," "," "," "," "," "," "," "," "," "," "," "," "," "," "," "," "," "," "]
["",null,null,null,"","",null,null,null,null,"",{"$f":"IF($B305=\"\",\" \",INDEX(tabeleves,L$4,$K305))","v":" "}," "," "," "," "," "," "," "," "," ",{"$f":"IF($B305=\"\",\" \",INDEX(tabeleves,V$4,$K305))","v":" "}," "," "," "," "," "," "," "," "," ",{"$f":"IF($B305=\"\",\" \",INDEX(tabeleves,AF$4,$K305))","v":" "}," "," "," "," "," "," "," "," "]
["",null,null,null,"","",null,null,null,null,""," "," "," "," "," "," "," "," "," "," "," "," "," "," "," "," "," "," "," "," "," "," "," "," "," "," "," "," "," "]
["",null,null,null,"","",null,null,null,null,""," "," "," "," "," "," "," "," "," "," "," "," "," "," "," "," "," "," "," "," "," "," "," "," "," "," "," "," "," "]
["",null,null,null,"","",null,null,null,null,""," "," "," "," "," "," "," "," "," "," "," "," "," "," "," "," "," "," "," "," "," "," "," "," "," "," "," "," "," "]
["",null,null,null,"","",null,null,null,null,""," "," "," "," "," "," "," "," "," "," "," "," "," "," "," "," "," "," "," "," "," "," "," "," "," "," "," "," "," "]
["",null,null,null,"","",null,null,null,null,""," "," "," "," "," "," "," "," "," "," "," "," "," "," "," "," "," "," "," "," "," "," "," "," "," "," "," "," "," "]
["",null,null,null,"","",null,null,null,null,""," "," "," "," "," "," "," "," "," "," "," "," "," "," "," "," "," "," "," "," "," "," "," "," "," "," "," "," "," "]
["",null,null,null,"","",null,null,null,null,""," "," "," "," "," "," "," "," "," "," "," "," "," "," "," "," "," "," "," "," "," "," "," "," "," "," "," "," "," "]
["",null,null,null,"","",null,null,null,null,""," "," "," "," "," "," "," "," "," "," "," "," "," "," "," "," "," "," "," "," "," "," "," "," "," "," "," "," "," "]
["",null,null,null,"","",null,null,null,null,""," "," "," "," "," "," "," "," "," "," "," "," "," "," "," "," "," "," "," "," "," "," "," "," "," "," "," "," "," "]
["",null,null,null,"","",null,null,null,null,"",{"$f":"IF($B315=\"\",\" \",INDEX(tabeleves,L$4,$K315))","v":" "}," "," "," "," "," "," "," "," "," ",{"$f":"IF($B315=\"\",\" \",INDEX(tabeleves,V$4,$K315))","v":" "}," "," "," "," "," "," "," "," "," ",{"$f":"IF($B315=\"\",\" \",INDEX(tabeleves,AF$4,$K315))","v":" "}," "," "," "," "," "," "," "," "]
["",null,null,null,"","",null,null,null,null,""," "," "," "," "," "," "," "," "," "," "," "," "," "," "," "," "," "," "," "," "," "," "," "," "," "," "," "," "," "]
["",null,null,null,"","",null,null,null,null,""," "," "," "," "," "," "," "," "," "," "," "," "," "," "," "," "," "," "," "," "," "," "," "," "," "," "," "," "," "]
["",null,null,null,"","",null,null,null,null,""," "," "," "," "," "," "," "," "," "," "," "," "," "," "," "," "," "," "," "," "," "," "," "," "," "," "," "," "," "]
["",null,null,null,"","",null,null,null,null,""," "," "," "," "," "," "," "," "," "," "," "," "," "," "," "," "," "," "," "," "," "," "," "," "," "," "," "," "," "]
["",null,null,null,"","",null,null,null,null,""," "," "," "," "," "," "," "," "," "," "," "," "," "," "," "," "," "," "," "," "," "," "," "," "," "," "," "," "," "]
["",null,null,null,"","",null,null,null,null,""," "," "," "," "," "," "," "," "," "," "," "," "," "," "," "," "," "," "," "," "," "," "," "," "," "," "," "," "," "]
["",null,null,null,"","",null,null,null,null,""," "," "," "," "," "," "," "," "," "," "," "," "," "," "," "," "," "," "," "," "," "," "," "," "," "," "," "," "," "]
["",null,null,null,"","",null,null,null,null,""," "," "," "," "," "," "," "," "," "," "," "," "," "," "," "," "," "," "," "," "," "," "," "," "," "," "," "," "," "]
["",null,null,null,"","",null,null,null,null,""," "," "," "," "," "," "," "," "," "," "," "," "," "," "," "," "," "," "," "," "," "," "," "," "," "," "," "," "," "]
["",null,null,null,"","",null,null,null,null,{"$f":"IF(B325=\"\",\"\",INDEX(nclasse,MATCH(B325,classes,0),1))","v":""},{"$f":"IF($B325=\"\",\" \",INDEX(tabeleves,L$4,$K325))","v":" "}," "," "," "," "," "," "," "," "," ",{"$f":"IF($B325=\"\",\" \",INDEX(tabeleves,V$4,$K325))","v":" "}," "," "," "," "," "," "," "," "," ",{"$f":"IF($B325=\"\",\" \",INDEX(tabeleves,AF$4,$K325))","v":" "}," "," "," "," "," "," "," "," "]
["",null,null,null,{"$f":"IF(AP326=\"\",\"\",AP326)","v":""},{"$f":"IF(DC326=\"\",\"\",DC326)","v":""},null,null,null,null,""," "," "," "," "," "," "," "," "," "," "," "," "," "," "," "," "," "," "," "," "," "," "," "," "," "," "," "," "," "]
[{"$f":"IF(B327=\"\",\"\",A326+1)","v":""},null,null,null,"","",null,null,null,null,""," "," "," "," "," "," "," "," "," "," "," "," "," "," "," "," "," "," "," "," "," "," "," "," "," "," "," "," "," "]
["",null,null,null,"","",null,null,null,null,""," "," "," "," "," "," "," "," "," "," "," "," "," "," "," "," "," "," "," "," "," "," "," "," "," "," "," "," "," "]
["",null,null,null,"","",null,null,null,null,""," "," "," "," "," "," "," "," "," "," "," "," "," "," "," "," "," "," "," "," "," "," "," "," "," "," "," "," "," "]
["",null,null,null,"","",null,null,null,null,""," "," "," "," "," "," "," "," "," "," "," "," "," "," "," "," "," "," "," "," "," "," "," "," "," "," "," "," "," "]
["",null,null,null,"","",null,null,null,null,""," "," "," "," "," "," "," "," "," "," "," "," "," "," "," "," "," "," "," "," "," "," "," "," "," "," "," "," "," "]
["",null,null,null,"","",null,null,null,null,""," "," "," "," "," "," "," "," "," "," "," "," "," "," "," "," "," "," "," "," "," "," "," "," "," "," "," "," "," "]
["",null,null,null,"","",null,null,null,null,""," "," "," "," "," "," "," "," "," "," "," "," "," "," "," "," "," "," "," "," "," "," "," "," "," "," "," "," "," "]
["",null,null,null,"","",null,null,null,null,""," "," "," "," "," "," "," "," "," "," "," "," "," "," "," "," "," "," "," "," "," "," "," "," "," "," "," "," "," "]
["",null,null,null,"","",null,null,null,null,"",{"$f":"IF($B335=\"\",\" \",INDEX(tabeleves,L$4,$K335))","v":" "}," "," "," "," "," "," "," "," "," ",{"$f":"IF($B335=\"\",\" \",INDEX(tabeleves,V$4,$K335))","v":" "}," "," "," "," "," "," "," "," "," ",{"$f":"IF($B335=\"\",\" \",INDEX(tabeleves,AF$4,$K335))","v":" "}," "," "," "," "," "," "," "," "]
["",null,null,null,"","",null,null,null,null,""," "," "," "," "," "," "," "," "," "," "," "," "," "," "," "," "," "," "," "," "," "," "," "," "," "," "," "," "," "]
["",null,null,null,"","",null,null,null,null,""," "," "," "," "," "," "," "," "," "," "," "," "," "," "," "," "," "," "," "," "," "," "," "," "," "," "," "," "," "]
["",null,null,null,"","",null,null,null,null,""," "," "," "," "," "," "," "," "," "," "," "," "," "," "," "," "," "," "," "," "," "," "," "," "," "," "," "," "," "]
["",null,null,null,"","",null,null,null,null,""," "," "," "," "," "," "," "," "," "," "," "," "," "," "," "," "," "," "," "," "," "," "," "," "," "," "," "," "," "]
["",null,null,null,"","",null,null,null,null,""," "," "," "," "," "," "," "," "," "," "," "," "," "," "," "," "," "," "," "," "," "," "," "," "," "," "," "," "," "]
["",null,null,null,"","",null,null,null,null,""," "," "," "," "," "," "," "," "," "," "," "," "," "," "," "," "," "," "," "," "," "," "," "," "," "," "," "," "," "]
["",null,null,null,"","",null,null,null,null,""," "," "," "," "," "," "," "," "," "," "," "," "," "," "," "," "," "," "," "," "," "," "," "," "," "," "," "," "," "]
["",null,null,null,"","",null,null,null,null,""," "," "," "," "," "," "," "," "," "," "," "," "," "," "," "," "," "," "," "," "," "," "," "," "," "," "," "," "," "]
["",null,null,null,"","",null,null,null,null,""," "," "," "," "," "," "," "," "," "," "," "," "," "," "," "," "," "," "," "," "," "," "," "," "," "," "," "," "," "]
["",null,null,null,"","",null,null,null,null,"",{"$f":"IF($B345=\"\",\" \",INDEX(tabeleves,L$4,$K345))","v":" "}," "," "," "," "," "," "," "," "," ",{"$f":"IF($B345=\"\",\" \",INDEX(tabeleves,V$4,$K345))","v":" "}," "," "," "," "," "," "," "," "," ",{"$f":"IF($B345=\"\",\" \",INDEX(tabeleves,AF$4,$K345))","v":" "}," "," "," "," "," "," "," "," "]
["",null,null,null,"","",null,null,null,null,""," "," "," "," "," "," "," "," "," "," "," "," "," "," "," "," "," "," "," "," "," "," "," "," "," "," "," "," "," "]
["",null,null,null,"","",null,null,null,null,""," "," "," "," "," "," "," "," "," "," "," "," "," "," "," "," "," "," "," "," "," "," "," "," "," "," "," "," "," "]
["",null,null,null,"","",null,null,null,null,""," "," "," "," "," "," "," "," "," "," "," "," "," "," "," "," "," "," "," "," "," "," "," "," "," "," "," "," "," "]
["",null,null,null,"","",null,null,null,null,""," "," "," "," "," "," "," "," "," "," "," "," "," "," "," "," "," "," "," "," "," "," "," "," "," "," "," "," "," "]
["",null,null,null,"","",null,null,null,null,""," "," "," "," "," "," "," "," "," "," "," "," "," "," "," "," "," "," "," "," "," "," "," "," "," "," "," "," "," "]
["",null,null,null,"","",null,null,null,null,""," "," "," "," "," "," "," "," "," "," "," "," "," "," "," "," "," "," "," "," "," "," "," "," "," "," "," "," "," "]
["",null,null,null,"","",null,null,null,null,""," "," "," "," "," "," "," "," "," "," "," "," "," "," "," "," "," "," "," "," "," "," "," "," "," "," "," "," "," "]
["",null,null,null,"","",null,null,null,null,""," "," "," "," "," "," "," "," "," "," "," "," "," "," "," "," "," "," "," "," "," "," "," "," "," "," "," "," "," "]
["",null,null,null,"","",null,null,null,null,""," "," "," "," "," "," "," "," "," "," "," "," "," "," "," "," "," "," "," "," "," "," "," "," "," "," "," "," "," "]
["",null,null,null,"","",null,null,null,null,"",{"$f":"IF($B355=\"\",\" \",INDEX(tabeleves,L$4,$K355))","v":" "}," "," "," "," "," "," "," "," "," ",{"$f":"IF($B355=\"\",\" \",INDEX(tabeleves,V$4,$K355))","v":" "}," "," "," "," "," "," "," "," "," ",{"$f":"IF($B355=\"\",\" \",INDEX(tabeleves,AF$4,$K355))","v":" "}," "," "," "," "," "," "," "," "]
["",null,null,null,"","",null,null,null,null,""," "," "," "," "," "," "," "," "," "," "," "," "," "," "," "," "," "," "," "," "," "," "," "," "," "," "," "," "," "]
["",null,null,null,"","",null,null,null,null,""," "," "," "," "," "," "," "," "," "," "," "," "," "," "," "," "," "," "," "," "," "," "," "," "," "," "," "," "," "]
["",null,null,null,"","",null,null,null,null,""," "," "," "," "," "," "," "," "," "," "," "," "," "," "," "," "," "," "," "," "," "," "," "," "," "," "," "," "," "]
["",null,null,null,"","",null,null,null,null,""," "," "," "," "," "," "," "," "," "," "," "," "," "," "," "," "," "," "," "," "," "," "," "," "," "," "," "," "," "]
["",null,null,null,"","",null,null,null,null,""," "," "," "," "," "," "," "," "," "," "," "," "," "," "," "," "," "," "," "," "," "," "," "," "," "," "," "," "," "]
["",null,null,null,"","",null,null,null,null,""," "," "," "," "," "," "," "," "," "," "," "," "," "," "," "," "," "," "," "," "," "," "," "," "," "," "," "," "," "]
["",null,null,null,"","",null,null,null,null,""," "," "," "," "," "," "," "," "," "," "," "," "," "," "," "," "," "," "," "," "," "," "," "," "," "," "," "," "," "]
["",null,null,null,"","",null,null,null,null,""," "," "," "," "," "," "," "," "," "," "," "," "," "," "," "," "," "," "," "," "," "," "," "," "," "," "," "," "," "]
["",null,null,null,"","",null,null,null,null,""," "," "," "," "," "," "," "," "," "," "," "," "," "," "," "," "," "," "," "," "," "," "," "," "," "," "," "," "," "]
["",null,null,null,"","",null,null,null,null,"",{"$f":"IF($B365=\"\",\" \",INDEX(tabeleves,L$4,$K365))","v":" "}," "," "," "," "," "," "," "," "," ",{"$f":"IF($B365=\"\",\" \",INDEX(tabeleves,V$4,$K365))","v":" "}," "," "," "," "," "," "," "," "," ",{"$f":"IF($B365=\"\",\" \",INDEX(tabeleves,AF$4,$K365))","v":" "}," "," "," "," "," "," "," "," "]
["",null,null,null,"","",null,null,null,null,""," "," "," "," "," "," "," "," "," "," "," "," "," "," "," "," "," "," "," "," "," "," "," "," "," "," "," "," "," "]
["",null,null,null,"","",null,null,null,null,""," "," "," "," "," "," "," "," "," "," "," "," "," "," "," "," "," "," "," "," "," "," "," "," "," "," "," "," "," "]
["",null,null,null,"","",null,null,null,null,""," "," "," "," "," "," "," "," "," "," "," "," "," "," "," "," "," "," "," "," "," "," "," "," "," "," "," "," "," "]
["",null,null,null,"","",null,null,null,null,""," "," "," "," "," "," "," "," "," "," "," "," "," "," "," "," "," "," "," "," "," "," "," "," "," "," "," "," "," "]
["",null,null,null,"","",null,null,null,null,""," "," "," "," "," "," "," "," "," "," "," "," "," "," "," "," "," "," "," "," "," "," "," "," "," "," "," "," "," "]
["",null,null,null,"","",null,null,null,null,""," "," "," "," "," "," "," "," "," "," "," "," "," "," "," "," "," "," "," "," "," "," "," "," "," "," "," "," "," "]
["",null,null,null,"","",null,null,null,null,""," "," "," "," "," "," "," "," "," "," "," "," "," "," "," "," "," "," "," "," "," "," "," "," "," "," "," "," "," "]
["",null,null,null,"","",null,null,null,null,""," "," "," "," "," "," "," "," "," "," "," "," "," "," "," "," "," "," "," "," "," "," "," "," "," "," "," "," "," "]
["",null,null,null,"","",null,null,null,null,""," "," "," "," "," "," "," "," "," "," "," "," "," "," "," "," "," "," "," "," "," "," "," "," "," "," "," "," "," "]
["",null,null,null,"","",null,null,null,null,"",{"$f":"IF($B375=\"\",\" \",INDEX(tabeleves,L$4,$K375))","v":" "}," "," "," "," "," "," "," "," "," ",{"$f":"IF($B375=\"\",\" \",INDEX(tabeleves,V$4,$K375))","v":" "}," "," "," "," "," "," "," "," "," ",{"$f":"IF($B375=\"\",\" \",INDEX(tabeleves,AF$4,$K375))","v":" "}," "," "," "," "," "," "," "," "]
["",null,null,null,"","",null,null,null,null,""," "," "," "," "," "," "," "," "," "," "," "," "," "," "," "," "," "," "," "," "," "," "," "," "," "," "," "," "," "]
["",null,null,null,"","",null,null,null,null,""," "," "," "," "," "," "," "," "," "," "," "," "," "," "," "," "," "," "," "," "," "," "," "," "," "," "," "," "," "]
["",null,null,null,"","",null,null,null,null,""," "," "," "," "," "," "," "," "," "," "," "," "," "," "," "," "," "," "," "," "," "," "," "," "," "," "," "," "," "]
["",null,null,null,"","",null,null,null,null,""," "," "," "," "," "," "," "," "," "," "," "," "," "," "," "," "," "," "," "," "," "," "," "," "," "," "," "," "," "]
["",null,null,null,"","",null,null,null,null,""," "," "," "," "," "," "," "," "," "," "," "," "," "," "," "," "," "," "," "," "," "," "," "," "," "," "," "," "," "]
["",null,null,null,"","",null,null,null,null,""," "," "," "," "," "," "," "," "," "," "," "," "," "," "," "," "," "," "," "," "," "," "," "," "," "," "," "," "," "]
["",null,null,null,"","",null,null,null,null,""," "," "," "," "," "," "," "," "," "," "," "," "," "," "," "," "," "," "," "," "," "," "," "," "," "," "," "," "," "]
["",null,null,null,"","",null,null,null,null,""," "," "," "," "," "," "," "," "," "," "," "," "," "," "," "," "," "," "," "," "," "," "," "," "," "," "," "," "," "]
["",null,null,null,"","",null,null,null,null,""," "," "," "," "," "," "," "," "," "," "," "," "," "," "," "," "," "," "," "," "," "," "," "," "," "," "," "," "," "]
["",null,null,null,"","",null,null,null,null,"",{"$f":"IF($B385=\"\",\" \",INDEX(tabeleves,L$4,$K385))","v":" "}," "," "," "," "," "," "," "," "," ",{"$f":"IF($B385=\"\",\" \",INDEX(tabeleves,V$4,$K385))","v":" "}," "," "," "," "," "," "," "," "," ",{"$f":"IF($B385=\"\",\" \",INDEX(tabeleves,AF$4,$K385))","v":" "}," "," "," "," "," "," "," "," "]
["",null,null,null,"","",null,null,null,null,""," "," "," "," "," "," "," "," "," "," "," "," "," "," "," "," "," "," "," "," "," "," "," "," "," "," "," "," "," "]
["",null,null,null,"","",null,null,null,null,""," "," "," "," "," "," "," "," "," "," "," "," "," "," "," "," "," "," "," "," "," "," "," "," "," "," "," "," "," "]
["",null,null,null,"","",null,null,null,null,""," "," "," "," "," "," "," "," "," "," "," "," "," "," "," "," "," "," "," "," "," "," "," "," "," "," "," "," "," "]
["",null,null,null,"","",null,null,null,null,{"$f":"IF(B389=\"\",\"\",INDEX(nclasse,MATCH(B389,classes,0),1))","v":""}," "," "," "," "," "," "," "," "," "," "," "," "," "," "," "," "," "," "," "," "," "," "," "," "," "," "," "," "," "]
["",null,null,null,{"$f":"IF(AP390=\"\",\"\",AP390)","v":""},{"$f":"IF(DC390=\"\",\"\",DC390)","v":""},null,null,null,null,""," "," "," "," "," "," "," "," "," "," "," "," "," "," "," "," "," "," "," "," "," "," "," "," "," "," "," "," "," "]
[{"$f":"IF(B391=\"\",\"\",A390+1)","v":""},null,null,null,"","",null,null,null,null,""," "," "," "," "," "," "," "," "," "," "," "," "," "," "," "," "," "," "," "," "," "," "," "," "," "," "," "," "," "]
["",null,null,null,"","",null,null,null,null,""," "," "," "," "," "," "," "," "," "," "," "," "," "," "," "," "," "," "," "," "," "," "," "," "," "," "," "," "," "]
["",null,null,null,"","",null,null,null,null,""," "," "," "," "," "," "," "," "," "," "," "," "," "," "," "," "," "," "," "," "," "," "," "," "," "," "," "," "," "]
["",null,null,null,"","",null,null,null,null,""," "," "," "," "," "," "," "," "," "," "," "," "," "," "," "," "," "," "," "," "," "," "," "," "," "," "," "," "," "]
["",null,null,null,"","",null,null,null,null,"",{"$f":"IF($B395=\"\",\" \",INDEX(tabeleves,L$4,$K395))","v":" "}," "," "," "," "," "," "," "," "," ",{"$f":"IF($B395=\"\",\" \",INDEX(tabeleves,V$4,$K395))","v":" "}," "," "," "," "," "," "," "," "," ",{"$f":"IF($B395=\"\",\" \",INDEX(tabeleves,AF$4,$K395))","v":" "}," "," "," "," "," "," "," "," "]
["",null,null,null,"","",null,null,null,null,""," "," "," "," "," "," "," "," "," "," "," "," "," "," "," "," "," "," "," "," "," "," "," "," "," "," "," "," "," "]
["",null,null,null,"","",null,null,null,null,""," "," "," "," "," "," "," "," "," "," "," "," "," "," "," "," "," "," "," "," "," "," "," "," "," "," "," "," "," "]
["",null,null,null,"","",null,null,null,null,""," "," "," "," "," "," "," "," "," "," "," "," "," "," "," "," "," "," "," "," "," "," "," "," "," "," "," "," "," "]
["",null,null,null,"","",null,null,null,null,""," "," "," "," "," "," "," "," "," "," "," "," "," "," "," "," "," "," "," "," "," "," "," "," "," "," "," "," "," "]
["",null,null,null,"","",null,null,null,null,""," "," "," "," "," "," "," "," "," "," "," "," "," "," "," "," "," "," "," "," "," "," "," "," "," "," "," "," "," "]
["",null,null,null,"","",null,null,null,null,""," "," "," "," "," "," "," "," "," "," "," "," "," "," "," "," "," "," "," "," "," "," "," "," "," "," "," "," "," "]
["",null,null,null,"","",null,null,null,null,""," "," "," "," "," "," "," "," "," "," "," "," "," "," "," "," "," "," "," "," "," "," "," "," "," "," "," "," "," "]
["",null,null,null,"","",null,null,null,null,""," "," "," "," "," "," "," "," "," "," "," "," "," "," "," "," "," "," "," "," "," "," "," "," "," "," "," "," "," "]
["",null,null,null,"","",null,null,null,null,""," "," "," "," "," "," "," "," "," "," "," "," "," "," "," "," "," "," "," "," "," "," "," "," "," "," "," "," "," "]
["",null,null,null,"","",null,null,null,null,"",{"$f":"IF($B405=\"\",\" \",INDEX(tabeleves,L$4,$K405))","v":" "}," "," "," "," "," "," "," "," "," ",{"$f":"IF($B405=\"\",\" \",INDEX(tabeleves,V$4,$K405))","v":" "}," "," "," "," "," "," "," "," "," ",{"$f":"IF($B405=\"\",\" \",INDEX(tabeleves,AF$4,$K405))","v":" "}," "," "," "," "," "," "," "," "]
["",null,null,null,"","",null,null,null,null,""," "," "," "," "," "," "," "," "," "," "," "," "," "," "," "," "," "," "," "," "," "," "," "," "," "," "," "," "," "]
["",null,null,null,"","",null,null,null,null,""," "," "," "," "," "," "," "," "," "," "," "," "," "," "," "," "," "," "," "," "," "," "," "," "," "," "," "," "," "]
["",null,null,null,"","",null,null,null,null,""," "," "," "," "," "," "," "," "," "," "," "," "," "," "," "," "," "," "," "," "," "," "," "," "," "," "," "," "," "]
["",null,null,null,"","",null,null,null,null,""," "," "," "," "," "," "," "," "," "," "," "," "," "," "," "," "," "," "," "," "," "," "," "," "," "," "," "," "," "]
["",null,null,null,"","",null,null,null,null,""," "," "," "," "," "," "," "," "," "," "," "," "," "," "," "," "," "," "," "," "," "," "," "," "," "," "," "," "," "]
["",null,null,null,"","",null,null,null,null,""," "," "," "," "," "," "," "," "," "," "," "," "," "," "," "," "," "," "," "," "," "," "," "," "," "," "," "," "," "]
["",null,null,null,"","",null,null,null,null,""," "," "," "," "," "," "," "," "," "," "," "," "," "," "," "," "," "," "," "," "," "," "," "," "," "," "," "," "," "]
["",null,null,null,"","",null,null,null,null,""," "," "," "," "," "," "," "," "," "," "," "," "," "," "," "," "," "," "," "," "," "," "," "," "," "," "," "," "," "]
["",null,null,null,"","",null,null,null,null,""," "," "," "," "," "," "," "," "," "," "," "," "," "," "," "," "," "," "," "," "," "," "," "," "," "," "," "," "," "]
["",null,null,null,"","",null,null,null,null,"",{"$f":"IF($B415=\"\",\" \",INDEX(tabeleves,L$4,$K415))","v":" "}," "," "," "," "," "," "," "," "," ",{"$f":"IF($B415=\"\",\" \",INDEX(tabeleves,V$4,$K415))","v":" "}," "," "," "," "," "," "," "," "," ",{"$f":"IF($B415=\"\",\" \",INDEX(tabeleves,AF$4,$K415))","v":" "}," "," "," "," "," "," "," "," "]
["",null,null,null,"","",null,null,null,null,""," "," "," "," "," "," "," "," "," "," "," "," "," "," "," "," "," "," "," "," "," "," "," "," "," "," "," "," "," "]
["",null,null,null,"","",null,null,null,null,""," "," "," "," "," "," "," "," "," "," "," "," "," "," "," "," "," "," "," "," "," "," "," "," "," "," "," "," "," "]
["",null,null,null,"","",null,null,null,null,""," "," "," "," "," "," "," "," "," "," "," "," "," "," "," "," "," "," "," "," "," "," "," "," "," "," "," "," "," "]
["",null,null,null,"","",null,null,null,null,""," "," "," "," "," "," "," "," "," "," "," "," "," "," "," "," "," "," "," "," "," "," "," "," "," "," "," "," "," "]
["",null,null,null,"","",null,null,null,null,""," "," "," "," "," "," "," "," "," "," "," "," "," "," "," "," "," "," "," "," "," "," "," "," "," "," "," "," "," "]
["",null,null,null,"","",null,null,null,null,""," "," "," "," "," "," "," "," "," "," "," "," "," "," "," "," "," "," "," "," "," "," "," "," "," "," "," "," "," "]
["",null,null,null,"","",null,null,null,null,""," "," "," "," "," "," "," "," "," "," "," "," "," "," "," "," "," "," "," "," "," "," "," "," "," "," "," "," "," "]
["",null,null,null,"","",null,null,null,null,""," "," "," "," "," "," "," "," "," "," "," "," "," "," "," "," "," "," "," "," "," "," "," "," "," "," "," "," "," "]
["",null,null,null,"","",null,null,null,null,""," "," "," "," "," "," "," "," "," "," "," "," "," "," "," "," "," "," "," "," "," "," "," "," "," "," "," "," "," "]
["",null,null,null,"","",null,null,null,null,"",{"$f":"IF($B425=\"\",\" \",INDEX(tabeleves,L$4,$K425))","v":" "}," "," "," "," "," "," "," "," "," ",{"$f":"IF($B425=\"\",\" \",INDEX(tabeleves,V$4,$K425))","v":" "}," "," "," "," "," "," "," "," "," ",{"$f":"IF($B425=\"\",\" \",INDEX(tabeleves,AF$4,$K425))","v":" "}," "," "," "," "," "," "," "," "]
["",null,null,null,"","",null,null,null,null,""," "," "," "," "," "," "," "," "," "," "," "," "," "," "," "," "," "," "," "," "," "," "," "," "," "," "," "," "," "]
["",null,null,null,"","",null,null,null,null,""," "," "," "," "," "," "," "," "," "," "," "," "," "," "," "," "," "," "," "," "," "," "," "," "," "," "," "," "," "]
["",null,null,null,"","",null,null,null,null,""," "," "," "," "," "," "," "," "," "," "," "," "," "," "," "," "," "," "," "," "," "," "," "," "," "," "," "," "," "]
["",null,null,null,"","",null,null,null,null,""," "," "," "," "," "," "," "," "," "," "," "," "," "," "," "," "," "," "," "," "," "," "," "," "," "," "," "," "," "]
["",null,null,null,"","",null,null,null,null,""," "," "," "," "," "," "," "," "," "," "," "," "," "," "," "," "," "," "," "," "," "," "," "," "," "," "," "," "," "]
["",null,null,null,"","",null,null,null,null,""," "," "," "," "," "," "," "," "," "," "," "," "," "," "," "," "," "," "," "," "," "," "," "," "," "," "," "," "," "]
["",null,null,null,"","",null,null,null,null,""," "," "," "," "," "," "," "," "," "," "," "," "," "," "," "," "," "," "," "," "," "," "," "," "," "," "," "," "," "]
["",null,null,null,"","",null,null,null,null,""," "," "," "," "," "," "," "," "," "," "," "," "," "," "," "," "," "," "," "," "," "," "," "," "," "," "," "," "," "]
["",null,null,null,"","",null,null,null,null,""," "," "," "," "," "," "," "," "," "," "," "," "," "," "," "," "," "," "," "," "," "," "," "," "," "," "," "," "," "]
["",null,null,null,"","",null,null,null,null,"",{"$f":"IF($B435=\"\",\" \",INDEX(tabeleves,L$4,$K435))","v":" "}," "," "," "," "," "," "," "," "," ",{"$f":"IF($B435=\"\",\" \",INDEX(tabeleves,V$4,$K435))","v":" "}," "," "," "," "," "," "," "," "," ",{"$f":"IF($B435=\"\",\" \",INDEX(tabeleves,AF$4,$K435))","v":" "}," "," "," "," "," "," "," "," "]
["",null,null,null,"","",null,null,null,null,""," "," "," "," "," "," "," "," "," "," "," "," "," "," "," "," "," "," "," "," "," "," "," "," "," "," "," "," "," "]
["",null,null,null,"","",null,null,null,null,""," "," "," "," "," "," "," "," "," "," "," "," "," "," "," "," "," "," "," "," "," "," "," "," "," "," "," "," "," "]
["",null,null,null,"","",null,null,null,null,""," "," "," "," "," "," "," "," "," "," "," "," "," "," "," "," "," "," "," "," "," "," "," "," "," "," "," "," "," "]
["",null,null,null,"","",null,null,null,null,""," "," "," "," "," "," "," "," "," "," "," "," "," "," "," "," "," "," "," "," "," "," "," "," "," "," "," "," "," "]
["",null,null,null,"","",null,null,null,null,""," "," "," "," "," "," "," "," "," "," "," "," "," "," "," "," "," "," "," "," "," "," "," "," "," "," "," "," "," "]
["",null,null,null,"","",null,null,null,null,""," "," "," "," "," "," "," "," "," "," "," "," "," "," "," "," "," "," "," "," "," "," "," "," "," "," "," "," "," "]
["",null,null,null,"","",null,null,null,null,""," "," "," "," "," "," "," "," "," "," "," "," "," "," "," "," "," "," "," "," "," "," "," "," "," "," "," "," "," "]
["",null,null,null,"","",null,null,null,null,""," "," "," "," "," "," "," "," "," "," "," "," "," "," "," "," "," "," "," "," "," "," "," "," "," "," "," "," "," "]
["",null,null,null,"","",null,null,null,null,""," "," "," "," "," "," "," "," "," "," "," "," "," "," "," "," "," "," "," "," "," "," "," "," "," "," "," "," "," "]
["",null,null,null,"","",null,null,null,null,"",{"$f":"IF($B445=\"\",\" \",INDEX(tabeleves,L$4,$K445))","v":" "}," "," "," "," "," "," "," "," "," ",{"$f":"IF($B445=\"\",\" \",INDEX(tabeleves,V$4,$K445))","v":" "}," "," "," "," "," "," "," "," "," ",{"$f":"IF($B445=\"\",\" \",INDEX(tabeleves,AF$4,$K445))","v":" "}," "," "," "," "," "," "," "," "]
["",null,null,null,"","",null,null,null,null,""," "," "," "," "," "," "," "," "," "," "," "," "," "," "," "," "," "," "," "," "," "," "," "," "," "," "," "," "," "]
["",null,null,null,"","",null,null,null,null,""," "," "," "," "," "," "," "," "," "," "," "," "," "," "," "," "," "," "," "," "," "," "," "," "," "," "," "," "," "]
["",null,null,null,"","",null,null,null,null,""," "," "," "," "," "," "," "," "," "," "," "," "," "," "," "," "," "," "," "," "," "," "," "," "," "," "," "," "," "]
["",null,null,null,"","",null,null,null,null,""," "," "," "," "," "," "," "," "," "," "," "," "," "," "," "," "," "," "," "," "," "," "," "," "," "," "," "," "," "]
["",null,null,null,"","",null,null,null,null,""," "," "," "," "," "," "," "," "," "," "," "," "," "," "," "," "," "," "," "," "," "," "," "," "," "," "," "," "," "]
["",null,null,null,"","",null,null,null,null,""," "," "," "," "," "," "," "," "," "," "," "," "," "," "," "," "," "," "," "," "," "," "," "," "," "," "," "," "," "]
["",null,null,null,"","",null,null,null,null,""," "," "," "," "," "," "," "," "," "," "," "," "," "," "," "," "," "," "," "," "," "," "," "," "," "," "," "," "," "]
["",null,null,null,"","",null,null,null,null,{"$f":"IF(B453=\"\",\"\",INDEX(nclasse,MATCH(B453,classes,0),1))","v":""}," "," "," "," "," "," "," "," "," "," "," "," "," "," "," "," "," "," "," "," "," "," "," "," "," "," "," "," "," "]
["",null,null,null,{"$f":"IF(AP454=\"\",\"\",AP454)","v":""},{"$f":"IF(DC454=\"\",\"\",DC454)","v":""},null,null,null,null,""," "," "," "," "," "," "," "," "," "," "," "," "," "," "," "," "," "," "," "," "," "," "," "," "," "," "," "," "," "]
[{"$f":"IF(B455=\"\",\"\",A454+1)","v":""},null,null,null,"","",null,null,null,null,"",{"$f":"IF($B455=\"\",\" \",INDEX(tabeleves,L$4,$K455))","v":" "}," "," "," "," "," "," "," "," "," ",{"$f":"IF($B455=\"\",\" \",INDEX(tabeleves,V$4,$K455))","v":" "}," "," "," "," "," "," "," "," "," ",{"$f":"IF($B455=\"\",\" \",INDEX(tabeleves,AF$4,$K455))","v":" "}," "," "," "," "," "," "," "," "]
["",null,null,null,"","",null,null,null,null,""," "," "," "," "," "," "," "," "," "," "," "," "," "," "," "," "," "," "," "," "," "," "," "," "," "," "," "," "," "]
["",null,null,null,"","",null,null,null,null,""," "," "," "," "," "," "," "," "," "," "," "," "," "," "," "," "," "," "," "," "," "," "," "," "," "," "," "," "," "]
["",null,null,null,"","",null,null,null,null,""," "," "," "," "," "," "," "," "," "," "," "," "," "," "," "," "," "," "," "," "," "," "," "," "," "," "," "," "," "]
["",null,null,null,"","",null,null,null,null,""," "," "," "," "," "," "," "," "," "," "," "," "," "," "," "," "," "," "," "," "," "," "," "," "," "," "," "," "," "]
["",null,null,null,"","",null,null,null,null,""," "," "," "," "," "," "," "," "," "," "," "," "," "," "," "," "," "," "," "," "," "," "," "," "," "," "," "," "," "]
["",null,null,null,"","",null,null,null,null,""," "," "," "," "," "," "," "," "," "," "," "," "," "," "," "," "," "," "," "," "," "," "," "," "," "," "," "," "," "]
["",null,null,null,"","",null,null,null,null,""," "," "," "," "," "," "," "," "," "," "," "," "," "," "," "," "," "," "," "," "," "," "," "," "," "," "," "," "," "]
["",null,null,null,"","",null,null,null,null,""," "," "," "," "," "," "," "," "," "," "," "," "," "," "," "," "," "," "," "," "," "," "," "," "," "," "," "," "," "]
["",null,null,null,"","",null,null,null,null,""," "," "," "," "," "," "," "," "," "," "," "," "," "," "," "," "," "," "," "," "," "," "," "," "," "," "," "," "," "]
["",null,null,null,"","",null,null,null,null,"",{"$f":"IF($B465=\"\",\" \",INDEX(tabeleves,L$4,$K465))","v":" "}," "," "," "," "," "," "," "," "," ",{"$f":"IF($B465=\"\",\" \",INDEX(tabeleves,V$4,$K465))","v":" "}," "," "," "," "," "," "," "," "," ",{"$f":"IF($B465=\"\",\" \",INDEX(tabeleves,AF$4,$K465))","v":" "}," "," "," "," "," "," "," "," "]
["",null,null,null,"","",null,null,null,null,""," "," "," "," "," "," "," "," "," "," "," "," "," "," "," "," "," "," "," "," "," "," "," "," "," "," "," "," "," "]
["",null,null,null,"","",null,null,null,null,""," "," "," "," "," "," "," "," "," "," "," "," "," "," "," "," "," "," "," "," "," "," "," "," "," "," "," "," "," "]
["",null,null,null,"","",null,null,null,null,""," "," "," "," "," "," "," "," "," "," "," "," "," "," "," "," "," "," "," "," "," "," "," "," "," "," "," "," "," "]
["",null,null,null,"","",null,null,null,null,""," "," "," "," "," "," "," "," "," "," "," "," "," "," "," "," "," "," "," "," "," "," "," "," "," "," "," "," "," "]
["",null,null,null,"","",null,null,null,null,""," "," "," "," "," "," "," "," "," "," "," "," "," "," "," "," "," "," "," "," "," "," "," "," "," "," "," "," "," "]
["",null,null,null,"","",null,null,null,null,""," "," "," "," "," "," "," "," "," "," "," "," "," "," "," "," "," "," "," "," "," "," "," "," "," "," "," "," "," "]
["",null,null,null,"","",null,null,null,null,""," "," "," "," "," "," "," "," "," "," "," "," "," "," "," "," "," "," "," "," "," "," "," "," "," "," "," "," "," "]
["",null,null,null,"","",null,null,null,null,""," "," "," "," "," "," "," "," "," "," "," "," "," "," "," "," "," "," "," "," "," "," "," "," "," "," "," "," "," "]
["",null,null,null,"","",null,null,null,null,""," "," "," "," "," "," "," "," "," "," "," "," "," "," "," "," "," "," "," "," "," "," "," "," "," "," "," "," "," "]
["",null,null,null,"","",null,null,null,null,"",{"$f":"IF($B475=\"\",\" \",INDEX(tabeleves,L$4,$K475))","v":" "}," "," "," "," "," "," "," "," "," ",{"$f":"IF($B475=\"\",\" \",INDEX(tabeleves,V$4,$K475))","v":" "}," "," "," "," "," "," "," "," "," ",{"$f":"IF($B475=\"\",\" \",INDEX(tabeleves,AF$4,$K475))","v":" "}," "," "," "," "," "," "," "," "]
["",null,null,null,"","",null,null,null,null,""," "," "," "," "," "," "," "," "," "," "," "," "," "," "," "," "," "," "," "," "," "," "," "," "," "," "," "," "," "]
["",null,null,null,"","",null,null,null,null,""," "," "," "," "," "," "," "," "," "," "," "," "," "," "," "," "," "," "," "," "," "," "," "," "," "," "," "," "," "]
["",null,null,null,"","",null,null,null,null,""," "," "," "," "," "," "," "," "," "," "," "," "," "," "," "," "," "," "," "," "," "," "," "," "," "," "," "," "," "]
["",null,null,null,"","",null,null,null,null,""," "," "," "," "," "," "," "," "," "," "," "," "," "," "," "," "," "," "," "," "," "," "," "," "," "," "," "," "," "]
["",null,null,null,"","",null,null,null,null,""," "," "," "," "," "," "," "," "," "," "," "," "," "," "," "," "," "," "," "," "," "," "," "," "," "," "," "," "," "]
["",null,null,null,"","",null,null,null,null,""," "," "," "," "," "," "," "," "," "," "," "," "," "," "," "," "," "," "," "," "," "," "," "," "," "," "," "," "," "]
["",null,null,null,"","",null,null,null,null,""," "," "," "," "," "," "," "," "," "," "," "," "," "," "," "," "," "," "," "," "," "," "," "," "," "," "," "," "," "]
["",null,null,null,"","",null,null,null,null,""," "," "," "," "," "," "," "," "," "," "," "," "," "," "," "," "," "," "," "," "," "," "," "," "," "," "," "," "," "]
["",null,null,null,"","",null,null,null,null,""," "," "," "," "," "," "," "," "," "," "," "," "," "," "," "," "," "," "," "," "," "," "," "," "," "," "," "," "," "]
["",null,null,null,"","",null,null,null,null,"",{"$f":"IF($B485=\"\",\" \",INDEX(tabeleves,L$4,$K485))","v":" "}," "," "," "," "," "," "," "," "," ",{"$f":"IF($B485=\"\",\" \",INDEX(tabeleves,V$4,$K485))","v":" "}," "," "," "," "," "," "," "," "," ",{"$f":"IF($B485=\"\",\" \",INDEX(tabeleves,AF$4,$K485))","v":" "}," "," "," "," "," "," "," "," "]
["",null,null,null,"","",null,null,null,null,""," "," "," "," "," "," "," "," "," "," "," "," "," "," "," "," "," "," "," "," "," "," "," "," "," "," "," "," "," "]
["",null,null,null,"","",null,null,null,null,""," "," "," "," "," "," "," "," "," "," "," "," "," "," "," "," "," "," "," "," "," "," "," "," "," "," "," "," "," "]
["",null,null,null,"","",null,null,null,null,""," "," "," "," "," "," "," "," "," "," "," "," "," "," "," "," "," "," "," "," "," "," "," "," "," "," "," "," "," "]
["",null,null,null,"","",null,null,null,null,""," "," "," "," "," "," "," "," "," "," "," "," "," "," "," "," "," "," "," "," "," "," "," "," "," "," "," "," "," "]
["",null,null,null,"","",null,null,null,null,""," "," "," "," "," "," "," "," "," "," "," "," "," "," "," "," "," "," "," "," "," "," "," "," "," "," "," "," "," "]
["",null,null,null,"","",null,null,null,null,""," "," "," "," "," "," "," "," "," "," "," "," "," "," "," "," "," "," "," "," "," "," "," "," "," "," "," "," "," "]
["",null,null,null,"","",null,null,null,null,""," "," "," "," "," "," "," "," "," "," "," "," "," "," "," "," "," "," "," "," "," "," "," "," "," "," "," "," "," "]
["",null,null,null,"","",null,null,null,null,""," "," "," "," "," "," "," "," "," "," "," "," "," "," "," "," "," "," "," "," "," "," "," "," "," "," "," "," "," "]
["",null,null,null,"","",null,null,null,null,""," "," "," "," "," "," "," "," "," "," "," "," "," "," "," "," "," "," "," "," "," "," "," "," "," "," "," "," "," "]
["",null,null,null,"","",null,null,null,null,"",{"$f":"IF($B495=\"\",\" \",INDEX(tabeleves,L$4,$K495))","v":" "}," "," "," "," "," "," "," "," "," ",{"$f":"IF($B495=\"\",\" \",INDEX(tabeleves,V$4,$K495))","v":" "}," "," "," "," "," "," "," "," "," ",{"$f":"IF($B495=\"\",\" \",INDEX(tabeleves,AF$4,$K495))","v":" "}," "," "," "," "," "," "," "," "]
["",null,null,null,"","",null,null,null,null,""," "," "," "," "," "," "," "," "," "," "," "," "," "," "," "," "," "," "," "," "," "," "," "," "," "," "," "," "," "]
["",null,null,null,"","",null,null,null,null,""," "," "," "," "," "," "," "," "," "," "," "," "," "," "," "," "," "," "," "," "," "," "," "," "," "," "," "," "," "]
["",null,null,null,"","",null,null,null,null,""," "," "," "," "," "," "," "," "," "," "," "," "," "," "," "," "," "," "," "," "," "," "," "," "," "," "," "," "," "]
[{"$f":"IF(B499=\"\",\"\",A498+1)","v":""},null,null,null,"","",null,null,null,null,""," "," "," "," "," "," "," "," "," "," "," "," "," "," "," "," "," "," "," "," "," "," "," "," "," "," "," "," "," "]
["",null,null,null,"","",null,null,null,null,""," "," "," "," "," "," "," "," "," "," "," "," "," "," "," "," "," "," "," "," "," "," "," "," "," "," "," "," "," "]

{"sheet":"Importation élèves","index":1,"n_rows":1030,"n_cols":92,"rows_kept":1030,"cut":false,"hidden":false,"merged":[[0,0,0,4]]}
["Copier coller les élèves en A3 puis cliquer sur Importer",null,null,null,null,null,null,null,null,null,null,null,null,null,null,null,null,null,null,null,null,null,null,null,null,null,null,null,null,null,null,null,null,null,null,null,null,null,null,null,null,null,null,null,null,null,null,null,null,null,null,null,null,1,2,3,4,5,6,7,8,9,10,11,12,13,14,15,16,17,18,19,20,21,22,23,24,25,26,27,28,29,30,31,32,33,34,35,36,37,38,39]
["Nom","Prénom","Né","Sexe","Classe",null,null,null,null,null,null,null,null,{"$f":"'Importation classes'!$A3","v":0},{"$f":"'Importation classes'!$A4","v":0},{"$f":"'Importation classes'!$A5","v":0},{"$f":"'Importation classes'!$A6","v":0},{"$f":"'Importation classes'!$A7","v":0},{"$f":"'Importation classes'!$A8","v":0},{"$f":"'Importation classes'!$A9","v":0},{"$f":"'Importation classes'!$A10","v":0},{"$f":"'Importation classes'!$A11","v":0},{"$f":"'Importation classes'!$A12","v":0},{"$f":"'Importation classes'!$A13","v":0},{"$f":"'Importation classes'!$A14","v":0},{"$f":"'Importation classes'!$A15","v":0},{"$f":"'Importation classes'!$A16","v":0},{"$f":"'Importation classes'!$A17","v":0},{"$f":"'Importation classes'!$A18","v":0},{"$f":"'Importation classes'!$A19","v":0},{"$f":"'Importation classes'!$A20","v":0},{"$f":"'Importation classes'!$A21","v":0},{"$f":"'Importation classes'!$A22","v":0},{"$f":"'Importation classes'!$A23","v":0},{"$f":"'Importation classes'!$A24","v":0},{"$f":"'Importation classes'!$A25","v":0},{"$f":"'Importation classes'!$A26","v":0},{"$f":"'Importation classes'!$A27","v":0},{"$f":"'Importation classes'!$A28","v":0},{"$f":"'Importation classes'!$A29","v":0},{"$f":"'Importation classes'!$A30","v":0},{"$f":"'Importation classes'!$A31","v":0},{"$f":"'Importation classes'!$A32","v":0},{"$f":"'Importation classes'!$A33","v":0},{"$f":"'Importation classes'!$A34","v":0},{"$f":"'Importation classes'!$A35","v":0},{"$f":"'Importation classes'!$A36","v":0},{"$f":"'Importation classes'!$A37","v":0},{"$f":"'Importation classes'!$A38","v":0},{"$f":"'Importation classes'!$A39","v":0},{"$f":"'Importation classes'!$A40","v":0},{"$f":"'Importation classes'!$A41","v":0},null,{"$f":"'Importation classes'!$A3","v":0},{"$f":"'Importation classes'!$A4","v":0},{"$f":"'Importation classes'!$A5","v":0},{"$f":"'Importation classes'!$A6","v":0},{"$f":"'Importation classes'!$A7","v":0},{"$f":"'Importation classes'!$A8","v":0},{"$f":"'Importation classes'!$A9","v":0},{"$f":"'Importation classes'!$A10","v":0},{"$f":"'Importation classes'!$A11","v":0},{"$f":"'Importation classes'!$A12","v":0},{"$f":"'Importation classes'!$A13","v":0},{"$f":"'Importation classes'!$A14","v":0},{"$f":"'Importation classes'!$A15","v":0},{"$f":"'Importation classes'!$A16","v":0},{"$f":"'Importation classes'!$A17","v":0},{"$f":"'Importation classes'!$A18","v":0},{"$f":"'Importation classes'!$A19","v":0},{"$f":"'Importation classes'!$A20","v":0},{"$f":"'Importation classes'!$A21","v":0},{"$f":"'Importation classes'!$A22","v":0},{"$f":"'Importation classes'!$A23","v":0},{"$f":"'Importation classes'!$A24","v":0},{"$f":"'Importation classes'!$A25","v":0},{"$f":"'Importation classes'!$A26","v":0},{"$f":"'Importation classes'!$A27","v":0},{"$f":"'Importation classes'!$A28","v":0},{"$f":"'Importation classes'!$A29","v":0},{"$f":"'Importation classes'!$A30","v":0},{"$f":"'Importation classes'!$A31","v":0},{"$f":"'Importation classes'!$A32","v":0},{"$f":"'Importation classes'!$A33","v":0},{"$f":"'Importation classes'!$A34","v":0},{"$f":"'Importation classes'!$A35","v":0},{"$f":"'Importation classes'!$A36","v":0},{"$f":"'Importation classes'!$A37","v":0},{"$f":"'Importation classes'!$A38","v":0},{"$f":"'Importation classes'!$A39","v":0},{"$f":"'Importation classes'!$A40","v":0},{"$f":"'Importation classes'!$A41","v":0}]
[null,null,null,null,null,null,null,null,null,{"$f":"IF(E3=\"\",\"\",A3&\" \"&B3)","v":""},null,null,{"$f":"IF(E3=\"\",\"\",1)","v":""},{"$f":"IF($E3=N$2,$M3,\"\")","v":""},{"$f":"IF($E3=O$2,$M3,\"\")","v":""},{"$f":"IF($E3=P$2,$M3,\"\")","v":""},"","","","","","","","","","",{"$f":"IF($E3=AA$2,$M3,\"\")","v":""},"","","","","","","","","","","","","","","","","","","","","","","","","",1,{"$f":"IF($BA3>BB$34,\" \",LOOKUP($BA3,N$3:N$1030,eleves))","v":" "},{"$f":"IF($BA3>BC$34,\" \",LOOKUP($BA3,O$3:O$1030,eleves))","v":" "},{"$f":"IF($BA3>BD$34,\" \",LOOKUP($BA3,P$3:P$1030,eleves))","v":" "},{"$f":"IF($BA3>BE$34,\" \",LOOKUP($BA3,Q$3:Q$1030,eleves))","v":" "},{"$f":"IF($BA3>BF$34,\" \",LOOKUP($BA3,R$3:R$1030,eleves))","v":" "},{"$f":"IF($BA3>BG$34,\" \",LOOKUP($BA3,S$3:S$1030,eleves))","v":" "},{"$f":"IF($BA3>BH$34,\" \",LOOKUP($BA3,T$3:T$1030,eleves))","v":" "},{"$f":"IF($BA3>BI$34,\" \",LOOKUP($BA3,U$3:U$1030,eleves))","v":" "},{"$f":"IF($BA3>BJ$34,\" \",LOOKUP($BA3,V$3:V$1030,eleves))","v":" "},{"$f":"IF($BA3>BK$34,\" \",LOOKUP($BA3,W$3:W$1030,eleves))","v":" "},{"$f":"IF($BA3>BL$34,\" \",LOOKUP($BA3,X$3:X$1030,eleves))","v":" "},{"$f":"IF($BA3>BM$34,\" \",LOOKUP($BA3,Y$3:Y$1030,eleves))","v":" "},{"$f":"IF($BA3>BN$34,\" \",LOOKUP($BA3,Z$3:Z$1030,eleves))","v":" "},{"$f":"IF($BA3>BO$34,\" \",LOOKUP($BA3,AA$3:AA$1030,eleves))","v":" "},{"$f":"IF($BA3>BP$34,\" \",LOOKUP($BA3,AB$3:AB$1030,eleves))","v":" "},{"$f":"IF($BA3>BQ$34,\" \",LOOKUP($BA3,AC$3:AC$1030,eleves))","v":" "},{"$f":"IF($BA3>BR$34,\" \",LOOKUP($BA3,AD$3:AD$1030,eleves))","v":" "},{"$f":"IF($BA3>BS$34,\" \",LOOKUP($BA3,AE$3:AE$1030,eleves))","v":" "},{"$f":"IF($BA3>BT$34,\" \",LOOKUP($BA3,AF$3:AF$1030,eleves))","v":" "},{"$f":"IF($BA3>BU$34,\" \",LOOKUP($BA3,AG$3:AG$1030,eleves))","v":" "},{"$f":"IF($BA3>BV$34,\" \",LOOKUP($BA3,AH$3:AH$1030,eleves))","v":" "},{"$f":"IF($BA3>BW$34,\" \",LOOKUP($BA3,AI$3:AI$1030,eleves))","v":" "},{"$f":"IF($BA3>BX$34,\" \",LOOKUP($BA3,AJ$3:AJ$1030,eleves))","v":" "},{"$f":"IF($BA3>BY$34,\" \",LOOKUP($BA3,AK$3:AK$1030,eleves))","v":" "},{"$f":"IF($BA3>BZ$34,\" \",LOOKUP($BA3,AL$3:AL$1030,eleves))","v":" "},{"$f":"IF($BA3>CA$34,\" \",LOOKUP($BA3,AM$3:AM$1030,eleves))","v":" "},{"$f":"IF($BA3>CB$34,\" \",LOOKUP($BA3,AN$3:AN$1030,eleves))","v":" "},{"$f":"IF($BA3>CC$34,\" \",LOOKUP($BA3,AO$3:AO$1030,eleves))","v":" "},{"$f":"IF($BA3>CD$34,\" \",LOOKUP($BA3,AP$3:AP$1030,eleves))","v":" "},{"$f":"IF($BA3>CE$34,\" \",LOOKUP($BA3,AQ$3:AQ$1030,eleves))","v":" "},{"$f":"IF($BA3>CF$34,\" \",LOOKUP($BA3,AR$3:AR$1030,eleves))","v":" "},{"$f":"IF($BA3>CG$34,\" \",LOOKUP($BA3,AS$3:AS$1030,eleves))","v":" "},{"$f":"IF($BA3>CH$34,\" \",LOOKUP($BA3,AT$3:AT$1030,eleves))","v":" "},{"$f":"IF($BA3>CI$34,\" \",LOOKUP($BA3,AU$3:AU$1030,eleves))","v":" "},{"$f":"IF($BA3>CJ$34,\" \",LOOKUP($BA3,AV$3:AV$1030,eleves))","v":" "},{"$f":"IF($BA3>CK$34,\" \",LOOKUP($BA3,AW$3:AW$1030,eleves))","v":" "},{"$f":"IF($BA3>CL$34,\" \",LOOKUP($BA3,AX$3:AX$1030,eleves))","v":" "},{"$f":"IF($BA3>CM$34,\" \",LOOKUP($BA3,AY$3:AY$1030,eleves))","v":" "},{"$f":"IF($BA3>CN$34,\" \",LOOKUP($BA3,AZ$3:AZ$1030,eleves))","v":" "}]
[null,null,null,null,null,null,null,null,null,{"$f":"IF(E4=\"\",\"\",A4&\" \"&B4)","v":""},null,null,{"$f":"IF(E4=\"\",\"\",IF(E4=E3,M3+1,1))","v":""},{"$f":"IF($E4=N$2,$M4,\"\")","v":""},{"$f":"IF($E4=O$2,$M4,\"\")","v":""},"","","","","","","","","","","","","","","","","","","","","","","","","","","","","","","","","","","","","",2," "," "," "," "," "," "," "," "," "," "," "," "," "," "," "," "," "," "," "," "," "," "," "," "," "," "," "," "," "," "," "," "," "," "," "," "," "," "," "]
[null,null,null,null,null,null,null,null,null,"",null,null,{"$f":"IF(E5=\"\",\"\",IF(E5=E4,M4+1,1))","v":""},"","","","","","","","","","","","","","","","","","","","","","","","","","","","","","","","","","","","","","","",3," "," "," "," "," "," "," "," "," "," "," "," "," "," "," "," "," "," "," "," "," "," "," "," "," "," "," "," "," "," "," "," "," "," "," "," "," "," "," "]
[null,null,null,null,null,null,null,null,null,"",null,null,"","","","","","","","","","","","","","","","","","","","","","","","","","","","","","","","","","","","","","","","",4," "," "," "," "," "," "," "," "," "," "," "," "," "," "," "," "," "," "," "," "," "," "," "," "," "," "," "," "," "," "," "," "," "," "," "," "," "," "," "]
[null,null,null,null,null,null,null,null,null,"",null,null,"","","","","","","","","","","","","","","","","","","","","","","","","","","","","","","","","","","","","","","","",5," "," "," "," "," "," "," "," "," "," "," "," "," "," "," "," "," "," "," "," "," "," "," "," "," "," "," "," "," "," "," "," "," "," "," "," "," "," "," "]
[null,null,null,null,null,null,null,null,null,"",null,null,"","","","","","","","","","","","","","","","","","","","","","","","","","","","","","","","","","","","","","","","",6," "," "," "," "," "," "," "," "," "," "," "," "," "," "," "," "," "," "," "," "," "," "," "," "," "," "," "," "," "," "," "," "," "," "," "," "," "," "," "]
[null,null,null,null,null,null,null,null,null,"",null,null,"","","","","","","","","","","","","","","","","","","","","","","","","","","","","","","","","","","","",{"$f":"IF($E9=AW$2,$M9,\"\")","v":""},{"$f":"IF($E9=AX$2,$M9,\"\")","v":""},{"$f":"IF($E9=AY$2,$M9,\"\")","v":""},{"$f":"IF($E9=AZ$2,$M9,\"\")","v":""},7," "," "," "," "," "," "," "," "," "," "," "," "," "," "," "," "," "," "," "," "," "," "," "," "," "," "," "," "," "," "," "," "," "," "," "," "," "," "," "]
[null,null,null,null,null,null,null,null,null,"",null,null,"","","",{"$f":"IF($E10=P$2,$M10,\"\")","v":""},"","","","","","","","","","","","","","",{"$f":"IF($E10=AE$2,$M10,\"\")","v":""},"","","","","","","","","","","","","","","",{"$f":"IF($E10=AU$2,$M10,\"\")","v":""},"","","","","",8," "," "," "," "," "," "," "," "," "," "," "," "," "," "," "," "," "," "," "," "," "," "," "," "," "," "," "," "," "," "," "," "," "," "," "," "," "," "," "]
[null,null,null,null,null,null,null,null,null,"",null,null,"","","","","","","","","","","","","","","","","","","","","","","","","","","","","","","","","","","","","","","","",9," "," "," "," "," "," "," "," "," "," "," "," "," "," "," "," "," "," "," "," "," "," "," "," "," "," "," "," "," "," "," "," "," "," "," "," "," "," "," "]
[null,null,null,null,null,null,null,null,null,"",null,null,"","","","","","","","","","","","","","","","","","","","","","","","","","","","","","","","","","","","","","","","",10," "," "," "," "," "," "," "," "," "," "," "," "," "," "," "," "," "," "," "," "," "," "," "," "," "," "," "," "," "," "," "," "," "," "," "," "," "," "," "]
[null,null,null,null,null,null,null,null,null,"",null,null,"","","","","","","","","","","","","","","","","","","","","","","","","","","","","","","","","","","","","","","","",11," "," "," "," "," "," "," "," "," "," "," "," "," "," "," "," "," "," "," "," "," "," "," "," "," "," "," "," "," "," "," "," "," "," "," "," "," "," "," "]
[null,null,null,null,null,null,null,null,null,"",null,null,"","","","","","","","","","","","","","","","","","","","","","","","","","","","","","","","","","","","","","","","",12," "," "," "," "," "," "," "," "," "," "," "," "," "," "," "," "," "," "," "," "," "," "," "," "," "," "," "," "," "," "," "," "," "," "," "," "," "," "," "]
[null,null,null,null,null,null,null,null,null,"",null,null,"","","","","","","","","","","","","","","","","","","","","","","","","","","","","","","","","","","","","","","","",13," "," "," "," "," "," "," "," "," "," "," "," "," "," "," "," "," "," "," "," "," "," "," "," "," "," "," "," "," "," "," "," "," "," "," "," "," "," "," "]
[null,null,null,null,null,null,null,null,null,"",null,null,"","","","","","","","","","","","","","","","","","","","","","","","","","","","","","","","","","","","","","","","",14," "," "," "," "," "," "," "," "," "," "," "," "," "," "," "," "," "," "," "," "," "," "," "," "," "," "," "," "," "," "," "," "," "," "," "," "," "," "," "]
[null,null,null,null,null,null,null,null,null,"",null,null,"","","","","","","","","","","","","","","","","","","","","","","","","","","","","","","","","","","","","","","","",15," "," "," "," "," "," "," "," "," "," "," "," "," "," "," "," "," "," "," "," "," "," "," "," "," "," "," "," "," "," "," "," "," "," "," "," "," "," "," "]
[null,null,null,null,null,null,null,null,null,"",null,null,"","","","","","","","","","","","","","","","","","","","","","","","","","","","","","","","","","","","","","","","",16," "," "," "," "," "," "," "," "," "," "," "," "," "," "," "," "," "," "," "," "," "," "," "," "," "," "," "," "," "," "," "," "," "," "," "," "," "," "," "]
[null,null,null,null,null,null,null,null,null,"",null,null,"","","","","","","","","","","","","","","","","","","","","","","","","","","","","","","","","","","","","","","","",17," "," "," "," "," "," "," "," "," "," "," "," "," "," "," "," "," "," "," "," "," "," "," "," "," "," "," "," "," "," "," "," "," "," "," "," "," "," "," "]
[null,null,null,null,null,null,null,null,null,"",null,null,"","","","","","","","","","","","","","","","","","","","","","","","","","","","","","","","","","","","","","","","",18," "," "," "," "," "," "," "," "," "," "," "," "," "," "," "," "," "," "," "," "," "," "," "," "," "," "," "," "," "," "," "," "," "," "," "," "," "," "," "]
[null,null,null,null,null,null,null,null,null,"",null,null,"","","","","","","","","","","","","","","","","","","","","","","","","","","","","","","","","","","","","","","","",19," "," "," "," "," "," "," "," "," "," "," "," "," "," "," "," "," "," "," "," "," "," "," "," "," "," "," "," "," "," "," "," "," "," "," "," "," "," "," "]
[null,null,null,null,null,null,null,null,null,"",null,null,"","","","","","","","","","","","","","","","","","","","","","","","","","","","","","","","","","","","","","","","",20," "," "," "," "," "," "," "," "," "," "," "," "," "," "," "," "," "," "," "," "," "," "," "," "," "," "," "," "," "," "," "," "," "," "," "," "," "," "," "]
[null,null,null,null,null,null,null,null,null,"",null,null,"","","","","","","","","","","","","","","","","","","","","","","","","","","","","","","","","","","","","","","","",21," "," "," "," "," "," "," "," "," "," "," "," "," "," "," "," "," "," "," "," "," "," "," "," "," "," "," "," "," "," "," "," "," "," "," "," "," "," "," "]
[null,null,null,null,null,null,null,null,null,"",null,null,"","","","","","","","","","","","","","","","","","","","","","","","","","","","","","","","","","","","","","","","",22," "," "," "," "," "," "," "," "," "," "," "," "," "," "," "," "," "," "," "," "," "," "," "," "," "," "," "," "," "," "," "," "," "," "," "," "," "," "," "]
[null,null,null,null,null,null,null,null,null,"",null,null,"","","","","","","","","","","",{"$f":"IF($E25=X$2,$M25,\"\")","v":""},"","","","","","","","","","","","","","","","","","","","","","","","","","","","",23," "," "," "," "," "," "," "," "," "," "," "," "," "," "," "," "," "," "," "," "," "," "," "," "," "," "," "," "," "," "," "," "," "," "," "," "," "," "," "]
[null,null,null,null,null,null,null,null,null,"",null,null,"",{"$f":"IF($E26=N$2,$M26,\"\")","v":""},"",{"$f":"IF($E26=P$2,$M26,\"\")","v":""},"","","","","","","","","","","","","","","","","","","","","","","","","","","","","","","","","","","","",24," "," "," "," "," "," "," "," "," "," "," "," "," "," "," "," "," "," "," "," "," "," "," "," "," "," "," "," "," "," "," "," "," "," "," "," "," "," "," "]
[null,null,null,null,null,null,null,null,null,"",null,null,"","","","","","","","","","","","","","","","","","","","","","","","","","","","",{"$f":"IF($E27=AO$2,$M27,\"\")","v":""},"","","","","","","","","","","",25," "," "," "," "," "," "," "," "," "," "," "," "," "," "," "," "," "," "," "," "," "," "," "," "," "," "," "," "," "," "," "," "," "," "," "," "," "," "," "]
[null,null,null,null,null,null,null,null,null,"",null,null,"","","","","","","","","","","","","","","","","","","","","","","","","","","",{"$f":"IF($E28=AN$2,$M28,\"\")","v":""},"","","","","","","","","","","","",26," "," "," "," "," "," "," "," "," "," "," "," "," "," "," "," "," "," "," "," "," "," "," "," "," "," "," "," "," "," "," "," "," "," "," "," "," "," "," "]
[null,null,null,null,null,null,null,null,null,"",null,null,"","","","","","","","","","","","","","","","","","","","","","","","","","","","","","","","","","","","","","","","",27," "," "," "," "," "," "," "," "," "," "," "," "," "," "," "," "," "," "," "," "," "," "," "," "," "," "," "," "," "," "," "," "," "," "," "," "," "," "," "]
[null,null,null,null,null,null,null,null,null,"",null,null,"","","","","","","","","","","","","","","","","","","","","","","","","","","","","","","","","","","","","","","","",28," "," "," "," "," "," "," "," "," "," "," "," "," "," "," "," "," "," "," "," "," "," "," "," "," "," "," "," "," "," "," "," "," "," "," "," "," "," "," "]
[null,null,null,null,null,null,null,null,null,"",null,null,"","","","","","","","","","","","","","","","","","","","","","","","","","","","","","","","","","","","","","","","",29," "," "," "," "," "," "," "," "," "," "," "," "," "," "," "," "," "," "," "," "," "," "," "," "," "," "," "," "," "," "," "," "," "," "," "," "," "," "," "]
[null,null,null,null,null,null,null,null,null,"",null,null,"","","","","","","","","","","","","","","","","","","","","","","","","","","","","","","","","","","","","","","","",30," "," "," "," "," "," "," "," "," "," "," "," "," "," "," "," "," "," "," "," "," "," "," "," "," "," "," "," "," "," "," "," "," "," "," "," "," "," "," "]
[null,null,null,null,null,null,null,null,null,"",null,null,"","","","","","","","","","","","","","","","","","","","","","","","","","","","","","","","","","","","","","","",""]
[null,null,null,null,null,null,null,null,null,"",null,null,"","","","","","","","","","","","","","","","","","","","","","","","","","","","","","","","","","","","","","","","",null,{"$f":"COUNTIF(nbelevesclasses,BB2)","v":0},0,0,0,0,0,0,0,0,0,0,0,0,0,0,0,0,0,0,0,0,0,0,0,0,0,0,0,0,0,0,0,0,0,0,0,0,0,0]
[null,null,null,null,null,null,null,null,null,"",null,null,"","","","","","","","","","","","","","","","","","","","","","","","","","","","","","","","","","","","","","","",""]
[null,null,null,null,null,null,null,null,null,"",null,null,"","","","","","","","","","","","","","","","","","","","","","","","","","","","","","","","","","","","","","","",""]
[null,null,null,null,null,null,null,null,null,"",null,null,"","","","","","","","","","","","","","","","","","","","","","","","","","","","","","","","","","","","","","","",""]
[null,null,null,null,null,null,null,null,null,"",null,null,"","","","","","","","","","","","","","","","","","","","","","","","","","","","","","","","","","","","","","","",""]
[null,null,null,null,null,null,null,null,null,"",null,null,"","","","","","","","","","","","","","","","","","","","","","","","","","","","","","","","","","","","","","","",""]
[null,null,null,null,null,null,null,null,null,"",null,null,"","","","","","","","","","","","","","","","","","","","","","","","","","","","","","","","","","","","","","","",""]
[null,null,null,null,null,null,null,null,null,"",null,null,"","","","","","","","","","","","","","","","","",{"$f":"IF($E41=AD$2,$M41,\"\")","v":""},"","","","","","","","","","","","","","","","","","","","","",""]
[null,null,null,null,null,null,null,null,null,"",null,null,"",{"$f":"IF($E42=N$2,$M42,\"\")","v":""},"",{"$f":"IF($E42=P$2,$M42,\"\")","v":""},"","","","","","","","","","","","","","","","","","","","","","","","","","","","","","","","","","","",""]
[null,null,null,null,null,null,null,null,null,"",null,null,"","","","","","","","","","","","","","","","","","","","","","","","","","","","","","","","","","","","","","","",""]
[null,null,null,null,null,null,null,null,null,"",null,null,"","","","","","","","","","","","","","","","","","","","","","","","","","","","","","","","","","","","","","","",""]
[null,null,null,null,null,null,null,null,null,"",null,null,"","","","","","","","","","","","","","","","","","","","","","","","","","","","","","","","","","","","","","","",""]
[null,null,null,null,null,null,null,null,null,"",null,null,"","","","","","","","","","","","","","","","","","","","","","","","","","","","","","","","","","","","","","","",""]
[null,null,null,null,null,null,null,null,null,"",null,null,"","","","","","","","","","","","","","","","","","","","","","","","","","","","","","","","","","","","","","","",""]
[null,null,null,null,null,null,null,null,null,"",null,null,"","","","","","","","","","","","","","","","","","","","","","","","","","","","","","","","","","","","","","","",""]
[null,null,null,null,null,null,null,null,null,"",null,null,"","","","","","","","","","","","","","","","","","","","","","","","","","","","","","","","","","","","","","","",""]
[null,null,null,null,null,null,null,null,null,"",null,null,"","","","","","","","","","","","","","","","","","","","","","","","","","","","","","","","","","","","","","","",""]
[null,null,null,null,null,null,null,null,null,"",null,null,"","","","","","","","","","","","","","","","","","","","","","","","","","","","","","","","","","","","","","","",""]
[null,null,null,null,null,null,null,null,null,"",null,null,"","","","","","","","","","","","","","","","","","","","","","","","","","","","","","","","","","","","","","","",""]
[null,null,null,null,null,null,null,null,null,"",null,null,"","","","","","","","","","","","","","","","","","","","","","","","","","","","","","","","","","","",{"$f":"IF($E53=AV$2,$M53,\"\")","v":""},{"$f":"IF($E53=AW$2,$M53,\"\")","v":""},{"$f":"IF($E53=AX$2,$M53,\"\")","v":""},{"$f":"IF($E53=AY$2,$M53,\"\")","v":""},{"$f":"IF($E53=AZ$2,$M53,\"\")","v":""}]
[null,null,null,null,null,null,null,null,null,"",null,null,"","","","","","","","","","","","","","","","","","","","","","","","","","","","","","","","","",{"$f":"IF($E54=AT$2,$M54,\"\")","v":""},"","","","","",""]
[null,null,null,null,null,null,null,null,null,"",null,null,"","","","","","","","","","","","","","","","","","","","","","","","","","","","","","","","","","","","","","","",""]
[null,null,null,null,null,null,null,null,null,"",null,null,"","","","","","","","","","","","","","","","","","","","","","","","","","","","","","","","","","","","","","","",""]
[null,null,null,null,null,null,null,null,null,"",null,null,"","","","","","","","","","","","","","","","","",{"$f":"IF($E57=AD$2,$M57,\"\")","v":""},"","","","","","","","","","","","","","","","","","","","","",""]
[null,null,null,null,null,null,null,null,null,"",null,null,"",{"$f":"IF($E58=N$2,$M58,\"\")","v":""},"",{"$f":"IF($E58=P$2,$M58,\"\")","v":""},"","","","","","","","","","","","","","","","","","","","","","","","","","","","","","","","","","","",""]
[null,null,null,null,null,null,null,null,null,"",null,null,"","","","","","","","","","","","","","","","","","","","","","","","","","","","","","","","","","","","","","","",""]
[null,null,null,null,null,null,null,null,null,"",null,null,"","","","","","","","","","","","","","","","","","","","","","","","","","","","","","","","","","","","","","","",""]
[null,null,null,null,null,null,null,null,null,"",null,null,"","","","","","","","","","","","","","","","","","","","","","","","","","","","","","","","","","","","","","","",""]
[null,null,null,null,null,null,null,null,null,"",null,null,"","","","","","","","","","","","","","","","","","","","","","","","","","","","","","","","","","","","","","","",""]
[null,null,null,null,null,null,null,null,null,"",null,null,"","","","","","","","","","","","","","","","","","","","","","","","","","","","","","","","","","","","","","","",""]
[null,null,null,null,null,null,null,null,null,"",null,null,"","","","","","","","","","","","","","","","","","","","","","","","","","","","","","","","","","","","","","","",""]
[null,null,null,null,null,null,null,null,null,"",null,null,"","","","","","","","","","","","","","","","","","","","","","","","","","","","","","","","","","","","","","","",""]
[null,null,null,null,null,null,null,null,null,"",null,null,"","","","","","","","","","","","","","","","","","","","","","","","","","","","","","","","","","","","","","","",""]
[null,null,null,null,null,null,null,null,null,"",null,null,"","","","","","","","","","","","","","","","","","","","","","","","","","","","","","","","","","","","","","","",""]
[null,null,null,null,null,null,null,null,null,{"$f":"IF(E68=\"\",\"\",A68&\" \"&B68)","v":""},null,null,"","",{"$f":"IF($E68=O$2,$M68,\"\")","v":""},"","","","","","","","","","","","","","","","","","","","","","","","","","","","","","","","","","","","",""]
[null,null,null,null,null,null,null,null,null,"",null,null,{"$f":"IF(E69=\"\",\"\",IF(E69=E68,M68+1,1))","v":""},"","","","","","","","","","","","","","","","","","","","","","","","","","","","","","","","","","","","","","",""]
[null,null,null,null,null,null,null,null,null,"",null,null,"","","","","","","","","","","","","","","","","","","","","","","","","","","","","","","","","","","","","","","",""]
[null,null,null,null,null,null,null,null,null,"",null,null,"","","","","","","","","","","","","","","","","","","","","","","","","","","","","","","","","","","","","","","",""]
[null,null,null,null,null,null,null,null,null,"",null,null,"","","","","","","","","","","","","","","","","","","","","","","","","","","","","","","","","","","","","","","",""]
[null,null,null,null,null,null,null,null,null,"",null,null,"","","","","","","","","","","","","","","","","",{"$f":"IF($E73=AD$2,$M73,\"\")","v":""},"","","","","","","","","","","","","","","","","","","","","",""]
[null,null,null,null,null,null,null,null,null,"",null,null,"",{"$f":"IF($E74=N$2,$M74,\"\")","v":""},"",{"$f":"IF($E74=P$2,$M74,\"\")","v":""},"","","","","","","","","","","","","","","","","","","","","","","","","","","","","","","","","","","",""]
[null,null,null,null,null,null,null,null,null,"",null,null,"","","","","","","","","","","","","","","","","","","","","","","","","","","","","","","","","","","","","","","",""]
[null,null,null,null,null,null,null,null,null,"",null,null,"","","","","","","","","","","","","","","","","","","","","","","","","","","","","","","","","","","","","","","",""]
[null,null,null,null,null,null,null,null,null,"",null,null,"","","","","","","","","","","","","","","","","","","","","","","","","","","","","","","","","","","","","","","",""]
[null,null,null,null,null,null,null,null,null,"",null,null,"","","","","","","","","","","","","","","","","","","","","","","","","","","","","","","","","","","","","","","",""]
[null,null,null,null,null,null,null,null,null,"",null,null,"","","","","","","","","","","","","","","","","","","","","","","","","","","","","","","","","","","","","","","",""]
[null,null,null,null,null,null,null,null,null,"",null,null,"","","","","","","","","","","","","","","","","","","","","","","","","","","","","","","","","","","","","","","",""]
[null,null,null,null,null,null,null,null,null,"",null,null,"","","","","","","","","","","","","","","","","","","","","","","","","","","","","","","","","","","","","","","",""]
[null,null,null,null,null,null,null,null,null,"",null,null,"","","","","","","","","","","","","","","","","","","","","","","","","","","","","","","","","","","","","","","",""]
[null,null,null,null,null,null,null,null,null,"",null,null,"","","","","","","","","","","","","","","","","","","","","","","","","","","","","","","","","","","","","","","",""]
[null,null,null,null,null,null,null,null,null,"",null,null,"","","","","","","","","","","","","","","","","","","","","","","","","","","","","","","","","","","","","","","",""]
[null,null,null,null,null,null,null,null,null,"",null,null,"","","","","","","","","","","","","","","","","","","","","","","","","","","","","","","","","","","","","","","",""]
[null,null,null,null,null,null,null,null,null,"",null,null,"","","","","","","","","","","","","","","","","","","","","","","","","","","","","","","","","","","","","","","",""]
[null,null,null,null,null,null,null,null,null,"",null,null,"","","","","","","","","","","","","","","","","","","","","","","","","","","","","","","","","","","","","","","",""]
[null,null,null,null,null,null,null,null,null,"",null,null,"","","","","","","","","","","","","","","","","","","","","","","","","","","","","","","","","","","","","","","",""]
[null,null,null,null,null,null,null,null,null,"",null,null,"","","","","","","","","","","","","","","","","",{"$f":"IF($E89=AD$2,$M89,\"\")","v":""},"","","","","","","","","","","","","","","","","","","","","",""]
[null,null,null,null,null,null,null,null,null,"",null,null,"","","",{"$f":"IF($E90=P$2,$M90,\"\")","v":""},"","","","","","","","","","","","","","","","","","","","","","","","","","","","","","","","",{"$f":"IF($E90=AW$2,$M90,\"\")","v":""},{"$f":"IF($E90=AX$2,$M90,\"\")","v":""},{"$f":"IF($E90=AY$2,$M90,\"\")","v":""},{"$f":"IF($E90=AZ$2,$M90,\"\")","v":""}]
[null,null,null,null,null,null,null,null,null,"",null,null,"","","","","","","","","","","","","","","","","","","","","","","","","","","","","","","","","",{"$f":"IF($E91=AT$2,$M91,\"\")","v":""},"","","","","",""]
[null,null,null,null,null,null,null,null,null,"",null,null,"","","","","","","","","","","","","","","","","","","","","","","","","","","","","","","","","","","","","","","",""]
[null,null,null,null,null,null,null,null,null,"",null,null,"","","","","","","","","","","","","","","","","","","","","","","","","","","","","","","","","","","","","","","",""]
[null,null,null,null,null,null,null,null,null,"",null,null,"","","","","","","","","","","","","","","","","","","","","","","","","","","","","","","","","","","","","","","",""]
[null,null,null,null,null,null,null,null,null,"",null,null,"","","","","","","","","","","","","","","","","","","","","","","","","","","","","","","","","","","","","","","",""]
[null,null,null,null,null,null,null,null,null,"",null,null,"","","","","","","","","","","","","","","","","","","","","","","","","","","","","","","","","","","","","","","",""]
[null,null,null,null,null,null,null,null,null,"",null,null,"",{"$f":"IF($E97=N$2,$M97,\"\")","v":""},"","","","","","","","","","","","","","","","","","","","","","","","","","","","","","","","","","","","","",""]
[null,null,null,null,null,null,null,null,null,"",null,null,"","","","","","","","","","","","","","","","","","","","","","","","","","","","","","","","","","","","","","","",""]
[null,null,null,null,null,null,null,null,null,"",null,null,"","","","","","","","","","","","","","","","","","","","","","","","","","","","","","","","","","","","","","","",""]
[null,null,null,null,null,null,null,null,null,"",null,null,"","","","","","","","","","","","","","","","","","","","","","","","","","","","","","","","","","","","","","","",""]
[null,null,null,null,null,null,null,null,null,"",null,null,"","","","","","","","","","","","","","","","","","","","","","","","","","","","","","","","","","","","","","","",""]
[null,null,null,null,null,null,null,null,null,"",null,null,"","","","","","","","","","","","","","","","","","","","","","","","","","","","","","","","","","","","","","","",""]
[null,null,null,null,null,null,null,null,null,"",null,null,"","","","","","","","","","","","","","","","","","","","","","","","","","","","","","","","","","","","","","","",""]
[null,null,null,null,null,null,null,null,null,"",null,null,"","","","","","","","","","","","","","","","","","","","","","","","","","","","","","","","","","","","","","","",""]
[null,null,null,null,null,null,null,null,null,"",null,null,"","","","","","","","","","","","","","","","","",{"$f":"IF($E105=AD$2,$M105,\"\")","v":""},"","","","","","","","","","","","","","","","","","","","","",""]
[null,null,null,null,null,null,null,null,null,"",null,null,"","","",{"$f":"IF($E106=P$2,$M106,\"\")","v":""},"","","","","","","","","","","","","","","","","","","","","","","","","","","","","","","","","","","",""]
[null,null,null,null,null,null,null,null,null,"",null,null,"","","","","","","","","","","","","","","","","","","","","","","","","","","","","","","","","","","","","","","",""]
[null,null,null,null,null,null,null,null,null,"",null,null,"","","","","","","","","","","","","","","","","","","","","","","","","","","","","","","","","","","","","","","",""]
[null,null,null,null,null,null,null,null,null,"",null,null,"","","","","","","","","","","","","","","","","","","","","","","","","","","","","","","","","","","","","","","",""]
[null,null,null,null,null,null,null,null,null,"",null,null,"","","","","","","","","","","","","","","","","","","","","","","","","","","","","","","","","","","","","","","",""]
[null,null,null,null,null,null,null,null,null,"",null,null,"","","","","","","","","","","","","","","","","","","","","","","","","","","","","","","","","","","","","","","",""]
[null,null,null,null,null,null,null,null,null,"",null,null,"","","","","","","","","","","","","","","","","","","","","","","","","","","","","","","","","","","","","","","",""]
[null,null,null,null,null,null,null,null,null,"",null,null,"",{"$f":"IF($E113=N$2,$M113,\"\")","v":""},"","","","","","","","","","","","","","","","","","","","","","","","","","","","","","","","","","","","","",""]
[null,null,null,null,null,null,null,null,null,"",null,null,"","","","","","","","","","","","","","","","","","","","","","","","","","","","","","","","","","","","","","","",""]
[null,null,null,null,null,null,null,null,null,"",null,null,"","","","","","","","","","","","","","","","","","","","","","","","","","","","","","","","","","","","","","","",""]
[null,null,null,null,null,null,null,null,null,"",null,null,"","","","","","","","","","","","","","","","","","","","","","","","","","","","","","","","","","","","","","","",""]
[null,null,null,null,null,null,null,null,null,"",null,null,"","","","","","","","","","","","","","","","","","","","","","","","","","","","","","","","","","","","","","","",""]
[null,null,null,null,null,null,null,null,null,"",null,null,"","","","","","","","","","","","","","","","","","","","","","","","","","","","","","","","","","","","","","","",""]
[null,null,null,null,null,null,null,null,null,"",null,null,"","","","","","","","","","","","","","","","","","","","","","","","","","","","","","","","","","","","","","","",""]
[null,null,null,null,null,null,null,null,null,"",null,null,"","","","","","","","","","","","","","","","","","","","","","","","","","","","","","","","","","","","","","","",""]
[null,null,null,null,null,null,null,null,null,"",null,null,"","","","","","","","","","","","","","","","","",{"$f":"IF($E121=AD$2,$M121,\"\")","v":""},"","","","","","","","","","","","","","","","","","","","","",""]
[null,null,null,null,null,null,null,null,null,"",null,null,"","","",{"$f":"IF($E122=P$2,$M122,\"\")","v":""},"","","","","","","","","","","","","","","","","","","","","","","","","","","","","","","","","","","",""]
[null,null,null,null,null,null,null,null,null,"",null,null,"","","","","","","","","","","","","","","","","","","","","","","","","","","","","","","","","","","","","","","",""]
[null,null,null,null,null,null,null,null,null,"",null,null,"","","","","","","","","","","","","","","","","","","","","","","","","","","","","","","","","","","","","","","",""]
[null,null,null,null,null,null,null,null,null,"",null,null,"","","","","","","","","","","","","","","","","","","","","","","","","","","","","","","","","","","","","","","",""]
[null,null,null,null,null,null,null,null,null,"",null,null,"","","","","","","","","","","","","","","","","","","","","","","","","","","","","","","","","","","","","","","",""]
[null,null,null,null,null,null,null,null,null,"",null,null,"","","","","","","","","","","","","","","","","","","","","","","","","","","","","","","","","","","","",{"$f":"IF($E127=AW$2,$M127,\"\")","v":""},{"$f":"IF($E127=AX$2,$M127,\"\")","v":""},{"$f":"IF($E127=AY$2,$M127,\"\")","v":""},{"$f":"IF($E127=AZ$2,$M127,\"\")","v":""}]
[null,null,null,null,null,null,null,null,null,"",null,null,"","","","","","","","","","","","","","","","","","","","","","","","","","","","","","","","","",{"$f":"IF($E128=AT$2,$M128,\"\")","v":""},"","","","","",""]
[null,null,null,null,null,null,null,null,null,"",null,null,"",{"$f":"IF($E129=N$2,$M129,\"\")","v":""},"","","","","","","","","","","","","","","","","","","","","","","","","","","","","","","","","","","","","",""]
[null,null,null,null,null,null,null,null,null,"",null,null,"","","","","","","","","","","","","","","","","","","","","","","","","","","","","","","","","","","","","","","",""]
[null,null,null,null,null,null,null,null,null,"",null,null,"","","","","","","","","","","","","","","","","","","","","","","","","","","","","","","","","","","","","","","",""]
[null,null,null,null,null,null,null,null,null,{"$f":"IF(E132=\"\",\"\",A132&\" \"&B132)","v":""},null,null,"","",{"$f":"IF($E132=O$2,$M132,\"\")","v":""},"","","","","","","","","","","","","","","","","","","","","","","","","","","","","","","","","","","","",""]
[null,null,null,null,null,null,null,null,null,"",null,null,{"$f":"IF(E133=\"\",\"\",IF(E133=E132,M132+1,1))","v":""},"","","","","","","","","","","","","","","","","","","","","","","","","","","","","","","","","","","","","","",""]
[null,null,null,null,null,null,null,null,null,"",null,null,"","","","","","","","","","","","","","","","","","","","","","","","","","","","","","","","","","","","","","","",""]
[null,null,null,null,null,null,null,null,null,"",null,null,"","","","","","","","","","","","","","","","","","","","","","","","","","","","","","","","","","","","","","","",""]
[null,null,null,null,null,null,null,null,null,"",null,null,"","","","","","","","","","","","","","","","","","","","","","","","","","","","","","","","","","","","","","","",""]
[null,null,null,null,null,null,null,null,null,"",null,null,"","","","","","","","","","","","","","","","","",{"$f":"IF($E137=AD$2,$M137,\"\")","v":""},"","","","","","","","","","","","","","","","","","","","","",""]
[null,null,null,null,null,null,null,null,null,"",null,null,"","","",{"$f":"IF($E138=P$2,$M138,\"\")","v":""},"","","","","","","","","","","","","","","","","","","","","","","","","","","","","","","","","","","",""]
[null,null,null,null,null,null,null,null,null,"",null,null,"","","","","","","","","","","","","","","","","","","","","","","","","","","","","","","","","","","","","","","",""]
[null,null,null,null,null,null,null,null,null,"",null,null,"","","","","","","","","","","","","","","","","","","","","","","","","","","","","","","","","","","","","","","",""]
[null,null,null,null,null,null,null,null,null,"",null,null,"","","","","","","","","","","","","","","","","","","","","","","","","","","","","","","","","","","","","","","",""]
[null,null,null,null,null,null,null,null,null,"",null,null,"","","","","","","","","","","","","","","","","","","","","","","","","","","","","","","","","","","","","","","",""]
[null,null,null,null,null,null,null,null,null,"",null,null,"","","","","","","","","","","","","","","","","","","","","","","","","","","","","","","","","","","","","","","",""]
[null,null,null,null,null,null,null,null,null,"",null,null,"","","","","","","","","","","","","","","","","","","","","","","","","","","","","","","","","","","","","","","",""]
[null,null,null,null,null,null,null,null,null,"",null,null,"",{"$f":"IF($E145=N$2,$M145,\"\")","v":""},"","","","","","","","","","","","","","","","","","","","","","","","","","","","","","","","","","","","","",""]
[null,null,null,null,null,null,null,null,null,"",null,null,"","","","","","","","","","","","","","","","","","","","","","","","","","","","","","","","","","","","","","","",""]
[null,null,null,null,null,null,null,null,null,"",null,null,"","","","","","","","","","","","","","","","","","","","","","","","","","","","","","","","","","","","","","","",""]
[null,null,null,null,null,null,null,null,null,"",null,null,"","","","","","","","","","","","","","","","","","","","","","","","","","","","","","","","","","","","","","","",""]
[null,null,null,null,null,null,null,null,null,"",null,null,"","","","","","","","","","","","","","","","","","","","","","","","","","","","","","","","","","","","","","","",""]
[null,null,null,null,null,null,null,null,null,"",null,null,"","","","","","","","","","","","","","","","","","","","","","","","","","","","","","","","","","","","","","","",""]
[null,null,null,null,null,null,null,null,null,"",null,null,"","","","","","","","","","","","","","","","","","","","","","","","","","","","","","","","","","","","","","","",""]
[null,null,null,null,null,null,null,null,null,"",null,null,"","","","","","","","","","","","","","","","","","","","","","","","","","","","","","","","","","","","","","","",""]
[null,null,null,null,null,null,null,null,null,"",null,null,"","","","","","","","","","","","","","","","","",{"$f":"IF($E153=AD$2,$M153,\"\")","v":""},"","","","","","","","","","","","","","","","","","","","","",""]
[null,null,null,null,null,null,null,null,null,"",null,null,"","","",{"$f":"IF($E154=P$2,$M154,\"\")","v":""},"","","","","","","","","","","","","","","","","","","","","","","","","","","","","","","","","","","",""]
[null,null,null,null,null,null,null,null,null,"",null,null,"","","","","","","","","","","","","","","","","","","","","","","","","","","","","","","","","","","","","","","",""]
[null,null,null,null,null,null,null,null,null,"",null,null,"","","","","","","","","","","","","","","","","","","","","","","","","","","","","","","","","","","","","","","",""]
[null,null,null,null,null,null,null,null,null,"",null,null,"","","","","","","","","","","","","","","","","","","","","","","","","","","","","","","","","","","","","","","",""]
[null,null,null,null,null,null,null,null,null,"",null,null,"","","","","","","","","","","","","","","","","","","","","","","","","","","","","","","","","","","","","","","",""]
[null,null,null,null,null,null,null,null,null,"",null,null,"","","","","","","","","","","","","","","","","","","","","","","","","","","","","","","","","","","","","","","",""]
[null,null,null,null,null,null,null,null,null,"",null,null,"","","","","","","","","","","","","","","","","","","","","","","","","","","","","","","","","","","","","","","",""]
[null,null,null,null,null,null,null,null,null,"",null,null,"",{"$f":"IF($E161=N$2,$M161,\"\")","v":""},"","","","","","","","","","","","","","","","","","","","","","","","","","","","","","","","","","","","","",""]
[null,null,null,null,null,null,null,null,null,"",null,null,"","","","","","","","","","","","","","","","","","","","","","","","","","","","","","","","","","","","","","","",""]
[null,null,null,null,null,null,null,null,null,"",null,null,"","","","","","","","","","","","","","","","","","","","","","","","","","","","","","","","","","","","","","","",""]
[null,null,null,null,null,null,null,null,null,"",null,null,"","","","","","","","","","","","","","","","","","","","","","","","","","","","","","","","","","","","",{"$f":"IF($E164=AW$2,$M164,\"\")","v":""},{"$f":"IF($E164=AX$2,$M164,\"\")","v":""},{"$f":"IF($E164=AY$2,$M164,\"\")","v":""},{"$f":"IF($E164=AZ$2,$M164,\"\")","v":""}]
[null,null,null,null,null,null,null,null,null,"",null,null,"","","","","","","","","","","","","","","","","","","","","","","","","","","","","","","","","",{"$f":"IF($E165=AT$2,$M165,\"\")","v":""},"","","","","",""]
[null,null,null,null,null,null,null,null,null,"",null,null,"","","","","","","","","","","","","","","","","","","","","","","","","","","","","","","","","","","","","","","",""]
[null,null,null,null,null,null,null,null,null,"",null,null,"","","","","","","","","","","","","","","","","","","","","","","","","","","","","","","","","","","","","","","",""]
[null,null,null,null,null,null,null,null,null,"",null,null,"","","","","","","","","","","","","","","","","","","","","","","","","","","","","","","","","","","","","","","",""]
[null,null,null,null,null,null,null,null,null,"",null,null,"","","","","","","","","","","","","","","","","",{"$f":"IF($E169=AD$2,$M169,\"\")","v":""},"","","","","","","","","","","","","","","","","","","","","",""]
[null,null,null,null,null,null,null,null,null,"",null,null,"","","",{"$f":"IF($E170=P$2,$M170,\"\")","v":""},"","","","","","","","","","","","","","","","","","","","","","","","","","","","","","","","","","","",""]
[null,null,null,null,null,null,null,null,null,"",null,null,"","","","","","","","","","","","","","","","","","","","","","","","","","","","","","","","","","","","","","","",""]
[null,null,null,null,null,null,null,null,null,"",null,null,"","","","","","","","","","","","","","","","","","","","","","","","","","","","","","","","","","","","","","","",""]
[null,null,null,null,null,null,null,null,null,"",null,null,"","","","","","","","","","","","","","","","","","","","","","","","","","","","","","","","","","","","","","","",""]
[null,null,null,null,null,null,null,null,null,"",null,null,"","","","","","","","","","","","","","","","","","","","","","","","","","","","","","","","","","","","","","","",""]
[null,null,null,null,null,null,null,null,null,"",null,null,"","","","","","","","","","","","","","","","","","","","","","","","","","","","","","","","","","","","","","","",""]
[null,null,null,null,null,null,null,null,null,"",null,null,"","","","","","","","","","","","","","","","","","","","","","","","","","","","","","","","","","","","","","","",""]
[null,null,null,null,null,null,null,null,null,"",null,null,"","","","","","","","","","","","","","","","","","","","","","","","","","","","","","","","","","","","","","","",""]
[null,null,null,null,null,null,null,null,null,"",null,null,"","","","","","","","","","","","","","","","","","","","","","","","","","","","","","","","","","","","","","","",""]
[null,null,null,null,null,null,null,null,null,"",null,null,"","","","","","","","","","","","","","","","","","","","","","","","","","","","","","","","","","","","","","","",""]
[null,null,null,null,null,null,null,null,null,"",null,null,"","","","","","","","","","","","","","","","","","","","","","","","","","","","","","","","","","","","","","","",""]
[null,null,null,null,null,null,null,null,null,"",null,null,"","","","","","","","","","","","","","","","","","","","","","","","","","","","","","","","","","","","","","","",""]
[null,null,null,null,null,null,null,null,null,"",null,null,"","","","","","","","","","","","","","","","","","","","","","","","","","","","","","","","","","","","","","","",""]
[null,null,null,null,null,null,null,null,null,"",null,null,"","","","","","","","","","","","","","","","","","","","","","","","","","","","","","","","","","","","","","","",""]
[null,null,null,null,null,null,null,null,null,"",null,null,"",{"$f":"IF($E184=N$2,$M184,\"\")","v":""},"","","","","","","","","","","","","","","","","","","","","","","","","","","","","","","","","","","","","",""]
[null,null,null,null,null,null,null,null,null,"",null,null,"","","","","","","","","","","","","","","","","",{"$f":"IF($E185=AD$2,$M185,\"\")","v":""},"","","","","","","","","","","","","","","","","","","","","",""]
[null,null,null,null,null,null,null,null,null,"",null,null,"","","",{"$f":"IF($E186=P$2,$M186,\"\")","v":""},"","","","","","","","","","","","","","","","","","","","","","","","","","","","","","","","","","","",""]
[null,null,null,null,null,null,null,null,null,"",null,null,"","","","","","","","","","","","","","","","","","","","","","","","","","","","","","","","","","","","","","","",""]
[null,null,null,null,null,null,null,null,null,"",null,null,"","","","","","","","","","","","","","","","","","","","","","","","","","","","","","","","","","","","","","","",""]
[null,null,null,null,null,null,null,null,null,"",null,null,"","","","","","","","","","","","","","","","","","","","","","","","","","","","","","","","","","","","","","","",""]
[null,null,null,null,null,null,null,null,null,"",null,null,"","","","","","","","","","","","","","","","","","","","","","","","","","","","","","","","","","","","","","","",""]
[null,null,null,null,null,null,null,null,null,"",null,null,"","","","","","","","","","","","","","","","","","","","","","","","","","","","","","","","","","","","","","","",""]
[null,null,null,null,null,null,null,null,null,"",null,null,"","","","","","","","","","","","","","","","","","","","","","","","","","","","","","","","","","","","","","","",""]
[null,null,null,null,null,null,null,null,null,"",null,null,"","","","","","","","","","","","","","","","","","","","","","","","","","","","","","","","","","","","","","","",""]
[null,null,null,null,null,null,null,null,null,"",null,null,"","","","","","","","","","","","","","","","","","","","","","","","","","","","","","","","","","","","","","","",""]
[null,null,null,null,null,null,null,null,null,"",null,null,"","","","","","","","","","","","","","","","","","","","","","","","","","","","","","","","","","","","","","","",""]
[null,null,null,null,null,null,null,null,null,{"$f":"IF(E196=\"\",\"\",A196&\" \"&B196)","v":""},null,null,"","",{"$f":"IF($E196=O$2,$M196,\"\")","v":""},"","","","","","","","","","","","","","","","","","","","","","","","","","","","","","","","","","","","",""]
[null,null,null,null,null,null,null,null,null,"",null,null,{"$f":"IF(E197=\"\",\"\",IF(E197=E196,M196+1,1))","v":""},"","","","","","","","","","","","","","","","","","","","","","","","","","","","","","","","","","","","","","",""]
[null,null,null,null,null,null,null,null,null,"",null,null,"","","","","","","","","","","","","","","","","","","","","","","","","","","","","","","","","","","","","","","",""]
[null,null,null,null,null,null,null,null,null,"",null,null,"","","","","","","","","","","","","","","","","","","","","","","","","","","","","","","","","","","","","","","",""]
[null,null,null,null,null,null,null,null,null,"",null,null,"",{"$f":"IF($E200=N$2,$M200,\"\")","v":""},"","","","","","","","","","","","","","","","","","","","","","","","","","","","","","","","","","","","","",""]
[null,null,null,null,null,null,null,null,null,"",null,null,"","","","","","","","","","","","","","","","","",{"$f":"IF($E201=AD$2,$M201,\"\")","v":""},"","","","","","","","","","","","","","","","","","",{"$f":"IF($E201=AW$2,$M201,\"\")","v":""},{"$f":"IF($E201=AX$2,$M201,\"\")","v":""},{"$f":"IF($E201=AY$2,$M201,\"\")","v":""},{"$f":"IF($E201=AZ$2,$M201,\"\")","v":""}]
[null,null,null,null,null,null,null,null,null,"",null,null,"","","",{"$f":"IF($E202=P$2,$M202,\"\")","v":""},"","","","","","","","","","","","","","","","","","","","","","","","","","","","","",{"$f":"IF($E202=AT$2,$M202,\"\")","v":""},"","","","","",""]
[null,null,null,null,null,null,null,null,null,"",null,null,"","","","","","","","","","","","","","","","","","","","","","","","","","","","","","","","","","","","","","","",""]
[null,null,null,null,null,null,null,null,null,"",null,null,"","","","","","","","","","","","","","","","","","","","","","","","","","","","","","","","","","","","","","","",""]
[null,null,null,null,null,null,null,null,null,"",null,null,"","","","","","","","","","","","","","","","","","","","","","","","","","","","","","","","","","","","","","","",""]
[null,null,null,null,null,null,null,null,null,"",null,null,"","","","","","","","","","","","","","","","","","","","","","","","","","","","","","","","","","","","","","","",""]
[null,null,null,null,null,null,null,null,null,"",null,null,"","","","","","","","","","","","","","","","","","","","","","","","","","","","","","","","","","","","","","","",""]
[null,null,null,null,null,null,null,null,null,"",null,null,"","","","","","","","","","","","","","","","","","","","","","","","","","","","","","","","","","","","","","","",""]
[null,null,null,null,null,null,null,null,null,"",null,null,"","","","","","","","","","","","","","","","","","","","","","","","","","","","","","","","","","","","","","","",""]
[null,null,null,null,null,null,null,null,null,"",null,null,"","","","","","","","","","","","","","","","","","","","","","","","","","","","","","","","","","","","","","","",""]
[null,null,null,null,null,null,null,null,null,"",null,null,"","","","","","","","","","","","","","","","","","","","","","","","","","","","","","","","","","","","","","","",""]
[null,null,null,null,null,null,null,null,null,"",null,null,"","","","","","","","","","","","","","","","","","","","","","","","","","","","","","","","","","","","","","","",""]
[null,null,null,null,null,null,null,null,null,"",null,null,"","","","","","","","","","","","","","","","","","","","","","","","","","","","","","","","","","","","","","","",""]
[null,null,null,null,null,null,null,null,null,"",null,null,"","","","","","","","","","","","","","","","","","","","","","","","","","","","","","","","","","","","","","","",""]
[null,null,null,null,null,null,null,null,null,"",null,null,"","","","","","","","","","","","","","","","","","","","","","","","","","","","","","","","","","","","","","","",""]
[null,null,null,null,null,null,null,null,null,"",null,null,"",{"$f":"IF($E216=N$2,$M216,\"\")","v":""},"","","","","","","","","","","","","","","","","","","","","","","","","","","","","","","","","","","","","",""]
[null,null,null,null,null,null,null,null,null,"",null,null,"","","","","","","","","","","","","","","","","",{"$f":"IF($E217=AD$2,$M217,\"\")","v":""},"","","","","","","","","","","","","","","","","","","","","",""]
[null,null,null,null,null,null,null,null,null,"",null,null,"","","",{"$f":"IF($E218=P$2,$M218,\"\")","v":""},"","","","","","","","","","","","","","","","","","","","","","","","","","","","","","","","","","","",""]
[null,null,null,null,null,null,null,null,null,"",null,null,"","","","","","","","","","","","","","","","","","","","","","","","","","","","","","","","","","","","","","","",""]
[null,null,null,null,null,null,null,null,null,"",null,null,"","","","","","","","","","","","","","","","","","","","","","","","","","","","","","","","","","","","","","","",""]
[null,null,null,null,null,null,null,null,null,"",null,null,"","","","","","","","","","","","","","","","","","","","","","","","","","","","","","","","","","","","","","","",""]
[null,null,null,null,null,null,null,null,null,"",null,null,"","","","","","","","","","","","","","","","","","","","","","","","","","","","","","","","","","","","","","","",""]
[null,null,null,null,null,null,null,null,null,"",null,null,"","","","","","","","","","","","","","","","","","","","","","","","","","","","","","","","","","","","","","","",""]
[null,null,null,null,null,null,null,null,null,"",null,null,"","","","","","","","","","","","","","","","","","","","","","","","","","","","","","","","","","","","","","","",""]
[null,null,null,null,null,null,null,null,null,"",null,null,"","","","","","","","","","","","","","","","","","","","","","","","","","","","","","","","","","","","","","","",""]
[null,null,null,null,null,null,null,null,null,"",null,null,"","","","","","","","","","","","","","","","","","","","","","","","","","","","","","","","","","","","","","","",""]
[null,null,null,null,null,null,null,null,null,"",null,null,"","","","","","","","","","","","","","","","","","","","","","","","","","","","","","","","","","","","","","","",""]
[null,null,null,null,null,null,null,null,null,"",null,null,"","","","","","","","","","","","","","","","","","","","","","","","","","","","","","","","","","","","","","","",""]
[null,null,null,null,null,null,null,null,null,"",null,null,"","","","","","","","","","","","","","","","","","","","","","","","","","","","","","","","","","","","","","","",""]
[null,null,null,null,null,null,null,null,null,"",null,null,"","","","","","","","","","","","","","","","","","","","","","","","","","","","","","","","","","","","","","","",""]
[null,null,null,null,null,null,null,null,null,"",null,null,"","","","","","","","","","","","","","","","","","","","","","","","","","","","","","","","","","","","","","","",""]
[null,null,null,null,null,null,null,null,null,"",null,null,"",{"$f":"IF($E232=N$2,$M232,\"\")","v":""},"","","","","","","","","","","","","","","","","","","","","","","","","","","","","","","","","","","","","",""]
[null,null,null,null,null,null,null,null,null,"",null,null,"","","","","","","","","","","","","","","","","",{"$f":"IF($E233=AD$2,$M233,\"\")","v":""},"","","","","","","","","","","","","","","","","","","","","",""]
[null,null,null,null,null,null,null,null,null,"",null,null,"","","",{"$f":"IF($E234=P$2,$M234,\"\")","v":""},"","","","","","","","","","","","","","","","","","","","","","","","","","","","","","","","","","","",""]
[null,null,null,null,null,null,null,null,null,"",null,null,"","","","","","","","","","","","","","","","","","","","","","","","","","","","","","","","","","","","","","","",""]
[null,null,null,null,null,null,null,null,null,"",null,null,"","","","","","","","","","","","","","","","","","","","","","","","","","","","","","","","","","","","","","","",""]
[null,null,null,null,null,null,null,null,null,"",null,null,"","","","","","","","","","","","","","","","","","","","","","","","","","","","","","","","","","","","","","","",""]
[null,null,null,null,null,null,null,null,null,"",null,null,"","","","","","","","","","","","","","","","","","","","","","","","","","","","","","","","","","","","",{"$f":"IF($E238=AW$2,$M238,\"\")","v":""},{"$f":"IF($E238=AX$2,$M238,\"\")","v":""},{"$f":"IF($E238=AY$2,$M238,\"\")","v":""},{"$f":"IF($E238=AZ$2,$M238,\"\")","v":""}]
[null,null,null,null,null,null,null,null,null,"",null,null,"","","","","","","","","","","","","","","","","","","","","","","","","","","","","","","","","",{"$f":"IF($E239=AT$2,$M239,\"\")","v":""},"","","","","",""]
[null,null,null,null,null,null,null,null,null,"",null,null,"","","","","","","","","","","","","","","","","","","","","","","","","","","","","","","","","","","","","","","",""]
[null,null,null,null,null,null,null,null,null,"",null,null,"","","","","","","","","","","","","","","","","","","","","","","","","","","","","","","","","","","","","","","",""]
[null,null,null,null,null,null,null,null,null,"",null,null,"","","","","","","","","","","","","","","","","","","","","","","","","","","","","","","","","","","","","","","",""]
[null,null,null,null,null,null,null,null,null,"",null,null,"","","","","","","","","","","","","","","","","","","","","","","","","","","","","","","","","","","","","","","",""]
[null,null,null,null,null,null,null,null,null,"",null,null,"","","","","","","","","","","","","","","","","","","","","","","","","","","","","","","","","","","","","","","",""]
[null,null,null,null,null,null,null,null,null,"",null,null,"","","","","","","","","","","","","","","","","","","","","","","","","","","","","","","","","","","","","","","",""]
[null,null,null,null,null,null,null,null,null,"",null,null,"","","","","","","","","","","","","","","","","","","","","","","","","","","","","","","","","","","","","","","",""]
[null,null,null,null,null,null,null,null,null,"",null,null,"","","","","","","","","","","","","","","","","","","","","","","","","","","","","","","","","","","","","","","",""]
[null,null,null,null,null,null,null,null,null,"",null,null,"",{"$f":"IF($E248=N$2,$M248,\"\")","v":""},"","","","","","","","","","","","","","","","","","","","","","","","","","","","","","","","","","","","","",""]
[null,null,null,null,null,null,null,null,null,"",null,null,"","","","","","","","","","","","","","","","","",{"$f":"IF($E249=AD$2,$M249,\"\")","v":""},"","","","","","","","","","","","","","","","","","","","","",""]
[null,null,null,null,null,null,null,null,null,"",null,null,"","","",{"$f":"IF($E250=P$2,$M250,\"\")","v":""},"","","","","","","","","","","","","","","","","","","","","","","","","","","","","","","","","","","",""]
[null,null,null,null,null,null,null,null,null,"",null,null,"","","","","","","","","","","","","","","","","","","","","","","","","","","","","","","","","","","","","","","",""]
[null,null,null,null,null,null,null,null,null,"",null,null,"","","","","","","","","","","","","","","","","","","","","","","","","","","","","","","","","","","","","","","",""]
[null,null,null,null,null,null,null,null,null,"",null,null,"","","","","","","","","","","","","","","","","","","","","","","","","","","","","","","","","","","","","","","",""]
[null,null,null,null,null,null,null,null,null,"",null,null,"","","","","","","","","","","","","","","","","","","","","","","","","","","","","","","","","","","","","","","",""]
[null,null,null,null,null,null,null,null,null,"",null,null,"","","","","","","","","","","","","","","","","","","","","","","","","","","","","","","","","","","","","","","",""]
[null,null,null,null,null,null,null,null,null,"",null,null,"","","","","","","","","","","","","","","","","","","","","","","","","","","","","","","","","","","","","","","",""]
[null,null,null,null,null,null,null,null,null,"",null,null,"","","","","","","","","","","","","","","","","","","","","","","","","","","","","","","","","","","","","","","",""]
[null,null,null,null,null,null,null,null,null,"",null,null,"","","","","","","","","","","","","","","","","","","","","","","","","","","","","","","","","","","","","","","",""]
[null,null,null,null,null,null,null,null,null,"",null,null,"","","","","","","","","","","","","","","","","","","","","","","","","","","","","","","","","","","","","","","",""]
[null,null,null,null,null,null,null,null,null,{"$f":"IF(E260=\"\",\"\",A260&\" \"&B260)","v":""},null,null,"","",{"$f":"IF($E260=O$2,$M260,\"\")","v":""},"","","","","","","","","","","","","","","","","","","","","","","","","","","","","","","","","","","","",""]
[null,null,null,null,null,null,null,null,null,"",null,null,{"$f":"IF(E261=\"\",\"\",IF(E261=E260,M260+1,1))","v":""},"","","","","","","","","","","","","","","","","","","","","","","","","","","","","","","","","","","","","","",""]
[null,null,null,null,null,null,null,null,null,"",null,null,"","","","","","","","","","","","","","","","","","","","","","","","","","","","","","","","","","","","","","","",""]
[null,null,null,null,null,null,null,null,null,"",null,null,"","","","","","","","","","","","","","","","","","","","","","","","","","","","","","","","","","","","","","","",""]
[null,null,null,null,null,null,null,null,null,"",null,null,"",{"$f":"IF($E264=N$2,$M264,\"\")","v":""},"","","","","","","","","","","","","","","","","","","","","","","","","","","","","","","","","","","","","",""]
[null,null,null,null,null,null,null,null,null,"",null,null,"","","","","","","","","","","","","","","","","",{"$f":"IF($E265=AD$2,$M265,\"\")","v":""},"","","","","","","","","","","","","","","","","","","","","",""]
[null,null,null,null,null,null,null,null,null,"",null,null,"","","",{"$f":"IF($E266=P$2,$M266,\"\")","v":""},"","","","","","","","","","","","","","","","","","","","","","","","","","","","","","","","","","","",""]
[null,null,null,null,null,null,null,null,null,"",null,null,"","","","","","","","","","","","","","","","","","","","","","","","","","","","","","","","","","","","","","","",""]
[null,null,null,null,null,null,null,null,null,"",null,null,"","","","","","","","","","","","","","","","","","","","","","","","","","","","","","","","","","","","","","","",""]
[null,null,null,null,null,null,null,null,null,"",null,null,"","","","","","","","","","","","","","","","","","","","","","","","","","","","","","","","","","","","","","","",""]
[null,null,null,null,null,null,null,null,null,"",null,null,"","","","","","","","","","","","","","","","","","","","","","","","","","","","","","","","","","","","","","","",""]
[null,null,null,null,null,null,null,null,null,"",null,null,"","","","","","","","","","","","","","","","","","","","","","","","","","","","","","","","","","","","","","","",""]
[null,null,null,null,null,null,null,null,null,"",null,null,"","","","","","","","","","","","","","","","","","","","","","","","","","","","","","","","","","","","","","","",""]
[null,null,null,null,null,null,null,null,null,"",null,null,"","","","","","","","","","","","","","","","","","","","","","","","","","","","","","","","","","","","","","","",""]
[null,null,null,null,null,null,null,null,null,"",null,null,"","","","","","","","","","","","","","","","","","","","","","","","","","","","","","","","","","","","","","","",""]
[null,null,null,null,null,null,null,null,null,"",null,null,"","","","","","","","","","","","","","","","","","","","","","","","","","","","","","","","","","","","",{"$f":"IF($E275=AW$2,$M275,\"\")","v":""},{"$f":"IF($E275=AX$2,$M275,\"\")","v":""},{"$f":"IF($E275=AY$2,$M275,\"\")","v":""},{"$f":"IF($E275=AZ$2,$M275,\"\")","v":""}]
[null,null,null,null,null,null,null,null,null,"",null,null,"","","","","","","","","","","","","","","","","","","","","","","","","","","","","","","","","",{"$f":"IF($E276=AT$2,$M276,\"\")","v":""},"","","","","",""]
[null,null,null,null,null,null,null,null,null,"",null,null,"","","","","","","","","","","","","","","","","","","","","","","","","","","","","","","","","","","","","","","",""]
[null,null,null,null,null,null,null,null,null,"",null,null,"","","","","","","","","","","","","","","","","","","","","","","","","","","","","","","","","","","","","","","",""]
[null,null,null,null,null,null,null,null,null,"",null,null,"","","","","","","","","","","","","","","","","","","","","","","","","","","","","","","","","","","","","","","",""]
[null,null,null,null,null,null,null,null,null,"",null,null,"","","","","","","","","","","","","","","","","","","","","","","","","","","","","","","","","","","","","","","",""]
[null,null,null,null,null,null,null,null,null,"",null,null,"","","","","","","","","","","","","","","","","",{"$f":"IF($E281=AD$2,$M281,\"\")","v":""},"","","","","","","","","","","","","","","","","","","","","",""]
[null,null,null,null,null,null,null,null,null,"",null,null,"","","",{"$f":"IF($E282=P$2,$M282,\"\")","v":""},"","","","","","","","","","","","","","","","","","","","","","","","","","","","","","","","","","","",""]
[null,null,null,null,null,null,null,null,null,"",null,null,"","","","","","","","","","","","","","","","","","","","","","","","","","","","","","","","","","","","","","","",""]
[null,null,null,null,null,null,null,null,null,"",null,null,"","","","","","","","","","","","","","","","","","","","","","","","","","","","","","","","","","","","","","","",""]
[null,null,null,null,null,null,null,null,null,"",null,null,"","","","","","","","","","","","","","","","","","","","","","","","","","","","","","","","","","","","","","","",""]
[null,null,null,null,null,null,null,null,null,"",null,null,"","","","","","","","","","","","","","","","","","","","","","","","","","","","","","","","","","","","","","","",""]
[null,null,null,null,null,null,null,null,null,"",null,null,"",{"$f":"IF($E287=N$2,$M287,\"\")","v":""},"","","","","","","","","","","","","","","","","","","","","","","","","","","","","","","","","","","","","",""]
[null,null,null,null,null,null,null,null,null,"",null,null,"","","","","","","","","","","","","","","","","","","","","","","","","","","","","","","","","","","","","","","",""]
[null,null,null,null,null,null,null,null,null,"",null,null,"","","","","","","","","","","","","","","","","","","","","","","","","","","","","","","","","","","","","","","",""]
[null,null,null,null,null,null,null,null,null,"",null,null,"","","","","","","","","","","","","","","","","","","","","","","","","","","","","","","","","","","","","","","",""]
[null,null,null,null,null,null,null,null,null,"",null,null,"","","","","","","","","","","","","","","","","","","","","","","","","","","","","","","","","","","","","","","",""]
[null,null,null,null,null,null,null,null,null,"",null,null,"","","","","","","","","","","","","","","","","","","","","","","","","","","","","","","","","","","","","","","",""]
[null,null,null,null,null,null,null,null,null,"",null,null,"","","","","","","","","","","","","","","","","","","","","","","","","","","","","","","","","","","","","","","",""]
[null,null,null,null,null,null,null,null,null,"",null,null,"","","","","","","","","","","","","","","","","","","","","","","","","","","","","","","","","","","","","","","",""]
[null,null,null,null,null,null,null,null,null,"",null,null,"","","","","","","","","","","","","","","","","","","","","","","","","","","","","","","","","","","","","","","",""]
[null,null,null,null,null,null,null,null,null,"",null,null,"","","","","","","","","","","","","","","",{"$f":"IF($E296=AB$2,$M296,\"\")","v":""},"","","","","","","","","","","","","","","","","","","","","","","",""]
[null,null,null,null,null,null,null,null,null,"",null,null,"","","","","","","","","","","","","","","","","",{"$f":"IF($E297=AD$2,$M297,\"\")","v":""},"","","","","","","","","","","","","","","","","","","","","",""]
[null,null,null,null,null,null,null,null,null,"",null,null,"","","",{"$f":"IF($E298=P$2,$M298,\"\")","v":""},"","","","","","","","","","","","","","","","","","","","","","","","","","","","","","","","","","","",""]
[null,null,null,null,null,null,null,null,null,"",null,null,"","","","","","","","","","","","","","","","","","","","","","","","","","","","","","","","","","","","","","","",""]
[null,null,null,null,null,null,null,null,null,"",null,null,"","","","","","","","","","","","","","","","","","","","","","","","","","","","","","","","","","","","","","","",""]
[null,null,null,null,null,null,null,null,null,"",null,null,"","","","","","","","","","","","","","","","","","","","","","","","","","","","","","","","","","","","","","","",""]
[null,null,null,null,null,null,null,null,null,"",null,null,"","","","","","","","","","","","","","","","","","","","","","","","","","","","","","","","","","","","","","","",""]
[null,null,null,null,null,null,null,null,null,"",null,null,"",{"$f":"IF($E303=N$2,$M303,\"\")","v":""},"","","","","","","","","","","","","","","","","","","","","","","","","","","","","","","","","","","","","",""]
[null,null,null,null,null,null,null,null,null,"",null,null,"","","","","","","","","","","","","","","","","","","","","","","","","","","","","","","","","","","","","","","",""]
[null,null,null,null,null,null,null,null,null,"",null,null,"","","","","","","","","","","","","","","","","","","","","","","","","","","","","","","","","","","","","","","",""]
[null,null,null,null,null,null,null,null,null,"",null,null,"","","","","","","","","","","","","","","","","","","","","","","","","","","","","","","","","","","","","","","",""]
[null,null,null,null,null,null,null,null,null,"",null,null,"","","","","","","","","","","","","","","","","","","","","","","","","","","","","","","","","","","","","","","",""]
[null,null,null,null,null,null,null,null,null,"",null,null,"","","","","","","","","","","","","","","","","","","","","","","","","","","","","","","","","","","","","","","",""]
[null,null,null,null,null,null,null,null,null,"",null,null,"","","","","","","","","","","","","","","","","","","","","","","","","","","","","","","","","","","","","","","",""]
[null,null,null,null,null,null,null,null,null,"",null,null,"","","","","","","","","","","","","","","","","","","","","","","","","","","","","","","","","","","","","","","",""]
[null,null,null,null,null,null,null,null,null,"",null,null,"","","","","","","","","","","","","","","","","","","","","","","","","","","","","","","","","","","","","","","",""]
[null,null,null,null,null,null,null,null,null,"",null,null,"","","","","","","","","","","","","","","","","","","","","","","","","","","","","","","","","","","","",{"$f":"IF($E312=AW$2,$M312,\"\")","v":""},{"$f":"IF($E312=AX$2,$M312,\"\")","v":""},{"$f":"IF($E312=AY$2,$M312,\"\")","v":""},{"$f":"IF($E312=AZ$2,$M312,\"\")","v":""}]
[null,null,null,null,null,null,null,null,null,"",null,null,"","","","","","","","","","","","","","","","","",{"$f":"IF($E313=AD$2,$M313,\"\")","v":""},"","","","","","","","","","","","","","","",{"$f":"IF($E313=AT$2,$M313,\"\")","v":""},"","","","","",""]
[null,null,null,null,null,null,null,null,null,"",null,null,"","","",{"$f":"IF($E314=P$2,$M314,\"\")","v":""},"","","","","","","","","","","","","","","","","","","","","","","","","","","","","","","","","","","",""]
[null,null,null,null,null,null,null,null,null,"",null,null,"","","","","","","","","","","","","","","","","","","","","","","","","","","","","","","","","","","","","","","",""]
[null,null,null,null,null,null,null,null,null,"",null,null,"","","","","","","","","","","","","","","","","","","","","","","","","","","","","","","","","","","","","","","",""]
[null,null,null,null,null,null,null,null,null,"",null,null,"","","","","","","","","","","","","","","","","","","","","","","","","","","","","","","","","","","","","","","",""]
[null,null,null,null,null,null,null,null,null,"",null,null,"","","","","","","","","","","","","","","","","","","","","","","","","","","","","","","","","","","","","","","",""]
[null,null,null,null,null,null,null,null,null,"",null,null,"",{"$f":"IF($E319=N$2,$M319,\"\")","v":""},"","","","","","","","","","","","","","","","","","","","","","","","","","","","","","","","","","","","","",""]
[null,null,null,null,null,null,null,null,null,"",null,null,"","","","","","","","","","","","","","","","","","","","","","","","","","","","","","","","","","","","","","","",""]
[null,null,null,null,null,null,null,null,null,"",null,null,"","","","","","","","","","","","","","","","","","","","","","","","","","","","","","","","","","","","","","","",""]
[null,null,null,null,null,null,null,null,null,"",null,null,"","","","","","","","","","","","","","","","","","","","","","","","","","","","","","","","","","","","","","","",""]
[null,null,null,null,null,null,null,null,null,"",null,null,"","","","","","","","","","","","","","","","","","","","","","","","","","","","","","","","","","","","","","","",""]
[null,null,null,null,null,null,null,null,null,{"$f":"IF(E324=\"\",\"\",A324&\" \"&B324)","v":""},null,null,"","",{"$f":"IF($E324=O$2,$M324,\"\")","v":""},"","","","","","","","","","","","","","","","","","","","","","","","","","","","","","","","","","","","",""]
[null,null,null,null,null,null,null,null,null,"",null,null,{"$f":"IF(E325=\"\",\"\",IF(E325=E324,M324+1,1))","v":""},"","","","","","","","","","","","","","","","","","","","","","","","","","","","","","","","","","","","","","",""]
[null,null,null,null,null,null,null,null,null,"",null,null,"","","","","","","","","","","","","","","","","","","","","","","","","","","","","","","","","","","","","","","",""]
[null,null,null,null,null,null,null,null,null,"",null,null,"","","","","","","","","","","","","","","","","","","","","","","","","","","","","","","","","","","","","","","",""]
[null,null,null,null,null,null,null,null,null,"",null,null,"","","","","","","","","","","","","","","","","","","","","","","","","","","","","","","","","","","","","","","",""]
[null,null,null,null,null,null,null,null,null,"",null,null,"","","","","","","","","","","","","","","","","",{"$f":"IF($E329=AD$2,$M329,\"\")","v":""},"","","","","","","","","","","","","","","","","","","","","",""]
[null,null,null,null,null,null,null,null,null,"",null,null,"","","",{"$f":"IF($E330=P$2,$M330,\"\")","v":""},"","","","","","","","","","","","","","","","","","","","","","","","","","","","","","","","","","","",""]
[null,null,null,null,null,null,null,null,null,"",null,null,"","","","","","","","","","","","","","","","","","","","","","","","","","","","","","","","","","","","","","","",""]
[null,null,null,null,null,null,null,null,null,"",null,null,"","","","","","","","","","","","","","","","","","","","","","","","","","","","","","","","","","","","","","","",""]
[null,null,null,null,null,null,null,null,null,"",null,null,"","","","","","","","","","","","","","","","","","","","","","","","","","","","","","","","","","","","","","","",""]
[null,null,null,null,null,null,null,null,null,"",null,null,"","","","","","","","","","","","","","","","","","","","","","","","","","","","","","","","","","","","","","","",""]
[null,null,null,null,null,null,null,null,null,"",null,null,"",{"$f":"IF($E335=N$2,$M335,\"\")","v":""},"","","","","","","","","","","","","","","","","","","","","","","","","","","","","","","","","","","","","",""]
[null,null,null,null,null,null,null,null,null,"",null,null,"","","","","","","","","","","","","","","","","","","","","","","","","","","","","","","","","","","","","","","",""]
[null,null,null,null,null,null,null,null,null,"",null,null,"","","","","","","","","","","","","","","","","","","","","","","","","","","","","","","","","","","","","","","",""]
[null,null,null,null,null,null,null,null,null,"",null,null,"","","","","","","","","","","","","","","","","","","","","","","","","","","","","","","","","","","","","","","",""]
[null,null,null,null,null,null,null,null,null,"",null,null,"","","","","","","","","","","","","","","","","","","","","","","","","","","","","","","","","","","","","","","",""]
[null,null,null,null,null,null,null,null,null,"",null,null,"","","","","","","","","","","","","","","","","","","","","","","","","","","","","","","","","","","","","","","",""]
[null,null,null,null,null,null,null,null,null,"",null,null,"","","","","","","","","","","","","","","","","","","","","","","","","","","","","","","","","","","","","","","",""]
[null,null,null,null,null,null,null,null,null,"",null,null,"","","","","","","","","","","","","","","","","","","","","","","","","","","","","","","","","","","","","","","",""]
[null,null,null,null,null,null,null,null,null,"",null,null,"","","","","","","","","","","","","","","","","","","","","","","","","","","","","","","","","","","","","","","",""]
[null,null,null,null,null,null,null,null,null,"",null,null,"","","","","","","","","","","","","","","","","","","","","","","","","","","","","","","","","","","","","","","",""]
[null,null,null,null,null,null,null,null,null,"",null,null,"","","","","","","","","","","","","","","","","",{"$f":"IF($E345=AD$2,$M345,\"\")","v":""},"","","","","","","","","","","","","","","","","","","","","",""]
[null,null,null,null,null,null,null,null,null,"",null,null,"","","",{"$f":"IF($E346=P$2,$M346,\"\")","v":""},"","","","","","","","","","","","","","","","","","","","","","","","","","","","","","","","","","","",""]
[null,null,null,null,null,null,null,null,null,"",null,null,"","","","","","","","","","","","","","","","","","","","","","","","","","","","","","","","","","","","","","","",""]
[null,null,null,null,null,null,null,null,null,"",null,null,"","","","","","","","","","","","","","","","","","","","","","","","","","","","","","","","","","","","","","","",""]
[null,null,null,null,null,null,null,null,null,"",null,null,"","","","","","","","","","","","","","","","","","","","","","","","","","","","","","","","","","","","",{"$f":"IF($E349=AW$2,$M349,\"\")","v":""},{"$f":"IF($E349=AX$2,$M349,\"\")","v":""},{"$f":"IF($E349=AY$2,$M349,\"\")","v":""},{"$f":"IF($E349=AZ$2,$M349,\"\")","v":""}]
[null,null,null,null,null,null,null,null,null,"",null,null,"","","","","","","","","","","","","","","","","","","","","","","","","","","","","","","","","",{"$f":"IF($E350=AT$2,$M350,\"\")","v":""},"","","","","",""]
[null,null,null,null,null,null,null,null,null,"",null,null,"",{"$f":"IF($E351=N$2,$M351,\"\")","v":""},"","","","","","","","","","","","","","","","","","","","","","","","","","","","","","","","","","","","","",""]
[null,null,null,null,null,null,null,null,null,"",null,null,"","","","","","","","","","","","","","","","","","","","","","","","","","","","","","","","","","","","","","","",""]
[null,null,null,null,null,null,null,null,null,"",null,null,"","","","","","","","","","","","","","","","","","","","","","","","","","","","","","","","","","","","","","","",""]
[null,null,null,null,null,null,null,null,null,"",null,null,"","","","","","","","","","","","","","","","","","","","","","","","","","","","","","","","","","","","","","","",""]
[null,null,null,null,null,null,null,null,null,"",null,null,"","","","","","","","","","","","","","","","","","","","","","","","","","","","","","","","","","","","","","","",""]
[null,null,null,null,null,null,null,null,null,"",null,null,"","","","","","","","","","","","","","","","","","","","","","","","","","","","","","","","","","","","","","","",""]
[null,null,null,null,null,null,null,null,null,"",null,null,"","","","","","","","","","","","","","","","","","","","","","","","","","","","","","","","","","","","","","","",""]
[null,null,null,null,null,null,null,null,null,"",null,null,"","","","","","","","","","","","","","","","","","","","","","","","","","","","","","","","","","","","","","","",""]
[null,null,null,null,null,null,null,null,null,"",null,null,"","","","","","","","","","","","","","","","","","","","","","","","","","","","","","","","","","","","","","","",""]
[null,null,null,null,null,null,null,null,null,"",null,null,"","","","","","","","","","","","","","","","","","","","","","","","","","","","","","","","","","","","","","","",""]
[null,null,null,null,null,null,null,null,null,"",null,null,"","","","","","","","","","","","","","","","","",{"$f":"IF($E361=AD$2,$M361,\"\")","v":""},"","","","","","","","","","","","","","","","","","","","","",""]
[null,null,null,null,null,null,null,null,null,"",null,null,"","","",{"$f":"IF($E362=P$2,$M362,\"\")","v":""},"","","","","","","","","","","","","","","","","","","","","","","","","","","","","","","","","","","",""]
[null,null,null,null,null,null,null,null,null,"",null,null,"","","","","","","","","","","","","","","","","","","","","","","","","","","","","","","","","","","","","","","",""]
[null,null,null,null,null,null,null,null,null,"",null,null,"","","","","","","","","","","","","","","","","","","","","","","","","","","","","","","","","","","","","","","",""]
[null,null,null,null,null,null,null,null,null,"",null,null,"","","","","","","","","","","","","","","","","","","","","","","","","","","","","","","","","","","","","","","",""]
[null,null,null,null,null,null,null,null,null,"",null,null,"","","","","","","","","","","","","","","","","","","","","","","","","","","","","","","","","","","","","","","",""]
[null,null,null,null,null,null,null,null,null,"",null,null,"",{"$f":"IF($E367=N$2,$M367,\"\")","v":""},"","","","","","","","","","","","","","","","","","","","","","","","","","","","","","","","","","","","","",""]
[null,null,null,null,null,null,null,null,null,"",null,null,"","","","","","","","","","","","","","","","","","","","","","","","","","","","","","","","","","","","","","","",""]
[null,null,null,null,null,null,null,null,null,"",null,null,"","","","","","","","","","","","","","","","","","","","","","","","","","","","","","","","","","","","","","","",""]
[null,null,null,null,null,null,null,null,null,"",null,null,"","","","","","","","","","","","","","","","","","","","","","","","","","","","","","","","","","","","","","","",""]
[null,null,null,null,null,null,null,null,null,"",null,null,"","","","","","","","","","","","","","","","","","","","","","","","","","","","","","","","","","","","","","","",""]
[null,null,null,null,null,null,null,null,null,"",null,null,"","","","","","","","","","","","","","","","","","","","","","","","","","","","","","","","","","","","","","","",""]
[null,null,null,null,null,null,null,null,null,"",null,null,"","","","","","","","","","","","","","","","","","","","","","","","","","","","","","","","","","","","","","","",""]
[null,null,null,null,null,null,null,null,null,"",null,null,"","","","","","","","","","","","","","","","","","","","","","","","","","","","","","","","","","","","","","","",""]
[null,null,null,null,null,null,null,null,null,"",null,null,"","","","","","","","","","","","","","","","","","","","","","","","","","","","","","","","","","","","","","","",""]
[null,null,null,null,null,null,null,null,null,"",null,null,"","","","","","","","","","","","","","","","","","","","","","","","","","","","","","","","","","","","","","","",""]
[null,null,null,null,null,null,null,null,null,"",null,null,"","","","","","","","","","","","","","","","","",{"$f":"IF($E377=AD$2,$M377,\"\")","v":""},"","","","","","","","","","","","","","","","","","","","","",""]
[null,null,null,null,null,null,null,null,null,"",null,null,"","","",{"$f":"IF($E378=P$2,$M378,\"\")","v":""},"","","","","","","","","","","","","","","","","","","","","","","","","","","","","","","","","","","",""]
[null,null,null,null,null,null,null,null,null,"",null,null,"","","","","","","","","","","","","","","","","","","","","","","","","","","","","","","","","","","","","","","",""]
[null,null,null,null,null,null,null,null,null,"",null,null,"","","","","","","","","","","","","","","","","","","","","","","","","","","","","","","","","","","","","","","",""]
[null,null,null,null,null,null,null,null,null,"",null,null,"","","","","","","","","","","","","","","","","","","","","","","","","","","","","","","","","","","","","","","",""]
[null,null,null,null,null,null,null,null,null,"",null,null,"","","","","","","","","","","","","","","","","","","","","","","","","","","","","","","","","","","","","","","",""]
[null,null,null,null,null,null,null,null,null,"",null,null,"","","","","","","","","","","","","","","","","","","","","","","","","","","","","","","","","","","","","","","",""]
[null,null,null,null,null,null,null,null,null,"",null,null,"","","","","","","","","","","","","","","","","","","","","","","","","","","","","","","","","","","","","","","",""]
[null,null,null,null,null,null,null,null,null,"",null,null,"","","","","","","","","","","","","","","","","","","","","","","","","","","","","","","","","","","","","","","",""]
[null,null,null,null,null,null,null,null,null,"",null,null,"","","","","","","","","","","","","","","","","","","","","","","","","","","","","","","","","","","","",{"$f":"IF($E386=AW$2,$M386,\"\")","v":""},{"$f":"IF($E386=AX$2,$M386,\"\")","v":""},{"$f":"IF($E386=AY$2,$M386,\"\")","v":""},{"$f":"IF($E386=AZ$2,$M386,\"\")","v":""}]
[null,null,null,null,null,null,null,null,null,"",null,null,"","","","","","","","","","","","","","","","","","","","","","","","","","","","","","","","","",{"$f":"IF($E387=AT$2,$M387,\"\")","v":""},"","","","","",""]
[null,null,null,null,null,null,null,null,null,{"$f":"IF(E388=\"\",\"\",A388&\" \"&B388)","v":""},null,null,"","",{"$f":"IF($E388=O$2,$M388,\"\")","v":""},"","","","","","","","","","","","","","","","","","","","","","","","","","","","","","","","","","","","",""]
[null,null,null,null,null,null,null,null,null,"",null,null,{"$f":"IF(E389=\"\",\"\",IF(E389=E388,M388+1,1))","v":""},"","","","","","","","","","","","","","","","","","","","","","","","","","","","","","","","","","","","","","",""]
[null,null,null,null,null,null,null,null,null,"",null,null,"",{"$f":"IF($E390=N$2,$M390,\"\")","v":""},"","","","","","","","","","","","","","","","","","","","","","","","","","","","","","","","","","","","","",""]
[null,null,null,null,null,null,null,null,null,"",null,null,"","","","","","","","","","","","","","","","","","","","","","","","","","","","","","","","","","","","","","","",""]
[null,null,null,null,null,null,null,null,null,"",null,null,"","","","","","","","","","","","","","","","","","","","","","","","","","","","","","","","","","","","","","","",""]
[null,null,null,null,null,null,null,null,null,"",null,null,"","","","","","","","","","","","","","","","","",{"$f":"IF($E393=AD$2,$M393,\"\")","v":""},"","","","","","","","","","","","","","","","","","","","","",""]
[null,null,null,null,null,null,null,null,null,"",null,null,"","","",{"$f":"IF($E394=P$2,$M394,\"\")","v":""},"","","","","","","","","","","","","","","","","","","","","","","","","","","","","","","","","","","",""]
[null,null,null,null,null,null,null,null,null,"",null,null,"","","","","","","","","","","","","","","","","","","","","","","","","","","","","","","","","","","","","","","",""]
[null,null,null,null,null,null,null,null,null,"",null,null,"","","","","","","","","","","","","","","","","","","","","","","","","","","","","","","","","","","","","","","",""]
[null,null,null,null,null,null,null,null,null,"",null,null,"","","","","","","","","","","","","","","","","","","","","","","","","","","","","","","","","","","","","","","",""]
[null,null,null,null,null,null,null,null,null,"",null,null,"","","","","","","","","","","","","","","","","","","","","","","","","","","","","","","","","","","","","","","",""]
[null,null,null,null,null,null,null,null,null,"",null,null,"","","","","","","","","","","","","","","","","","","","","","","","","","","","","","","","","","","","","","","",""]
[null,null,null,null,null,null,null,null,null,"",null,null,"","","","","","","","","","","","","","","","","","","","","","","","","","","","","","","","","","","","","","","",""]
[null,null,null,null,null,null,null,null,null,"",null,null,"","","","","","","","","","","","","","","","","","","","","","","","","","","","","","","","","","","","","","","",""]
[null,null,null,null,null,null,null,null,null,"",null,null,"","","","","","","","","","","","","","","","","","","","","","","","","","","","","","","","","","","","","","","",""]
[null,null,null,null,null,null,null,null,null,"",null,null,"","","","","","","","","","","","","","","","","","","","","","","","","","","","","","","","","","","","","","","",""]
[null,null,null,null,null,null,null,null,null,"",null,null,"","","","","","","","","","","","","","","","","","","","","","","","","","","","","","","","","","","","","","","",""]
[null,null,null,null,null,null,null,null,null,"",null,null,"","","","","","","","","","","","","","","","","","","","","","","","","","","","","","","","","","","","","","","",""]
[null,null,null,null,null,null,null,null,null,"",null,null,"",{"$f":"IF($E406=N$2,$M406,\"\")","v":""},"","","","","","","","","","","","","","","","","","","","","","","","","","","","","","","","","","","","","",""]
[null,null,null,null,null,null,null,null,null,"",null,null,"","","","","","","","","","","","","","","","","","","","","","","","","","","","","","","","","","","","","","","",""]
[null,null,null,null,null,null,null,null,null,"",null,null,"","","","","","","","","","","","","","","","","","","","","","","","","","","","","","","","","","","","","","","",""]
[null,null,null,null,null,null,null,null,null,"",null,null,"","","","","","","","","","","","","","","","","",{"$f":"IF($E409=AD$2,$M409,\"\")","v":""},"","","","","","","","","","","","","","","","","","","","","",""]
[null,null,null,null,null,null,null,null,null,"",null,null,"","","",{"$f":"IF($E410=P$2,$M410,\"\")","v":""},"","","","","","","","","","","","","","","","","","","","","","","","","","","","","","","","","","","",""]
[null,null,null,null,null,null,null,null,null,"",null,null,"","","","","","","","","","","","","","","","","","","","","","","","","","","","","","","","","","","","","","","",""]
[null,null,null,null,null,null,null,null,null,"",null,null,"","","","","","","","","","","","","","","","","","","","","","","","","","","","","","","","","","","","","","","",""]
[null,null,null,null,null,null,null,null,null,"",null,null,"","","","","","","","","","","","","","","","","","","","","","","","","","","","","","","","","","","","","","","",""]
[null,null,null,null,null,null,null,null,null,"",null,null,"","","","","","","","","","","","","","","","","","","","","","","","","","","","","","","","","","","","","","","",""]
[null,null,null,null,null,null,null,null,null,"",null,null,"","","","","","","","","","","","","","","","","","","","","","","","","","","","","","","","","","","","","","","",""]
[null,null,null,null,null,null,null,null,null,"",null,null,"","","","","","","","","","","","","","","","","","","","","","","","","","","","","","","","","","","","","","","",""]
[null,null,null,null,null,null,null,null,null,"",null,null,"","","","","","","","","","","","","","","","","","","","","","","","","","","","","","","","","","","","","","","",""]
[null,null,null,null,null,null,null,null,null,"",null,null,"","","","","","","","","","","","","","","","","","","","","","","","","","","","","","","","","","","","","","","",""]
[null,null,null,null,null,null,null,null,null,"",null,null,"","","","","","","","","","","","","","","","","","","","","","","","","","","","","","","","","","","","","","","",""]
[null,null,null,null,null,null,null,null,null,"",null,null,"","","","","","","","","","","","","","","","","","","","","","","","","","","","","","","","","","","","","","","",""]
[null,null,null,null,null,null,null,null,null,"",null,null,"","","","","","","","","","","","","","","","","","","","","","","","","","","","","","","","","","","","","","","",""]
[null,null,null,null,null,null,null,null,null,"",null,null,"",{"$f":"IF($E422=N$2,$M422,\"\")","v":""},"","","","","","","","","","","","","","","","","","","","","","","","","","","","","","","","","","","","","",""]
[null,null,null,null,null,null,null,null,null,"",null,null,"","","","","","","","","","","","","","","","","","","","","","","","","","","","","","","","","","","","",{"$f":"IF($E423=AW$2,$M423,\"\")","v":""},{"$f":"IF($E423=AX$2,$M423,\"\")","v":""},{"$f":"IF($E423=AY$2,$M423,\"\")","v":""},{"$f":"IF($E423=AZ$2,$M423,\"\")","v":""}]
[null,null,null,null,null,null,null,null,null,"",null,null,"","","","","","","","","","","","","","","","","","","","","","","","","","","","","","","","","",{"$f":"IF($E424=AT$2,$M424,\"\")","v":""},"","","","","",""]
[null,null,null,null,null,null,null,null,null,"",null,null,"","","","","","","","","","","","","","","","","",{"$f":"IF($E425=AD$2,$M425,\"\")","v":""},"","","","","","","","","","","","","","","","","","","","","",""]
[null,null,null,null,null,null,null,null,null,"",null,null,"","","",{"$f":"IF($E426=P$2,$M426,\"\")","v":""},"","","","","","","","","","","","","","","","","","","","","","","","","","","","","","","","","","","",""]
[null,null,null,null,null,null,null,null,null,"",null,null,"","","","","","","","","","","","","","","","","","","","","","","","","","","","","","","","","","","","","","","",""]
[null,null,null,null,null,null,null,null,null,"",null,null,"","","","","","","","","","","","","","","","","","","","","","","","","","","","","","","","","","","","","","","",""]
[null,null,null,null,null,null,null,null,null,"",null,null,"","","","","","","","","","","","","","","","","","","","","","","","","","","","","","","","","","","","","","","",""]
[null,null,null,null,null,null,null,null,null,"",null,null,"","","","","","","","","","","","","","","","","","","","","","","","","","","","","","","","","","","","","","","",""]
[null,null,null,null,null,null,null,null,null,"",null,null,"","","","","","","","","","","","","","","","","","","","","","","","","","","","","","","","","","","","","","","",""]
[null,null,null,null,null,null,null,null,null,"",null,null,"","","","","","","","","","","","","","","","","","","","","","","","","","","","","","","","","","","","","","","",""]
[null,null,null,null,null,null,null,null,null,"",null,null,"","","","","","","","","","","","","","","","","","","","","","","","","","","","","","","","","","","","","","","",""]
[null,null,null,null,null,null,null,null,null,"",null,null,"","","","","","","","","","","","","","","","","","","","","","","","","","","","","","","","","","","","","","","",""]
[null,null,null,null,null,null,null,null,null,"",null,null,"","","","","","","","","","","","","","","","","","","","","","","","","","","","","","","","","","","","","","","",""]
[null,null,null,null,null,null,null,null,null,"",null,null,"","","","","","","","","","","","","","","","","","","","","","","","","","","","","","","","","","","","","","","",""]
[null,null,null,null,null,null,null,null,null,"",null,null,"","","","","","","","","","","","","","","","","","","","","","","","","","","","","","","","","","","","","","","",""]
[null,null,null,null,null,null,null,null,null,"",null,null,"",{"$f":"IF($E438=N$2,$M438,\"\")","v":""},"","","","","","","","","","","","","","","","","","","","","","","","","","","","","","","","","","","","","",""]
[null,null,null,null,null,null,null,null,null,"",null,null,"","","","","","","","","","","","","","","","","","","","","","","","","","","","","","","","","","","","","","","",""]
[null,null,null,null,null,null,null,null,null,"",null,null,"","","","","","","","","","","","","","","","","","","","","","","","","","","","","","","","","","","","","","","",""]
[null,null,null,null,null,null,null,null,null,"",null,null,"","","","","","","","","","","","","","","","","",{"$f":"IF($E441=AD$2,$M441,\"\")","v":""},"","","","","","","","","","","","","","","","","","","","","",""]
[null,null,null,null,null,null,null,null,null,"",null,null,"","","",{"$f":"IF($E442=P$2,$M442,\"\")","v":""},"","","","","","","","","","","","","","","","","","","","","","","","","","","","","","","","","","","",""]
[null,null,null,null,null,null,null,null,null,"",null,null,"","","","","","","","","","","","","","","","","","","","","","","","","","","","","","","","","","","","","","","",""]
[null,null,null,null,null,null,null,null,null,"",null,null,"","","","","","","","","","","","","","","","","","","","","","","","","","","","","","","","","","","","","","","",""]
[null,null,null,null,null,null,null,null,null,"",null,null,"","","","","","","","","","","","","","","","","","","","","","","","","","","","","","","","","","","","","","","",""]
[null,null,null,null,null,null,null,null,null,"",null,null,"","","","","","","","","","","","","","","","","","","","","","","","","","","","","","","","","","","","","","","",""]
[null,null,null,null,null,null,null,null,null,"",null,null,"","","","","","","","","","","","","","","","","","","","","","","","","","","","","","","","","","","","","","","",""]
[null,null,null,null,null,null,null,null,null,"",null,null,"","","","","","","","","","","","","","","","","","","","","","","","","","","","","","","","","","","","","","","",""]
[null,null,null,null,null,null,null,null,null,"",null,null,"","","","","","","","","","","","","","","","","","","","","","","","","","","","","","","","","","","","","","","",""]
[null,null,null,null,null,null,null,null,null,"",null,null,"","","","","","","","","","","","","","","","","","","","","","","","","","","","","","","","","","","","","","","",""]
[null,null,null,null,null,null,null,null,null,"",null,null,"","","","","","","","","","","","","","","","","","","","","","","","","","","","","","","","","","","","","","","",""]
[null,null,null,null,null,null,null,null,null,{"$f":"IF(E452=\"\",\"\",A452&\" \"&B452)","v":""},null,null,"","",{"$f":"IF($E452=O$2,$M452,\"\")","v":""},"","","","","","","","","","","","","","","","","","","","","","","","","","","","","","","","","","","","",""]
[null,null,null,null,null,null,null,null,null,"",null,null,{"$f":"IF(E453=\"\",\"\",IF(E453=E452,M452+1,1))","v":""},"","","","","","","","","","","","","","","","","","","","","","","","","","","","","","","","","","","","","","",""]
[null,null,null,null,null,null,null,null,null,"",null,null,"",{"$f":"IF($E454=N$2,$M454,\"\")","v":""},"","","","","","","","","","","","","","","","","","","","","","","","","","","","","","","","","","","","","",""]
[null,null,null,null,null,null,null,null,null,"",null,null,"","","","","","","","","","","","","","","","","","","","","","","","","","","","","","","","","","","","","","","",""]
[null,null,null,null,null,null,null,null,null,"",null,null,"","","","","","","","","","","","","","","","","","","","","","","","","","","","","","","","","","","","","","","",""]
[null,null,null,null,null,null,null,null,null,"",null,null,"","","","","","","","","","","","","","","","","",{"$f":"IF($E457=AD$2,$M457,\"\")","v":""},"","","","","","","","","","","","","","","","","","","","","",""]
[null,null,null,null,null,null,null,null,null,"",null,null,"","","",{"$f":"IF($E458=P$2,$M458,\"\")","v":""},"","","","","","","","","","","","","","","","","","","","","","","","","","","","","","","","","","","",""]
[null,null,null,null,null,null,null,null,null,"",null,null,"","","","","","","","","","","","","","","","","","","","","","","","","","","","","","","","","","","","","","","",""]
[null,null,null,null,null,null,null,null,null,"",null,null,"","","","","","","","","","","","","","","","","","","","","","","","","","","","","","","","","","","","",{"$f":"IF($E460=AW$2,$M460,\"\")","v":""},{"$f":"IF($E460=AX$2,$M460,\"\")","v":""},{"$f":"IF($E460=AY$2,$M460,\"\")","v":""},{"$f":"IF($E460=AZ$2,$M460,\"\")","v":""}]
[null,null,null,null,null,null,null,null,null,"",null,null,"","","","","","","","","","","","","","","","","","","","","","","","","","","","","","","","","",{"$f":"IF($E461=AT$2,$M461,\"\")","v":""},"","","","","",""]
[null,null,null,null,null,null,null,null,null,"",null,null,"","","","","","","","","","","","","","","","","","","","","","","","","","","","","","","","","","","","","","","",""]
[null,null,null,null,null,null,null,null,null,"",null,null,"","","","","","","","","","","","","","","","","","","","","","","","","","","","","","","","","","","","","","","",""]
[null,null,null,null,null,null,null,null,null,"",null,null,"","","","","","","","","","","","","","","","","","","","","","","","","","","","","","","","","","","","","","","",""]
[null,null,null,null,null,null,null,null,null,"",null,null,"","","","","","","","","","","","","","","","","","","","","","","","","","","","","","","","","","","","","","","",""]
[null,null,null,null,null,null,null,null,null,"",null,null,"","","","","","","","","","","","","","","","","","","","","","","","","","","","","","","","","","","","","","","",""]
[null,null,null,null,null,null,null,null,null,"",null,null,"","","","","","","","","","","","","","","","","","","","","","","","","","","","","","","","","","","","","","","",""]
[null,null,null,null,null,null,null,null,null,"",null,null,"","","","","","","","","","","","","","","","","","","","","","","","","","","","","","","","","","","","","","","",""]
[null,null,null,null,null,null,null,null,null,"",null,null,"","","","","","","","","","","","","","","","","","","","","","","","","","","","","","","","","","","","","","","",""]
[null,null,null,null,null,null,null,null,null,"",null,null,"",{"$f":"IF($E470=N$2,$M470,\"\")","v":""},"","","","","","","","","","","","","","","","","","","","","","","","","","","","","","","","","","","","","",""]
[null,null,null,null,null,null,null,null,null,"",null,null,"","","","","","","","","","","","","","","","","","","","","","","","","","","","","","","","","","","","","","","",""]
[null,null,null,null,null,null,null,null,null,"",null,null,"","","","","","","","","","","","","","","","","","","","","","","","","","","","","","","","","","","","","","","",""]
[null,null,null,null,null,null,null,null,null,"",null,null,"","","","","","","","","","","","","","","","","",{"$f":"IF($E473=AD$2,$M473,\"\")","v":""},"","","","","","","","","","","","","","","","","","","","","",""]
[null,null,null,null,null,null,null,null,null,"",null,null,"","","",{"$f":"IF($E474=P$2,$M474,\"\")","v":""},"","","","","","","","","","","","","","","","","","","","","","","","","","","","","","","","","","","",""]
[null,null,null,null,null,null,null,null,null,"",null,null,"","","","","","","","","","","","","","","","","","","","","","","","","","","","","","","","","","","","","","","",""]
[null,null,null,null,null,null,null,null,null,"",null,null,"","","","","","","","","","","","","","","","","","","","","","","","","","","","","","","","","","","","","","","",""]
[null,null,null,null,null,null,null,null,null,"",null,null,"","","","","","","","","","","","","","","","","","","","","","","","","","","","","","","","","","","","","","","",""]
[null,null,null,null,null,null,null,null,null,"",null,null,"","","","","","","","","","","","","","","","","","","","","","","","","","","","","","","","","","","","","","","",""]
[null,null,null,null,null,null,null,null,null,"",null,null,"","","","","","","","","","","","","","","","","","","","","","","","","","","","","","","","","","","","","","","",""]
[null,null,null,null,null,null,null,null,null,"",null,null,"","","","","","","","","","","","","","","","","","","","","","","","","","","","","","","","","","","","","","","",""]
[null,null,null,null,null,null,null,null,null,"",null,null,"","","","","","","","","","","","","","","","","","","","","","","","","","","","","","","","","","","","","","","",""]
[null,null,null,null,null,null,null,null,null,"",null,null,"","","","","","","","","","","","","","","","","","","","","","","","","","","","","","","","","","","","","","","",""]
[null,null,null,null,null,null,null,null,null,"",null,null,"","","","","","","","","","","","","","","","","","","","","","","","","","","","","","","","","","","","","","","",""]
[null,null,null,null,null,null,null,null,null,"",null,null,"","","","","","","","","","","","","","","","","","","","","","","","","","","","","","","","","","","","","","","",""]
[null,null,null,null,null,null,null,null,null,"",null,null,"","","","","","","","","","","","","","","","","","","","","","","","","","","","","","","","","","","","","","","",""]
[null,null,null,null,null,null,null,null,null,"",null,null,"","","","","","","","","","","","","","","","","","","","","","","","","","","","","","","","","","","","","","","",""]
[null,null,null,null,null,null,null,null,null,"",null,null,"","","","","","","","","","","","","","","","","","","","","","","","","","","","","","","","","","","","","","","",""]
[null,null,null,null,null,null,null,null,null,"",null,null,"","","","","","","","","","","","","","","","","","","","","","","","","","","","","","","","","","","","","","","",""]
[null,null,null,null,null,null,null,null,null,"",null,null,"","","","","","","","","","","","","","","","","",{"$f":"IF($E489=AD$2,$M489,\"\")","v":""},"","","","","","","","","","","","","","","","","","","","","",""]
[null,null,null,null,null,null,null,null,null,"",null,null,"","","",{"$f":"IF($E490=P$2,$M490,\"\")","v":""},"","","","","","","","","","","","","","","","","","","","","","","","","","","","","","","","","","","",""]
[null,null,null,null,null,null,null,null,null,"",null,null,"","","","","","","","","","","","","","","","","","","","","","","","","","","","","","","","","","","","","","","",""]
[null,null,null,null,null,null,null,null,null,"",null,null,"","","","","","","","","","","","","","","","","","","","","","","","","","","","","","","","","","","","","","","",""]
[null,null,null,null,null,null,null,null,null,"",null,null,"",{"$f":"IF($E493=N$2,$M493,\"\")","v":""},"","","","","","","","","","","","","","","","","","","","","","","","","","","","","","","","","","","","","",""]
[null,null,null,null,null,null,null,null,null,"",null,null,"","","","","","","","","","","","","","","","","","","","","","","","","","","","","","","","","","","","","","","",""]
[null,null,null,null,null,null,null,null,null,"",null,null,"","","","","","","","","","","","","","","","","","","","","","","","","","","","","","","","","","","","","","","",""]
[null,null,null,null,null,null,null,null,null,"",null,null,"","","","","","","","","","","","","","","","","","","","","","","","","","","","","","","","","","","","","","","",""]
[null,null,null,null,null,null,null,null,null,"",null,null,"","","","","","","","","","","","","","","","","","","","","","","","","","","","","","","","","","","","",{"$f":"IF($E497=AW$2,$M497,\"\")","v":""},{"$f":"IF($E497=AX$2,$M497,\"\")","v":""},{"$f":"IF($E497=AY$2,$M497,\"\")","v":""},{"$f":"IF($E497=AZ$2,$M497,\"\")","v":""}]
[null,null,null,null,null,null,null,null,null,"",null,null,"","","","","","","","","","","","","","","","","","","","","","","","","","","","","","","","","",{"$f":"IF($E498=AT$2,$M498,\"\")","v":""},"","","","","",""]
[null,null,null,null,null,null,null,null,null,"",null,null,"","","","","","","","","","","","","","","","","","","","","","","","","","","","","","","","","","","","","","","",""]
[null,null,null,null,null,null,null,null,null,"",null,null,"","","","","","","","","","","","","","","","","","","","","","","","","","","","","","","","","","","","","","","",""]
[null,null,null,null,null,null,null,null,null,"",null,null,"","","","","","","","","","","","","","","","","","","","","","","","","","","","","","","","","","","","","","","",""]
[null,null,null,null,null,null,null,null,null,"",null,null,"","","","","","","","","","","","","","","","","","","","","","","","","","","","","","","","","","","","","","","",""]
[null,null,null,null,null,null,null,null,null,"",null,null,"","","","","","","","","","","","","","","","","","","","","","","","","","","","","","","","","","","","","","","",""]
[null,null,null,null,null,null,null,null,null,"",null,null,"","","","","","","","","","","","","","","","","","","","","","","","","","","","","","","","","","","","","","","",""]
[null,null,null,null,null,null,null,null,null,"",null,null,"","","","","","","","","","","","","","","","","",{"$f":"IF($E505=AD$2,$M505,\"\")","v":""},"","","","","","","","","","","","","","","","","","","","","",""]
[null,null,null,null,null,null,null,null,null,"",null,null,"","","",{"$f":"IF($E506=P$2,$M506,\"\")","v":""},"","","","","","","","","","","","","","","","","","","","","","","","","","","","","","","","","","","",""]
[null,null,null,null,null,null,null,null,null,"",null,null,"","","","","","","","","","","","","","","","","","","","","","","","","","","","","","","","","","","","","","","",""]
[null,null,null,null,null,null,null,null,null,"",null,null,"","","","","","","","","","","","","","","","","","","","","","","","","","","","","","","","","","","","","","","",""]
[null,null,null,null,null,null,null,null,null,"",null,null,"",{"$f":"IF($E509=N$2,$M509,\"\")","v":""},"","","","","","","","","","","","","","","","","","","","","","","","","","","","","","","","","","","","","",""]
[null,null,null,null,null,null,null,null,null,"",null,null,"","","","","","","","","","","","","","","","","","","","","","","","","","","","","","","","","","","","","","","",""]
[null,null,null,null,null,null,null,null,null,"",null,null,"","","","","","","","","","","","","","","","","","","","","","","","","","","","","","","","","","","","","","","",""]
[null,null,null,null,null,null,null,null,null,"",null,null,"","","","","","","","","","","","","","","","","","","","","","","","","","","","","","","","","","","","","","","",""]
[null,null,null,null,null,null,null,null,null,"",null,null,"","","","","","","","","","","","","","","","","","","","","","","","","","","","","","","","","","","","","","","",""]
[null,null,null,null,null,null,null,null,null,"",null,null,"","","","","","","","","","","","","","","","","","","","","","","","","","","","","","","","","","","","","","","",""]
[null,null,null,null,null,null,null,null,null,"",null,null,"","","","","","","","","","","","","","","","","","","","","","","","","","","","","","","","","","","","","","","",""]
[null,null,null,null,null,null,null,null,null,{"$f":"IF(E516=\"\",\"\",A516&\" \"&B516)","v":""},null,null,"","",{"$f":"IF($E516=O$2,$M516,\"\")","v":""},"","","","","","","","","","","","","","","","","","","","","","","","","","","","","","","","","","","","",""]
[null,null,null,null,null,null,null,null,null,"",null,null,{"$f":"IF(E517=\"\",\"\",IF(E517=E516,M516+1,1))","v":""},"","","","","","","","","","","","","","","","","","","","","","","","","","","","","","","","","","","","","","",""]
[null,null,null,null,null,null,null,null,null,"",null,null,"","","","","","","","","","","","","","","","","","","","","","","","","","","","","","","","","","","","","","","",""]
[null,null,null,null,null,null,null,null,null,"",null,null,"","","","","","","","","","","","","","","","","","","","","","","","","","","","","","","","","","","","","","","",""]
[null,null,null,null,null,null,null,null,null,"",null,null,"","","","","","","","","","","","","","","","","","","","","","","","","","","","","","","","","","","","","","","",""]
[null,null,null,null,null,null,null,null,null,"",null,null,"","","","","","","","","","","","","","","","","",{"$f":"IF($E521=AD$2,$M521,\"\")","v":""},"","","","","","","","","","","","","","","","","","","","","",""]
[null,null,null,null,null,null,null,null,null,"",null,null,"","","",{"$f":"IF($E522=P$2,$M522,\"\")","v":""},"","","","","","","","","","","","","","","","","","","","","","","","","","","","","","","","","","","",""]
[null,null,null,null,null,null,null,null,null,"",null,null,"","","","","","","","","","","","","","","","","","","","","","","","","","","","","","","","","","","","","","","",""]
[null,null,null,null,null,null,null,null,null,"",null,null,"","","","","","","","","","","","","","","","","","","","","","","","","","","","","","","","","","","","","","","",""]
[null,null,null,null,null,null,null,null,null,"",null,null,"",{"$f":"IF($E525=N$2,$M525,\"\")","v":""},"","","","","","","","","","","","","","","","","","","","","","","","","","","","","","","","","","","","","",""]
[null,null,null,null,null,null,null,null,null,"",null,null,"","","","","","","","","","","","","","","","","","","","","","","","","","","","","","","","","","","","","","","",""]
[null,null,null,null,null,null,null,null,null,"",null,null,"","","","","","","","","","","","","","","","","","","","","","","","","","","","","","","","","","","","","","","",""]
[null,null,null,null,null,null,null,null,null,"",null,null,"","","","","","","","","","","","","","","","","","","","","","","","","","","","","","","","","","","","","","","",""]
[null,null,null,null,null,null,null,null,null,"",null,null,"","","","","","","","","","","","","","","","","","","","","","","","","","","","","","","","","","","","","","","",""]
[null,null,null,null,null,null,null,null,null,"",null,null,"","","","","","","","","","","","","","","","","","","","","","","","","","","","","","","","","","","","","","","",""]
[null,null,null,null,null,null,null,null,null,"",null,null,"","","","","","","","","","","","","","","","","","","","","","","","","","","","","","","","","","","","","","","",""]
[null,null,null,null,null,null,null,null,null,"",null,null,"","","","","","","","","","","","","","","","","","","","","","","","","","","","","","","","","","","","","","","",""]
[null,null,null,null,null,null,null,null,null,"",null,null,"","","","","","","","","","","","","","","","","","","","","","","","","","","","","","","","","","","","","","","",""]
[null,null,null,null,null,null,null,null,null,"",null,null,"","","","","","","","","","","","","","","","","","","","","","","","","","","","","","","","","","","","",{"$f":"IF($E534=AW$2,$M534,\"\")","v":""},{"$f":"IF($E534=AX$2,$M534,\"\")","v":""},{"$f":"IF($E534=AY$2,$M534,\"\")","v":""},{"$f":"IF($E534=AZ$2,$M534,\"\")","v":""}]
[null,null,null,null,null,null,null,null,null,"",null,null,"","","","","","","","","","","","","","","","","","","","","","","","","","","","","","","","","",{"$f":"IF($E535=AT$2,$M535,\"\")","v":""},"","","","","",""]
[null,null,null,null,null,null,null,null,null,"",null,null,"","","","","","","","","","","","","","","","","","","","","","","","","","","","","","","","","","","","","","","",""]
[null,null,null,null,null,null,null,null,null,"",null,null,"","","","","","","","","","","","","","","","","",{"$f":"IF($E537=AD$2,$M537,\"\")","v":""},"","","","","","","","","","","","","","","","","","","","","",""]
[null,null,null,null,null,null,null,null,null,"",null,null,"","","",{"$f":"IF($E538=P$2,$M538,\"\")","v":""},"","","","","","","","","","","","","","","","","","","","","","","","","","","","","","","","","","","",""]
[null,null,null,null,null,null,null,null,null,"",null,null,"","","","","","","","","","","","","","","","","","","","","","","","","","","","","","","","","","","","","","","",""]
[null,null,null,null,null,null,null,null,null,"",null,null,"","","","","","","","","","","","","","","","","","","","","","","","","","","","","","","","","","","","","","","",""]
[null,null,null,null,null,null,null,null,null,"",null,null,"",{"$f":"IF($E541=N$2,$M541,\"\")","v":""},"","","","","","","","","","","","","","","","","","","","","","","","","","","","","","","","","","","","","",""]
[null,null,null,null,null,null,null,null,null,"",null,null,"","","","","","","","","","","","","","","","","","","","","","","","","","","","","","","","","","","","","","","",""]
[null,null,null,null,null,null,null,null,null,"",null,null,"","","","","","","","","","","","","","","","","","","","","","","","","","","","","","","","","","","","","","","",""]
[null,null,null,null,null,null,null,null,null,"",null,null,"","","","","","","","","","","","","","","","","","","","","","","","","","","","","","","","","","","","","","","",""]
[null,null,null,null,null,null,null,null,null,"",null,null,"","","","","","","","","","","","","","","","","","","","","","","","","","","","","","","","","","","","","","","",""]
[null,null,null,null,null,null,null,null,null,"",null,null,"","","","","","","","","","","","","","","","","","","","","","","","","","","","","","","","","","","","","","","",""]
[null,null,null,null,null,null,null,null,null,"",null,null,"","","","","","","","","","","","","","","","","","","","","","","","","","","","","","","","","","","","","","","",""]
[null,null,null,null,null,null,null,null,null,"",null,null,"","","","","","","","","","","","","","","","","","","","","","","","","","","","","","","","","","","","","","","",""]
[null,null,null,null,null,null,null,null,null,"",null,null,"","","","","","","","","","","","","","","","","","","","","","","","","","","","","","","","","","","","","","","",""]
[null,null,null,null,null,null,null,null,null,"",null,null,"","","","","","","","","","","","","","","","","","","","","","","","","","","","","","","","","","","","","","","",""]
[null,null,null,null,null,null,null,null,null,"",null,null,"","","","","","","","","","","","","","","","","","","","","","","","","","","","","","","","","","","","","","","",""]
[null,null,null,null,null,null,null,null,null,"",null,null,"","","","","","","","","","","","","","","","","","","","","","","","","","","","","","","","","","","","","","","",""]
[null,null,null,null,null,null,null,null,null,"",null,null,"","","","","","","","","","","","","","","","","",{"$f":"IF($E553=AD$2,$M553,\"\")","v":""},"","","","","","","","","","","","","","","","","","","","","",""]
[null,null,null,null,null,null,null,null,null,"",null,null,"","","",{"$f":"IF($E554=P$2,$M554,\"\")","v":""},"","","","","","","","","","","","","","","","","","","","","","","","","","","","","","","","","","","",""]
[null,null,null,null,null,null,null,null,null,"",null,null,"","","","","","","","","","","","","","","","","","","","","","","","","","","","","","","","","","","","","","","",""]
[null,null,null,null,null,null,null,null,null,"",null,null,"","","","","","","","","","","","","","","","","","","","","","","","","","","","","","","","","","","","","","","",""]
[null,null,null,null,null,null,null,null,null,"",null,null,"",{"$f":"IF($E557=N$2,$M557,\"\")","v":""},"","","","","","","","","","","","","","","","","","","","","","","","","","","","","","","","","","","","","",""]
[null,null,null,null,null,null,null,null,null,"",null,null,"","","","","","","","","","","","","","","","","","","","","","","","","","","","","","","","","","","","","","","",""]
[null,null,null,null,null,null,null,null,null,"",null,null,"","","","","","","","","","","","","","","","","","","","","","","","","","","","","","","","","","","","","","","",""]
[null,null,null,null,null,null,null,null,null,"",null,null,"","","","","","","","","","","","","","","","","","","","","","","","","","","","","","","","","","","","","","","",""]
[null,null,null,null,null,null,null,null,null,"",null,null,"","","","","","","","","","","","","","","","","","","","","","","","","","","","","","","","","","","","","","","",""]
[null,null,null,null,null,null,null,null,null,"",null,null,"","","","","","","","","","","","","","","","","","","","","","","","","","","","","","","","","","","","","","","",""]
[null,null,null,null,null,null,null,null,null,"",null,null,"","","","","","","","","","","","","","","","","","","","","","","","","","","","","","","","","","","","","","","",""]
[null,null,null,null,null,null,null,null,null,"",null,null,"","","","","","","","","","","","","","","","","","","","","","","","","","","","","","","","","","","","","","","",""]
[null,null,null,null,null,null,null,null,null,"",null,null,"","","","","","","","","","","","","","","","","","","","","","","","","","","","","","","","","","","","","","","",""]
[null,null,null,null,null,null,null,null,null,"",null,null,"","","","","","","","","","","","","","","","","","","","","","","","","","","","","","","","","","","","","","","",""]
[null,null,null,null,null,null,null,null,null,"",null,null,"","","","","","","","","","","","","","","","","","","","","","","","","","","","","","","","","","","","","","","",""]
[null,null,null,null,null,null,null,null,null,"",null,null,"","","","","","","","","","","","","","","","","","","","","","","","","","","","","","","","","","","","","","","",""]
[null,null,null,null,null,null,null,null,null,"",null,null,"","","","","","","","","","","","","","","","","",{"$f":"IF($E569=AD$2,$M569,\"\")","v":""},"","","","","","","","","","","","","","","","","","","","","",""]
[null,null,null,null,null,null,null,null,null,"",null,null,"","","",{"$f":"IF($E570=P$2,$M570,\"\")","v":""},"","","","","","","","","","","","","","","","","","","","","","","","","","","","","","","","","","","",""]
[null,null,null,null,null,null,null,null,null,"",null,null,"","","","","","","","","","","","","","","","","","","","","","","","","","","","","","","","","","","","",{"$f":"IF($E571=AW$2,$M571,\"\")","v":""},{"$f":"IF($E571=AX$2,$M571,\"\")","v":""},{"$f":"IF($E571=AY$2,$M571,\"\")","v":""},{"$f":"IF($E571=AZ$2,$M571,\"\")","v":""}]
[null,null,null,null,null,null,null,null,null,"",null,null,"","","","","","","","","","","","","","","","","","","","","","","","","","","","","","","","","",{"$f":"IF($E572=AT$2,$M572,\"\")","v":""},"","","","","",""]
[null,null,null,null,null,null,null,null,null,"",null,null,"",{"$f":"IF($E573=N$2,$M573,\"\")","v":""},"","","","","","","","","","","","","","","","","","","","","","","","","","","","","","","","","","","","","",""]
[null,null,null,null,null,null,null,null,null,"",null,null,"","","","","","","","","","","","","","","","","","","","","","","","","","","","","","","","","","","","","","","",""]
[null,null,null,null,null,null,null,null,null,"",null,null,"","","","","","","","","","","","","","","","","","","","","","","","","","","","","","","","","","","","","","","",""]
[null,null,null,null,null,null,null,null,null,"",null,null,"","","","","","","","","","","","","","","","","","","","","","","","","","","","","","","","","","","","","","","",""]
[null,null,null,null,null,null,null,null,null,"",null,null,"","","","","","","","","","","","","","","","","","","","","","","","","","","","","","","","","","","","","","","",""]
[null,null,null,null,null,null,null,null,null,"",null,null,"","","","","","","","","","","","","","","","","","","","","","","","","","","","","","","","","","","","","","","",""]
[null,null,null,null,null,null,null,null,null,"",null,null,"","","","","","","","","","","","","","","","","","","","","","","","","","","","","","","","","","","","","","","",""]
[null,null,null,null,null,null,null,null,null,{"$f":"IF(E580=\"\",\"\",A580&\" \"&B580)","v":""},null,null,"","",{"$f":"IF($E580=O$2,$M580,\"\")","v":""},"","","","","","","","","","","","","","","","","","","","","","","","","","","","","","","","","","","","",""]
[null,null,null,null,null,null,null,null,null,"",null,null,{"$f":"IF(E581=\"\",\"\",IF(E581=E580,M580+1,1))","v":""},"","","","","","","","","","","","","","","","","","","","","","","","","","","","","","","","","","","","","","",""]
[null,null,null,null,null,null,null,null,null,"",null,null,"","","","","","","","","","","","","","","","","","","","","","","","","","","","","","","","","","","","","","","",""]
[null,null,null,null,null,null,null,null,null,"",null,null,"","","","","","","","","","","","","","","","","","","","","","","","","","","","","","","","","","","","","","","",""]
[null,null,null,null,null,null,null,null,null,"",null,null,"","","","","","","","","","","","","","","","","","","","","","","","","","","","","","","","","","","","","","","",""]
[null,null,null,null,null,null,null,null,null,"",null,null,"","","","","","","","","","","","","","","","","",{"$f":"IF($E585=AD$2,$M585,\"\")","v":""},"","","","","","","","","","","","","","","","","","","","","",""]
[null,null,null,null,null,null,null,null,null,"",null,null,"","","",{"$f":"IF($E586=P$2,$M586,\"\")","v":""},"","","","","","","","","","","","","","","","","","","","","","","","","","","","","","","","","","","",""]
[null,null,null,null,null,null,null,null,null,"",null,null,"","","","","","","","","","","","","","","","","","","","","","","","","","","","","","","","","","","","","","","",""]
[null,null,null,null,null,null,null,null,null,"",null,null,"","","","","","","","","","","","","","","","","","","","","","","","","","","","","","","","","","","","","","","",""]
[null,null,null,null,null,null,null,null,null,"",null,null,"","","","","","","","","","","","","","","","","","","","","","","","","","","","","","","","","","","","","","","",""]
[null,null,null,null,null,null,null,null,null,"",null,null,"","","","","","","","","","","","","","","","","","","","","","","","","","","","","","","","","","","","","","","",""]
[null,null,null,null,null,null,null,null,null,"",null,null,"","","","","","","","","","","","","","","","","","","","","","","","","","","","","","","","","","","","","","","",""]
[null,null,null,null,null,null,null,null,null,"",null,null,"","","","","","","","","","","","","","","","","","","","","","","","","","","","","","","","","","","","","","","",""]
[null,null,null,null,null,null,null,null,null,"",null,null,"","","","","","","","","","","","","","","","","","","","","","","","","","","","","","","","","","","","","","","",""]
[null,null,null,null,null,null,null,null,null,"",null,null,"","","","","","","","","","","","","","","","","","","","","","","","","","","","","","","","","","","","","","","",""]
[null,null,null,null,null,null,null,null,null,"",null,null,"","","","","","","","","","","","","","","","","","","","","","","","","","","","","","","","","","","","","","","",""]
[null,null,null,null,null,null,null,null,null,"",null,null,"",{"$f":"IF($E596=N$2,$M596,\"\")","v":""},"","","","","","","","","","","","","","","","","","","","","","","","","","","","","","","","","","","","","",""]
[null,null,null,null,null,null,null,null,null,"",null,null,"","","","","","","","","","","","","","","","","","","","","","","","","","","","","","","","","","","","","","","",""]
[null,null,null,null,null,null,null,null,null,"",null,null,"","","","","","","","","","","","","","","","","","","","","","","","","","","","","","","","","","","","","","","",""]
[null,null,null,null,null,null,null,null,null,"",null,null,"","","","","","","","","","","","","","","","","","","","","","","","","","","","","","","","","","","","","","","",""]
[null,null,null,null,null,null,null,null,null,"",null,null,"","","","","","","","","","","","","","","","","","","","","","","","","","","","","","","","","","","","","","","",""]
[null,null,null,null,null,null,null,null,null,"",null,null,"","","","","","","","","","","","","","","","","",{"$f":"IF($E601=AD$2,$M601,\"\")","v":""},"","","","","","","","","","","","","","","","","","","","","",""]
[null,null,null,null,null,null,null,null,null,"",null,null,"","","",{"$f":"IF($E602=P$2,$M602,\"\")","v":""},"","","","","","","","","","","","","","","","","","","","","","","","","","","","","","","","","","","",""]
[null,null,null,null,null,null,null,null,null,"",null,null,"","","","","","","","","","","","","","","","","","","","","","","","","","","","","","","","","","","","","","","",""]
[null,null,null,null,null,null,null,null,null,"",null,null,"","","","","","","","","","","","","","","","","","","","","","","","","","","","","","","","","","","","","","","",""]
[null,null,null,null,null,null,null,null,null,"",null,null,"","","","","","","","","","","","","","","","","","","","","","","","","","","","","","","","","","","","","","","",""]
[null,null,null,null,null,null,null,null,null,"",null,null,"","","","","","","","","","","","","","","","","","","","","","","","","","","","","","","","","","","","","","","",""]
[null,null,null,null,null,null,null,null,null,"",null,null,"","","","","","","","","","","","","","","","","","","","","","","","","","","","","","","","","","","","","","","",""]
[null,null,null,null,null,null,null,null,null,"",null,null,"","","","","","","","","","","","","","","","","","","","","","","","","","","","","","","","","","","","",{"$f":"IF($E608=AW$2,$M608,\"\")","v":""},{"$f":"IF($E608=AX$2,$M608,\"\")","v":""},{"$f":"IF($E608=AY$2,$M608,\"\")","v":""},{"$f":"IF($E608=AZ$2,$M608,\"\")","v":""}]
[null,null,null,null,null,null,null,null,null,"",null,null,"","","","","","","","","","","","","","","","","","","","","","","","","","","","","","","","","",{"$f":"IF($E609=AT$2,$M609,\"\")","v":""},"","","","","",""]
[null,null,null,null,null,null,null,null,null,"",null,null,"","","","","","","","","","","","","","","","","","","","","","","","","","","","","","","","","","","","","","","",""]
[null,null,null,null,null,null,null,null,null,"",null,null,"","","","","","","","","","","","","","","","","","","","","","","","","","","","","","","","","","","","","","","",""]
[null,null,null,null,null,null,null,null,null,"",null,null,"",{"$f":"IF($E612=N$2,$M612,\"\")","v":""},"","","","","","","","","","","","","","","","","","","","","","","","","","","","","","","","","","","","","",""]
[null,null,null,null,null,null,null,null,null,"",null,null,"","","","","","","","","","","","","","","","","","","","","","","","","","","","","","","","","","","","","","","",""]
[null,null,null,null,null,null,null,null,null,"",null,null,"","","","","","","","","","","","","","","","","","","","","","","","","","","","","","","","","","","","","","","",""]
[null,null,null,null,null,null,null,null,null,"",null,null,"","","","","","","","","","","","","","","","","","","","","","","","","","","","","","","","","","","","","","","",""]
[null,null,null,null,null,null,null,null,null,"",null,null,"","","","","","","","","","","","","","","","","","","","","","","","","","","","","","","","","","","","","","","",""]
[null,null,null,null,null,null,null,null,null,"",null,null,"","","","","","","","","","","","","","","","","",{"$f":"IF($E617=AD$2,$M617,\"\")","v":""},"","","","","","","","","","","","","","","","","","","","","",""]
[null,null,null,null,null,null,null,null,null,"",null,null,"","","",{"$f":"IF($E618=P$2,$M618,\"\")","v":""},"","","","","","","","","","","","","","","","","","","","","","","","","","","","","","","","","","","",""]
[null,null,null,null,null,null,null,null,null,"",null,null,"","","","","","","","","","","","","","","","","","","","","","","","","","","","","","","","","","","","","","","",""]
[null,null,null,null,null,null,null,null,null,"",null,null,"","","","","","","","","","","","","","","","","","","","","","","","","","","","","","","","","","","","","","","",""]
[null,null,null,null,null,null,null,null,null,"",null,null,"","","","","","","","","","","","","","","","","","","","","","","","","","","","","","","","","","","","","","","",""]
[null,null,null,null,null,null,null,null,null,"",null,null,"","","","","","","","","","","","","","","","","","","","","","","","","","","","","","","","","","","","","","","",""]
[null,null,null,null,null,null,null,null,null,"",null,null,"","","","","","","","","","","","","","","","","","","","","","","","","","","","","","","","","","","","","","","",""]
[null,null,null,null,null,null,null,null,null,"",null,null,"","","","","","","","","","","","","","","","","","","","","","","","","","","","","","","","","","","","","","","",""]
[null,null,null,null,null,null,null,null,null,"",null,null,"","","","","","","","","","","","","","","","","","","","","","","","","","","","","","","","","","","","","","","",""]
[null,null,null,null,null,null,null,null,null,"",null,null,"","","","","","","","","","","","","","","","","","","","","","","","","","","","","","","","","","","","","","","",""]
[null,null,null,null,null,null,null,null,null,"",null,null,"","","","","","","","","","","","","","","","","","","","","","","","","","","","","","","","","","","","","","","",""]
[null,null,null,null,null,null,null,null,null,"",null,null,"",{"$f":"IF($E628=N$2,$M628,\"\")","v":""},"","","","","","","","","","","","","","","","","","","","","","","","","","","","","","","","","","","","","",""]
[null,null,null,null,null,null,null,null,null,"",null,null,"","","","","","","","","","","","","","","","","","","","","","","","","","","","","","","","","","","","","","","",""]
[null,null,null,null,null,null,null,null,null,"",null,null,"","","","","","","","","","","","","","","","","","","","","","","","","","","","","","","","","","","","","","","",""]
[null,null,null,null,null,null,null,null,null,"",null,null,"","","","","","","","","","","","","","","","","","","","","","","","","","","","","","","","","","","","","","","",""]
[null,null,null,null,null,null,null,null,null,"",null,null,"","","","","","","","","","","","","","","","","","","","","","","","","","","","","","","","","","","","","","","",""]
[null,null,null,null,null,null,null,null,null,"",null,null,"","","","","","","","","","","","","","","","","",{"$f":"IF($E633=AD$2,$M633,\"\")","v":""},"","","","","","","","","","","","","","","","","","","","","",""]
[null,null,null,null,null,null,null,null,null,"",null,null,"","","",{"$f":"IF($E634=P$2,$M634,\"\")","v":""},"","","","","","","","","","","","","","","","","","","","","","","","","","","","","","","","","","","",""]
[null,null,null,null,null,null,null,null,null,"",null,null,"","","","","","","","","","","","","","","","","","","","","","","","","","","","","","","","","","","","","","","",""]
[null,null,null,null,null,null,null,null,null,"",null,null,"","","","","","","","","","","","","","","","","","","","","","","","","","","","","","","","","","","","","","","",""]
[null,null,null,null,null,null,null,null,null,"",null,null,"","","","","","","","","","","","","","","","","","","","","","","","","","","","","","","","","","","","","","","",""]
[null,null,null,null,null,null,null,null,null,"",null,null,"","","","","","","","","","","","","","","","","","","","","","","","","","","","","","","","","","","","","","","",""]
[null,null,null,null,null,null,null,null,null,"",null,null,"","","","","","","","","","","","","","","","","","","","","","","","","","","","","","","","","","","","","","","",""]
[null,null,null,null,null,null,null,null,null,"",null,null,"","","","","","","","","","","","","","","","","","","","","","","","","","","","","","","","","","","","","","","",""]
[null,null,null,null,null,null,null,null,null,"",null,null,"","","","","","","","","","","","","","","","","","","","","","","","","","","","","","","","","","","","","","","",""]
[null,null,null,null,null,null,null,null,null,"",null,null,"","","","","","","","","","","","","","","","","","","","","","","","","","","","","","","","","","","","","","","",""]
[null,null,null,null,null,null,null,null,null,"",null,null,"","","","","","","","","","","","","","","","","","","","","","","","","","","","","","","","","","","","","","","",""]
[null,null,null,null,null,null,null,null,null,{"$f":"IF(E644=\"\",\"\",A644&\" \"&B644)","v":""},null,null,"",{"$f":"IF($E644=N$2,$M644,\"\")","v":""},{"$f":"IF($E644=O$2,$M644,\"\")","v":""},"","","","","","","","","","","","","","","","","","","","","","","","","","","","","","","","","","","","",""]
[null,null,null,null,null,null,null,null,null,"",null,null,{"$f":"IF(E645=\"\",\"\",IF(E645=E644,M644+1,1))","v":""},"","","","","","","","","","","","","","","","","","","","","","","","","","","","","","","","","","","",{"$f":"IF($E645=AW$2,$M645,\"\")","v":""},{"$f":"IF($E645=AX$2,$M645,\"\")","v":""},{"$f":"IF($E645=AY$2,$M645,\"\")","v":""},{"$f":"IF($E645=AZ$2,$M645,\"\")","v":""}]
[null,null,null,null,null,null,null,null,null,"",null,null,"","","","","","","","","","","","","","","","","","","","","","","","","","","","","","","","","",{"$f":"IF($E646=AT$2,$M646,\"\")","v":""},"","","","","",""]
[null,null,null,null,null,null,null,null,null,"",null,null,"","","","","","","","","","","","","","","","","","","","","","","","","","","","","","","","","","","","","","","",""]
[null,null,null,null,null,null,null,null,null,"",null,null,"","","","","","","","","","","","","","","","","","","","","","","","","","","","","","","","","","","","","","","",""]
[null,null,null,null,null,null,null,null,null,"",null,null,"","","","","","","","","","","","","","","","","",{"$f":"IF($E649=AD$2,$M649,\"\")","v":""},"","","","","","","","","","","","","","","","","","","","","",""]
[null,null,null,null,null,null,null,null,null,"",null,null,"","","",{"$f":"IF($E650=P$2,$M650,\"\")","v":""},"","","","","","","","","","","","","","","","","","","","","","","","","","","","","","","","","","","",""]
[null,null,null,null,null,null,null,null,null,"",null,null,"","","","","","","","","","","","","","","","","","","","","","","","","","","","","","","","","","","","","","","",""]
[null,null,null,null,null,null,null,null,null,"",null,null,"","","","","","","","","","","","","","","","","","","","","","","","","","","","","","","","","","","","","","","",""]
[null,null,null,null,null,null,null,null,null,"",null,null,"","","","","","","","","","","","","","","","","","","","","","","","","","","","","","","","","","","","","","","",""]
[null,null,null,null,null,null,null,null,null,"",null,null,"","","","","","","","","","","","","","","","","","","","","","","","","","","","","","","","","","","","","","","",""]
[null,null,null,null,null,null,null,null,null,"",null,null,"","","","","","","","","","","","","","","","","","","","","","","","","","","","","","","","","","","","","","","",""]
[null,null,null,null,null,null,null,null,null,"",null,null,"","","","","","","","","","","","","","","","","","","","","","","","","","","","","","","","","","","","","","","",""]
[null,null,null,null,null,null,null,null,null,"",null,null,"","","","","","","","","","","","","","","","","","","","","","","","","","","","","","","","","","","","","","","",""]
[null,null,null,null,null,null,null,null,null,"",null,null,"","","","","","","","","","","","","","","","","","","","","","","","","","","","","","","","","","","","","","","",""]
[null,null,null,null,null,null,null,null,null,"",null,null,"","","","","","","","","","","","","","","","","","","","","","","","","","","","","","","","","","","","","","","",""]
[null,null,null,null,null,null,null,null,null,"",null,null,"",{"$f":"IF($E660=N$2,$M660,\"\")","v":""},"","","","","","","","","","","","","","","","","","","","","","","","","","","","","","","","","","","","","",""]
[null,null,null,null,null,null,null,null,null,"",null,null,"","","","","","","","","","","","","","","","","","","","","","","","","","","","","","","","","","","","","","","",""]
[null,null,null,null,null,null,null,null,null,"",null,null,"","","","","","","","","","","","","","","","","","","","","","","","","","","","","","","","","","","","","","","",""]
[null,null,null,null,null,null,null,null,null,"",null,null,"","","","","","","","","","","","","","","","","","","","","","","","","","","","","","","","","","","","","","","",""]
[null,null,null,null,null,null,null,null,null,"",null,null,"","","","","","","","","","","","","","","","","","","","","","","","","","","","","","","","","","","","","","","",""]
[null,null,null,null,null,null,null,null,null,"",null,null,"","","","","","","","","","","","","","","","","",{"$f":"IF($E665=AD$2,$M665,\"\")","v":""},"","","","","","","","","","","","","","","","","","","","","",""]
[null,null,null,null,null,null,null,null,null,"",null,null,"","","",{"$f":"IF($E666=P$2,$M666,\"\")","v":""},"","","","","","","","","","","","","","","","","","","","","","","","","","","","","","","","","","","",""]
[null,null,null,null,null,null,null,null,null,"",null,null,"","","","","","","","","","","","","","","","","","","","","","","","","","","","","","","","","","","","","","","",""]
[null,null,null,null,null,null,null,null,null,"",null,null,"","","","","","","","","","","","","","","","","","","","","","","","","","","","","","","","","","","","","","","",""]
[null,null,null,null,null,null,null,null,null,"",null,null,"","","","","","","","","","","","","","","","","","","","","","","","","","","","","","","","","","","","","","","",""]
[null,null,null,null,null,null,null,null,null,"",null,null,"","","","","","","","","","","","","","","","","","","","","","","","","","","","","","","","","","","","","","","",""]
[null,null,null,null,null,null,null,null,null,"",null,null,"","","","","","","","","","","","","","","","","","","","","","","","","","","","","","","","","","","","","","","",""]
[null,null,null,null,null,null,null,null,null,"",null,null,"","","","","","","","","","","","","","","","","","","","","","","","","","","","","","","","","","","","","","","",""]
[null,null,null,null,null,null,null,null,null,"",null,null,"","","","","","","","","","","","","","","","","","","","","","","","","","","","","","","","","","","","","","","",""]
[null,null,null,null,null,null,null,null,null,"",null,null,"","","","","","","","","","","","","","","","","","","","","","","","","","","","","","","","","","","","","","","",""]
[null,null,null,null,null,null,null,null,null,"",null,null,"","","","","","","","","","","","","","","","","","","","","","","","","","","","","","","","","","","","","","","",""]
[null,null,null,null,null,null,null,null,null,"",null,null,"",{"$f":"IF($E676=N$2,$M676,\"\")","v":""},"","","","","","","","","","","","","","","","","","","","","","","","","","","","","","","","","","","","","",""]
[null,null,null,null,null,null,null,null,null,"",null,null,"","","","","","","","","","","","","","","","","","","","","","","","","","","","","","","","","","","","","","","",""]
[null,null,null,null,null,null,null,null,null,"",null,null,"","","","","","","","","","","","","","","","","","","","","","","","","","","","","","","","","","","","","","","",""]
[null,null,null,null,null,null,null,null,null,"",null,null,"","","","","","","","","","","","","","","","","","","","","","","","","","","","","","","","","","","","","","","",""]
[null,null,null,null,null,null,null,null,null,"",null,null,"","","","","","","","","","","","","","","","","","","","","","","","","","","","","","","","","","","","","","","",""]
[null,null,null,null,null,null,null,null,null,"",null,null,"","","","","","","","","","","","","","","","","",{"$f":"IF($E681=AD$2,$M681,\"\")","v":""},"","","","","","","","","","","","","","","","","","","","","",""]
[null,null,null,null,null,null,null,null,null,"",null,null,"","","",{"$f":"IF($E682=P$2,$M682,\"\")","v":""},"","","","","","","","","","","","","","","","","","","","","","","","","","","","","","","","",{"$f":"IF($E682=AW$2,$M682,\"\")","v":""},{"$f":"IF($E682=AX$2,$M682,\"\")","v":""},{"$f":"IF($E682=AY$2,$M682,\"\")","v":""},{"$f":"IF($E682=AZ$2,$M682,\"\")","v":""}]
[null,null,null,null,null,null,null,null,null,"",null,null,"","","","","","","","","","","","","","","","","","","","","","","","","","","","","","","","","",{"$f":"IF($E683=AT$2,$M683,\"\")","v":""},"","","","","",""]
[null,null,null,null,null,null,null,null,null,"",null,null,"","","","","","","","","","","","","","","","","","","","","","","","","","","","","","","","","","","","","","","",""]
[null,null,null,null,null,null,null,null,null,"",null,null,"","","","","","","","","","","","","","","","","","","","","","","","","","","","","","","","","","","","","","","",""]
[null,null,null,null,null,null,null,null,null,"",null,null,"","","","","","","","","","","","","","","","","","","","","","","","","","","","","","","","","","","","","","","",""]
[null,null,null,null,null,null,null,null,null,"",null,null,"","","","","","","","","","","","","","","","","","","","","","","","","","","","","","","","","","","","","","","",""]
[null,null,null,null,null,null,null,null,null,"",null,null,"","","","","","","","","","","","","","","","","","","","","","","","","","","","","","","","","","","","","","","",""]
[null,null,null,null,null,null,null,null,null,"",null,null,"","","","","","","","","","","","","","","","","","","","","","","","","","","","","","","","","","","","","","","",""]
[null,null,null,null,null,null,null,null,null,"",null,null,"","","","","","","","","","","","","","","","","","","","","","","","","","","","","","","","","","","","","","","",""]
[null,null,null,null,null,null,null,null,null,"",null,null,"","","","","","","","","","","","","","","","","","","","","","","","","","","","","","","","","","","","","","","",""]
[null,null,null,null,null,null,null,null,null,"",null,null,"","","","","","","","","","","","","","","","","","","","","","","","","","","","","","","","","","","","","","","",""]
[null,null,null,null,null,null,null,null,null,"",null,null,"","","","","","","","","","","","","","","","","","","","","","","","","","","","","","","","","","","","","","","",""]
[null,null,null,null,null,null,null,null,null,"",null,null,"","","","","","","","","","","","","","","","","","","","","","","","","","","","","","","","","","","","","","","",""]
[null,null,null,null,null,null,null,null,null,"",null,null,"","","","","","","","","","","","","","","","","","","","","","","","","","","","","","","","","","","","","","","",""]
[null,null,null,null,null,null,null,null,null,"",null,null,"","","","","","","","","","","","","","","","","","","","","","","","","","","","","","","","","","","","","","","",""]
[null,null,null,null,null,null,null,null,null,"",null,null,"","","","","","","","","","","","","","","","","",{"$f":"IF($E697=AD$2,$M697,\"\")","v":""},"","","","","","","","","","","","","","","","","","","","","",""]
[null,null,null,null,null,null,null,null,null,"",null,null,"","","",{"$f":"IF($E698=P$2,$M698,\"\")","v":""},"","","","","","","","","","","","","","","","","","","","","","","","","","","","","","","","","","","",""]
[null,null,null,null,null,null,null,null,null,"",null,null,"",{"$f":"IF($E699=N$2,$M699,\"\")","v":""},"","","","","","","","","","","","","","","","","","","","","","","","","","","","","","","","","","","","","",""]
[null,null,null,null,null,null,null,null,null,"",null,null,"","","","","","","","","","","","","","","","","","","","","","","","","","","","","","","","","","","","","","","",""]
[null,null,null,null,null,null,null,null,null,"",null,null,"","","","","","","","","","","","","","","","","","","","","","","","","","","","","","","","","","","","","","","",""]
[null,null,null,null,null,null,null,null,null,"",null,null,"","","","","","","","","","","","","","","","","","","","","","","","","","","","","","","","","","","","","","","",""]
[null,null,null,null,null,null,null,null,null,"",null,null,"","","","","","","","","","","","","","","","","","","","","","","","","","","","","","","","","","","","","","","",""]
[null,null,null,null,null,null,null,null,null,"",null,null,"","","","","","","","","","","","","","","","","","","","","","","","","","","","","","","","","","","","","","","",""]
[null,null,null,null,null,null,null,null,null,"",null,null,"","","","","","","","","","","","","","","","","","","","","","","","","","","","","","","","","","","","","","","",""]
[null,null,null,null,null,null,null,null,null,"",null,null,"","","","","","","","","","","","","","","","","","","","","","","","","","","","","","","","","","","","","","","",""]
[null,null,null,null,null,null,null,null,null,"",null,null,"","","","","","","","","","","","","","","","","","","","","","","","","","","","","","","","","","","","","","","",""]
[null,null,null,null,null,null,null,null,null,{"$f":"IF(E708=\"\",\"\",A708&\" \"&B708)","v":""},null,null,"","",{"$f":"IF($E708=O$2,$M708,\"\")","v":""},"","","","","","","","","","","","","","","","","","","","","","","","","","","","","","","","","","","","",""]
[null,null,null,null,null,null,null,null,null,"",null,null,{"$f":"IF(E709=\"\",\"\",IF(E709=E708,M708+1,1))","v":""},"","","","","","","","","","","","","","","","","","","","","","","","","","","","","","","","","","","","","","",""]
[null,null,null,null,null,null,null,null,null,"",null,null,"","","","","","","","","","","","","","","","","","","","","","","","","","","","","","","","","","","","","","","",""]
[null,null,null,null,null,null,null,null,null,"",null,null,"","","","","","","","","","","","","","","","","","","","","","","","","","","","","","","","","","","","","","","",""]
[null,null,null,null,null,null,null,null,null,"",null,null,"","","","","","","","","","","","","","","","","","","","","","","","","","","","","","","","","","","","","","","",""]
[null,null,null,null,null,null,null,null,null,"",null,null,"","","","","","","","","","","","","","","","","",{"$f":"IF($E713=AD$2,$M713,\"\")","v":""},"","","","","","","","","","","","","","","","","","","","","",""]
[null,null,null,null,null,null,null,null,null,"",null,null,"","","",{"$f":"IF($E714=P$2,$M714,\"\")","v":""},"","","","","","","","","","","","","","","","","","","","","","","","","","","","","","","","","","","",""]
[null,null,null,null,null,null,null,null,null,"",null,null,"",{"$f":"IF($E715=N$2,$M715,\"\")","v":""},"","","","","","","","","","","","","","","","","","","","","","","","","","","","","","","","","","","","","",""]
[null,null,null,null,null,null,null,null,null,"",null,null,"","","","","","","","","","","","","","","","","","","","","","","","","","","","","","","","","","","","","","","",""]
[null,null,null,null,null,null,null,null,null,"",null,null,"","","","","","","","","","","","","","","","","","","","","","","","","","","","","","","","","","","","","","","",""]
[null,null,null,null,null,null,null,null,null,"",null,null,"","","","","","","","","","","","","","","","","","","","","","","","","","","","","","","","","","","","","","","",""]
[null,null,null,null,null,null,null,null,null,"",null,null,"","","","","","","","","","","","","","","","","","","","","","","","","","","","","","","","","","","","",{"$f":"IF($E719=AW$2,$M719,\"\")","v":""},{"$f":"IF($E719=AX$2,$M719,\"\")","v":""},{"$f":"IF($E719=AY$2,$M719,\"\")","v":""},{"$f":"IF($E719=AZ$2,$M719,\"\")","v":""}]
[null,null,null,null,null,null,null,null,null,"",null,null,"","","","","","","","","","","","","","","","","","","","","","","","","","","","","","","","","",{"$f":"IF($E720=AT$2,$M720,\"\")","v":""},"","","","","",""]
[null,null,null,null,null,null,null,null,null,"",null,null,"","","","","","","","","","","","","","","","","","","","","","","","","","","","","","","","","","","","","","","",""]
[null,null,null,null,null,null,null,null,null,"",null,null,"","","","","","","","","","","","","","","","","","","","","","","","","","","","","","","","","","","","","","","",""]
[null,null,null,null,null,null,null,null,null,"",null,null,"","","","","","","","","","","","","","","","","","","","","","","","","","","","","","","","","","","","","","","",""]
[null,null,null,null,null,null,null,null,null,"",null,null,"","","","","","","","","","","","","","","","","","","","","","","","","","","","","","","","","","","","","","","",""]
[null,null,null,null,null,null,null,null,null,"",null,null,"","","","","","","","","","","","","","","","","","","","","","","","","","","","","","","","","","","","","","","",""]
[null,null,null,null,null,null,null,null,null,"",null,null,"","","","","","","","","","","","","","","","","","","","","","","","","","","","","","","","","","","","","","","",""]
[null,null,null,null,null,null,null,null,null,"",null,null,"","","","","","","","","","","","","","","","","","","","","","","","","","","","","","","","","","","","","","","",""]
[null,null,null,null,null,null,null,null,null,"",null,null,"","","","","","","","","","","","","","","","","","","","","","","","","","","","","","","","","","","","","","","",""]
[null,null,null,null,null,null,null,null,null,"",null,null,"","","","","","","","","","","","","","","","","",{"$f":"IF($E729=AD$2,$M729,\"\")","v":""},"","","","","","","","","","","","","","","","","","","","","",""]
[null,null,null,null,null,null,null,null,null,"",null,null,"","","",{"$f":"IF($E730=P$2,$M730,\"\")","v":""},"","","","","","","","","","","","","","","","","","","","","","","","","","","","","","","","","","","",""]
[null,null,null,null,null,null,null,null,null,"",null,null,"",{"$f":"IF($E731=N$2,$M731,\"\")","v":""},"","","","","","","","","","","","","","","","","","","","","","","","","","","","","","","","","","","","","",""]
[null,null,null,null,null,null,null,null,null,"",null,null,"","","","","","","","","","","","","","","","","","","","","","","","","","","","","","","","","","","","","","","",""]
[null,null,null,null,null,null,null,null,null,"",null,null,"","","","","","","","","","","","","","","","","","","","","","","","","","","","","","","","","","","","","","","",""]
[null,null,null,null,null,null,null,null,null,"",null,null,"","","","","","","","","","","","","","","","","","","","","","","","","","","","","","","","","","","","","","","",""]
[null,null,null,null,null,null,null,null,null,"",null,null,"","","","","","","","","","","","","","","","","","","","","","","","","","","","","","","","","","","","","","","",""]
[null,null,null,null,null,null,null,null,null,"",null,null,"","","","","","","","","","","","","","","","","","","","","","","","","","","","","","","","","","","","","","","",""]
[null,null,null,null,null,null,null,null,null,"",null,null,"","","","","","","","","","","","","","","","","","","","","","","","","","","","","","","","","","","","","","","",""]
[null,null,null,null,null,null,null,null,null,"",null,null,"","","","","","","","","","","","","","","","","","","","","","","","","","","","","","","","","","","","","","","",""]
[null,null,null,null,null,null,null,null,null,"",null,null,"","","","","","","","","","","","","","","","","","","","","","","","","","","","","","","","","","","","","","","",""]
[null,null,null,null,null,null,null,null,null,"",null,null,"","","","","","","","","","","","","","","","","","","","","","","","","","","","","","","","","","","","","","","",""]
[null,null,null,null,null,null,null,null,null,"",null,null,"","","","","","","","","","","","","","","","","","","","","","","","","","","","","","","","","","","","","","","",""]
[null,null,null,null,null,null,null,null,null,"",null,null,"","","","","","","","","","","","","","","","","","","","","","","","","","","","","","","","","","","","","","","",""]
[null,null,null,null,null,null,null,null,null,"",null,null,"","","","","","","","","","","","","","","","","","","","","","","","","","","","","","","","","","","","","","","",""]
[null,null,null,null,null,null,null,null,null,"",null,null,"","","","","","","","","","","","","","","","","","","","","","","","","","","","","","","","","","","","","","","",""]
[null,null,null,null,null,null,null,null,null,"",null,null,"","","","","","","","","","","","","","","","","",{"$f":"IF($E745=AD$2,$M745,\"\")","v":""},"","","","","","","","","","","","","","","","","","","","","",""]
[null,null,null,null,null,null,null,null,null,"",null,null,"","","",{"$f":"IF($E746=P$2,$M746,\"\")","v":""},"","","","","","","","","","","","","","","","","","","","","","","","","","","","","","","","","","","",""]
[null,null,null,null,null,null,null,null,null,"",null,null,"",{"$f":"IF($E747=N$2,$M747,\"\")","v":""},"","","","","","","","","","","","","","","","","","","","","","","","","","","","","","","","","","","","","",""]
[null,null,null,null,null,null,null,null,null,"",null,null,"","","","","","","","","","","","","","","","","","","","","","","","","","","","","","","","","","","","","","","",""]
[null,null,null,null,null,null,null,null,null,"",null,null,"","","","","","","","","","","","","","","","","","","","","","","","","","","","","","","","","","","","","","","",""]
[null,null,null,null,null,null,null,null,null,"",null,null,"","","","","","","","","","","","","","","","","","","","","","","","","","","","","","","","","","","","","","","",""]
[null,null,null,null,null,null,null,null,null,"",null,null,"","","","","","","","","","","","","","","","","","","","","","","","","","","","","","","","","","","","","","","",""]
[null,null,null,null,null,null,null,null,null,"",null,null,"","","","","","","","","","","","","","","","","","","","","","","","","","","","","","","","","","","","","","","",""]
[null,null,null,null,null,null,null,null,null,"",null,null,"","","","","","","","","","","","","","","","","","","","","","","","","","","","","","","","","","","","","","","",""]
[null,null,null,null,null,null,null,null,null,"",null,null,"","","","","","","","","","","","","","","","","","","","","","","","","","","","","","","","","","","","","","","",""]
[null,null,null,null,null,null,null,null,null,"",null,null,"","","","","","","","","","","","","","","","","","","","","","","","","","","","","","","","","","","","","","","",""]
[null,null,null,null,null,null,null,null,null,"",null,null,"","","","","","","","","","","","","","","","","","","","","","","","","","","","","","","","","","","","",{"$f":"IF($E756=AW$2,$M756,\"\")","v":""},{"$f":"IF($E756=AX$2,$M756,\"\")","v":""},{"$f":"IF($E756=AY$2,$M756,\"\")","v":""},{"$f":"IF($E756=AZ$2,$M756,\"\")","v":""}]
[null,null,null,null,null,null,null,null,null,"",null,null,"","","","","","","","","","","","","","","","","","","","","","","","","","","","","","","","","",{"$f":"IF($E757=AT$2,$M757,\"\")","v":""},"","","","","",""]
[null,null,null,null,null,null,null,null,null,"",null,null,"","","","","","","","","","","","","","","","","","","","","","","","","","","","","","","","","","","","","","","",""]
[null,null,null,null,null,null,null,null,null,"",null,null,"","","","","","","","","","","","","","","","","","","","","","","","","","","","","","","","","","","","","","","",""]
[null,null,null,null,null,null,null,null,null,"",null,null,"","","","","","","","","","","","","","","","","","","","","","","","","","","","","","","","","","","","","","","",""]
[null,null,null,null,null,null,null,null,null,"",null,null,"","","","","","","","","","","","","","","","","",{"$f":"IF($E761=AD$2,$M761,\"\")","v":""},"","","","","","","","","","","","","","","","","","","","","",""]
[null,null,null,null,null,null,null,null,null,"",null,null,"","","",{"$f":"IF($E762=P$2,$M762,\"\")","v":""},"","","","","","","","","","","","","","","","","","","","","","","","","","","","","","","","","","","",""]
[null,null,null,null,null,null,null,null,null,"",null,null,"",{"$f":"IF($E763=N$2,$M763,\"\")","v":""},"","","","","","","","","","","","","","","","","","","","","","","","","","","","","","","","","","","","","",""]
[null,null,null,null,null,null,null,null,null,"",null,null,"","","","","","","","","","","","","","","","","","","","","","","","","","","","","","","","","","","","","","","",""]
[null,null,null,null,null,null,null,null,null,"",null,null,"","","","","","","","","","","","","","","","","","","","","","","","","","","","","","","","","","","","","","","",""]
[null,null,null,null,null,null,null,null,null,"",null,null,"","","","","","","","","","","","","","","","","","","","","","","","","","","","","","","","","","","","","","","",""]
[null,null,null,null,null,null,null,null,null,"",null,null,"","","","","","","","","","","","","","","","","","","","","","","","","","","","","","","","","","","","","","","",""]
[null,null,null,null,null,null,null,null,null,"",null,null,"","","","","","","","","","","","","","","","","","","","","","","","","","","","","","","","","","","","","","","",""]
[null,null,null,null,null,null,null,null,null,"",null,null,"","","","","","","","","","","","","","","","","","","","","","","","","","","","","","","","","","","","","","","",""]
[null,null,null,null,null,null,null,null,null,"",null,null,"","","","","","","","","","","","","","","","","","","","","","","","","","","","","","","","","","","","","","","",""]
[null,null,null,null,null,null,null,null,null,"",null,null,"","","","","","","","","","","","","","","","","","","","","","","","","","","","","","","","","","","","","","","",""]
[null,null,null,null,null,null,null,null,null,{"$f":"IF(E772=\"\",\"\",A772&\" \"&B772)","v":""},null,null,"","",{"$f":"IF($E772=O$2,$M772,\"\")","v":""},"","","","","","","","","","","","","","","","","","","","","","","","","","","","","","","","","","","","",""]
[null,null,null,null,null,null,null,null,null,"",null,null,{"$f":"IF(E773=\"\",\"\",IF(E773=E772,M772+1,1))","v":""},"","","","","","","","","","","","","","","","","","","","","","","","","","","","","","","","","","","","","","",""]
[null,null,null,null,null,null,null,null,null,"",null,null,"","","","","","","","","","","","","","","","","","","","","","","","","","","","","","","","","","","","","","","",""]
[null,null,null,null,null,null,null,null,null,"",null,null,"","","","","","","","","","","","","","","","","","","","","","","","","","","","","","","","","","","","","","","",""]
[null,null,null,null,null,null,null,null,null,"",null,null,"","","","","","","","","","","","","","","","","","","","","","","","","","","","","","","","","","","","","","","",""]
[null,null,null,null,null,null,null,null,null,"",null,null,"","","","","","","","","","","","","","","","","",{"$f":"IF($E777=AD$2,$M777,\"\")","v":""},"","","","","","","","","","","","","","","","","","","","","",""]
[null,null,null,null,null,null,null,null,null,"",null,null,"","","",{"$f":"IF($E778=P$2,$M778,\"\")","v":""},"","","","","","","","","","","","","","","","","","","","","","","","","","","","","","","","","","","",""]
[null,null,null,null,null,null,null,null,null,"",null,null,"",{"$f":"IF($E779=N$2,$M779,\"\")","v":""},"","","","","","","","","","","","","","","","","","","","","","","","","","","","","","","","","","","","","",""]
[null,null,null,null,null,null,null,null,null,"",null,null,"","","","","","","","","","","","","","","","","","","","","","","","","","","","","","","","","","","","","","","",""]
[null,null,null,null,null,null,null,null,null,"",null,null,"","","","","","","","","","","","","","","","","","","","","","","","","","","","","","","","","","","","","","","",""]
[null,null,null,null,null,null,null,null,null,"",null,null,"","","","","","","","","","","","","","","","","","","","","","","","","","","","","","","","","","","","","","","",""]
[null,null,null,null,null,null,null,null,null,"",null,null,"","","","","","","","","","","","","","","","","","","","","","","","","","","","","","","","","","","","","","","",""]
[null,null,null,null,null,null,null,null,null,"",null,null,"","","","","","","","","","","","","","","","","","","","","","","","","","","","","","","","","","","","","","","",""]
[null,null,null,null,null,null,null,null,null,"",null,null,"","","","","","","","","","","","","","","","","","","","","","","","","","","","","","","","","","","","","","","",""]
[null,null,null,null,null,null,null,null,null,"",null,null,"","","","","","","","","","","","","","","","","","","","","","","","","","","","","","","","","","","","","","","",""]
[null,null,null,null,null,null,null,null,null,"",null,null,"","","","","","","","","","","","","","","","","","","","","","","","","","","","","","","","","","","","","","","",""]
[null,null,null,null,null,null,null,null,null,"",null,null,"","","","","","","","","","","","","","","","","","","","","","","","","","","","","","","","","","","","","","","",""]
[null,null,null,null,null,null,null,null,null,"",null,null,"","","","","","","","","","","","","","","","","","","","","","","","","","","","","","","","","","","","","","","",""]
[null,null,null,null,null,null,null,null,null,"",null,null,"","","","","","","","","","","","","","","","","","","","","","","","","","","","","","","","","","","","","","","",""]
[null,null,null,null,null,null,null,null,null,"",null,null,"","","","","","","","","","","","","","","","","","","","","","","","","","","","","","","","","","","","","","","",""]
[null,null,null,null,null,null,null,null,null,"",null,null,"","","","","","","","","","","","","","","","","","","","","","","","","","","","","","","","","","","","","","","",""]
[null,null,null,null,null,null,null,null,null,"",null,null,"","","","","","","","","","","","","","","","","",{"$f":"IF($E793=AD$2,$M793,\"\")","v":""},"","","","","","","","","","","","","","","","","","",{"$f":"IF($E793=AW$2,$M793,\"\")","v":""},{"$f":"IF($E793=AX$2,$M793,\"\")","v":""},{"$f":"IF($E793=AY$2,$M793,\"\")","v":""},{"$f":"IF($E793=AZ$2,$M793,\"\")","v":""}]
[null,null,null,null,null,null,null,null,null,"",null,null,"","","",{"$f":"IF($E794=P$2,$M794,\"\")","v":""},"","","","","","","","","","","","","","","","","","","","","","","","","","","","","",{"$f":"IF($E794=AT$2,$M794,\"\")","v":""},"","","","","",""]
[null,null,null,null,null,null,null,null,null,"",null,null,"","","","","","","","","","","","","","","","","","","","","","","","","","","","","","","","","","","","","","","",""]
[null,null,null,null,null,null,null,null,null,"",null,null,"","","","","","","","","","","","","","","","","","","","","","","","","","","","","","","","","","","","","","","",""]
[null,null,null,null,null,null,null,null,null,"",null,null,"","","","","","","","","","","","","","","","","","","","","","","","","","","","","","","","","","","","","","","",""]
[null,null,null,null,null,null,null,null,null,"",null,null,"","","","","","","","","","","","","","","","","","","","","","","","","","","","","","","","","","","","","","","",""]
[null,null,null,null,null,null,null,null,null,"",null,null,"","","","","","","","","","","","","","","","","","","","","","","","","","","","","","","","","","","","","","","",""]
[null,null,null,null,null,null,null,null,null,"",null,null,"","","","","","","","","","","","","","","","","","","","","","","","","","","","","","","","","","","","","","","",""]
[null,null,null,null,null,null,null,null,null,"",null,null,"","","","","","","","","","","","","","","","","","","","","","","","","","","","","","","","","","","","","","","",""]
[null,null,null,null,null,null,null,null,null,"",null,null,"",{"$f":"IF($E802=N$2,$M802,\"\")","v":""},"","","","","","","","","","","","","","","","","","","","","","","","","","","","","","","","","","","","","",""]
[null,null,null,null,null,null,null,null,null,"",null,null,"","","","","","","","","","","","","","","","","","","","","","","","","","","","","","","","","","","","","","","",""]
[null,null,null,null,null,null,null,null,null,"",null,null,"","","","","","","","","","","","","","","","","","","","","","","","","","","","","","","","","","","","","","","",""]
[null,null,null,null,null,null,null,null,null,"",null,null,"","","","","","","","","","","","","","","","","","","","","","","","","","","","","","","","","","","","","","","",""]
[null,null,null,null,null,null,null,null,null,"",null,null,"","","","","","","","","","","","","","","","","","","","","","","","","","","","","","","","","","","","","","","",""]
[null,null,null,null,null,null,null,null,null,"",null,null,"","","","","","","","","","","","","","","","","","","","","","","","","","","","","","","","","","","","","","","",""]
[null,null,null,null,null,null,null,null,null,"",null,null,"","","","","","","","","","","","","","","","","","","","","","","","","","","","","","","","","","","","","","","",""]
[null,null,null,null,null,null,null,null,null,"",null,null,"","","","","","","","","","","","","","","","","",{"$f":"IF($E809=AD$2,$M809,\"\")","v":""},"","","","","","","","","","","","","","","","","","","","","",""]
[null,null,null,null,null,null,null,null,null,"",null,null,"","","",{"$f":"IF($E810=P$2,$M810,\"\")","v":""},"","","","","","","","","","","","","","","","","","","","","","","","","","","","","","","","","","","",""]
[null,null,null,null,null,null,null,null,null,"",null,null,"","","","","","","","","","","","","","","","","","","","","","","","","","","","","","","","","","","","","","","",""]
[null,null,null,null,null,null,null,null,null,"",null,null,"","","","","","","","","","","","","","","","","","","","","","","","","","","","","","","","","","","","","","","",""]
[null,null,null,null,null,null,null,null,null,"",null,null,"","","","","","","","","","","","","","","","","","","","","","","","","","","","","","","","","","","","","","","",""]
[null,null,null,null,null,null,null,null,null,"",null,null,"","","","","","","","","","","","","","","","","","","","","","","","","","","","","","","","","","","","","","","",""]
[null,null,null,null,null,null,null,null,null,"",null,null,"","","","","","","","","","","","","","","","","","","","","","","","","","","","","","","","","","","","","","","",""]
[null,null,null,null,null,null,null,null,null,"",null,null,"","","","","","","","","","","","","","","","","","","","","","","","","","","","","","","","","","","","","","","",""]
[null,null,null,null,null,null,null,null,null,"",null,null,"","","","","","","","","","","","","","","","","","","","","","","","","","","","","","","","","","","","","","","",""]
[null,null,null,null,null,null,null,null,null,"",null,null,"",{"$f":"IF($E818=N$2,$M818,\"\")","v":""},"","","","","","","","","","","","","","","","","","","","","","","","","","","","","","","","","","","","","",""]
[null,null,null,null,null,null,null,null,null,"",null,null,"","","","","","","","","","","","","","","","","","","","","","","","","","","","","","","","","","","","","","","",""]
[null,null,null,null,null,null,null,null,null,"",null,null,"","","","","","","","","","","","","","","","","","","","","","","","","","","","","","","","","","","","","","","",""]
[null,null,null,null,null,null,null,null,null,"",null,null,"","","","","","","","","","","","","","","","","","","","","","","","","","","","","","","","","","","","","","","",""]
[null,null,null,null,null,null,null,null,null,"",null,null,"","","","","","","","","","","","","","","","","","","","","","","","","","","","","","","","","","","","","","","",""]
[null,null,null,null,null,null,null,null,null,"",null,null,"","","","","","","","","","","","","","","","","","","","","","","","","","","","","","","","","","","","","","","",""]
[null,null,null,null,null,null,null,null,null,"",null,null,"","","","","","","","","","","","","","","","","","","","","","","","","","","","","","","","","","","","","","","",""]
[null,null,null,null,null,null,null,null,null,"",null,null,"","","","","","","","","","","","","","","","","",{"$f":"IF($E825=AD$2,$M825,\"\")","v":""},"","","","","","","","","","","","","","","","","","","","","",""]
[null,null,null,null,null,null,null,null,null,"",null,null,"","","",{"$f":"IF($E826=P$2,$M826,\"\")","v":""},"","","","","","","","","","","","","","","","","","","","","","","","","","","","","","","","","","","",""]
[null,null,null,null,null,null,null,null,null,"",null,null,"","","","","","","","","","","","","","","","","","","","","","","","","","","","","","","","","","","","","","","",""]
[null,null,null,null,null,null,null,null,null,"",null,null,"","","","","","","","","","","","","","","","","","","","","","","","","","","","","","","","","","","","","","","",""]
[null,null,null,null,null,null,null,null,null,"",null,null,"","","","","","","","","","","","","","","","","","","","","","","","","","","","","","","","","","","","","","","",""]
[null,null,null,null,null,null,null,null,null,"",null,null,"","","","","","","","","","","","","","","","","","","","","","","","","","","","","","","","","","","","",{"$f":"IF($E830=AW$2,$M830,\"\")","v":""},{"$f":"IF($E830=AX$2,$M830,\"\")","v":""},{"$f":"IF($E830=AY$2,$M830,\"\")","v":""},{"$f":"IF($E830=AZ$2,$M830,\"\")","v":""}]
[null,null,null,null,null,null,null,null,null,"",null,null,"","","","","","","","","","","","","","","","","","","","","","","","","","","","","","","","","",{"$f":"IF($E831=AT$2,$M831,\"\")","v":""},"","","","","",""]
[null,null,null,null,null,null,null,null,null,"",null,null,"","","","","","","","","","","","","","","","","","","","","","","","","","","","","","","","","","","","","","","",{"$f":"IF($E832=AZ$2,$M832,\"\")","v":""}]
[null,null,null,null,null,null,null,null,null,"",null,null,"","","","","","","","","","","","","","","","","","","","","","","","","","","","","","","","","","","","","","","",""]
[null,null,null,null,null,null,null,null,null,"",null,null,"",{"$f":"IF($E834=N$2,$M834,\"\")","v":""},"","","","","","","","","","","","","","","","","","","","","","","","","","","","","","","","","","","","","",""]
[null,null,null,null,null,null,null,null,null,"",null,null,"","","","","","","","","","","","","","","","","","","","","","","","","","","","","","","","","","","","","","","",""]
[null,null,null,null,null,null,null,null,null,{"$f":"IF(E836=\"\",\"\",A836&\" \"&B836)","v":""},null,null,"","",{"$f":"IF($E836=O$2,$M836,\"\")","v":""},"","","","","","","","","","","","","","","","","","","","","","","","","","","","","","","","","","","","",""]
[null,null,null,null,null,null,null,null,null,"",null,null,{"$f":"IF(E837=\"\",\"\",IF(E837=E836,M836+1,1))","v":""},"","","","","","","","","","","","","","","","","","","","","","","","","","","","","","","","","","","","","","",""]
[null,null,null,null,null,null,null,null,null,"",null,null,"","","","","","","","","","","","","","","","","","","","","","","","","","","","","","","","","","","","","","","",""]
[null,null,null,null,null,null,null,null,null,"",null,null,"","","","","","","","","","","","","","","","","","","","","","","","","","","","","","","","","","","","","","","",""]
[null,null,null,null,null,null,null,null,null,"",null,null,"","","","","","","","","","","","","","","","","","","","","","","","","","","","","","","","","","","","","","","",""]
[null,null,null,null,null,null,null,null,null,"",null,null,"","","","","","","","","","","","","","","","","",{"$f":"IF($E841=AD$2,$M841,\"\")","v":""},"","","","","","","","","","","","","","","","","","","","","",""]
[null,null,null,null,null,null,null,null,null,"",null,null,"","","",{"$f":"IF($E842=P$2,$M842,\"\")","v":""},"","","","","","","","","","","","","","","","","","","","","","","","","","","","","","","","","","","",""]
[null,null,null,null,null,null,null,null,null,"",null,null,"","","","","","","","","","","","","","","","","","","","","","","","","","","","","","","","","","","","","","","",""]
[null,null,null,null,null,null,null,null,null,"",null,null,"","","","","","","","","","","","","","","","","","","","","","","","","","","","","","","","","","","","","","","",""]
[null,null,null,null,null,null,null,null,null,"",null,null,"","","","","","","","","","","","","","","","","","","","","","","","","","","","","","","","","","","","","","","",""]
[null,null,null,null,null,null,null,null,null,"",null,null,"","","","","","","","","","","","","","","","","","","","","","","","","","","","","","","","","","","","","","","",""]
[null,null,null,null,null,null,null,null,null,"",null,null,"","","","","","","","","","","","","","","","","","","","","","","","","","","","","","","","","","","","","","","",""]
[null,null,null,null,null,null,null,null,null,"",null,null,"","","","","","","","","","","","","","","","","","","","","","","","","","","","","","","","","","","","","","","",""]
[null,null,null,null,null,null,null,null,null,"",null,null,"","","","","","","","","","","","","","","","","","","","","","","","","","","","","","","","","","","","","","","",""]
[null,null,null,null,null,null,null,null,null,"",null,null,"",{"$f":"IF($E850=N$2,$M850,\"\")","v":""},"","","","","","","","","","","","","","","","","","","","","","","","","","","","","","","","","","","","","",""]
[null,null,null,null,null,null,null,null,null,"",null,null,"","","","","","","","","","","","","","","","","","","","","","","","","","","","","","","","","","","","","","","",""]
[null,null,null,null,null,null,null,null,null,"",null,null,"","","","","","","","","","","","","","","","","","","","","","","","","","","","","","","","","","","","","","","",""]
[null,null,null,null,null,null,null,null,null,"",null,null,"","","","","","","","","","","","","","","","","","","","","","","","","","","","","","","","","","","","","","","",""]
[null,null,null,null,null,null,null,null,null,"",null,null,"","","","","","","","","","","","","","","","","","","","","","","","","","","","","","","","","","","","","","","",""]
[null,null,null,null,null,null,null,null,null,"",null,null,"","","","","","","","","","","","","","","","","","","","","","","","","","","","","","","","","","","","","","","",""]
[null,null,null,null,null,null,null,null,null,"",null,null,"","","","","","","","","","","","","","","","","","","","","","","","","","","","","","","","","","","","","","","",""]
[null,null,null,null,null,null,null,null,null,"",null,null,"","","","","","","","","","","","","","","","","",{"$f":"IF($E857=AD$2,$M857,\"\")","v":""},"","","","","","","","","","","","","","","","","","","","","",""]
[null,null,null,null,null,null,null,null,null,"",null,null,"","","",{"$f":"IF($E858=P$2,$M858,\"\")","v":""},"","","","","","","","","","","","","","","","","","","","","","","","","","","","","","","","","","","",""]
[null,null,null,null,null,null,null,null,null,"",null,null,"","","","","","","","","","","","","","","","","","","","","","","","","","","","","","","","","","","","","","","",""]
[null,null,null,null,null,null,null,null,null,"",null,null,"","","","","","","","","","","","","","","","","","","","","","","","","","","","","","","","","","","","","","","",""]
[null,null,null,null,null,null,null,null,null,"",null,null,"","","","","","","","","","","","","","","","","","","","","","","","","","","","","","","","","","","","","","","",""]
[null,null,null,null,null,null,null,null,null,"",null,null,"","","","","","","","","","","","","","","","","","","","","","","","","","","","","","","","","","","","","","","",""]
[null,null,null,null,null,null,null,null,null,"",null,null,"","","","","","","","","","","","","","","","","","","","","","","","","","","","","","","","","","","","","","","",""]
[null,null,null,null,null,null,null,null,null,"",null,null,"","","","","","","","","","","","","","","","","","","","","","","","","","","","","","","","","","","","","","","",""]
[null,null,null,null,null,null,null,null,null,"",null,null,"","","","","","","","","","","","","","","","","","","","","","","","","","","","","","","","","","","","","","","",""]
[null,null,null,null,null,null,null,null,null,"",null,null,"",{"$f":"IF($E866=N$2,$M866,\"\")","v":""},"","","","","","","","","","","","","","","","","","","","","","","","","","","","","","","","","","","","","",""]
[null,null,null,null,null,null,null,null,null,"",null,null,"","","","","","","","","","","","","","","","","","","","","","","","","","","","","","","","","","","","",{"$f":"IF($E867=AW$2,$M867,\"\")","v":""},{"$f":"IF($E867=AX$2,$M867,\"\")","v":""},{"$f":"IF($E867=AY$2,$M867,\"\")","v":""},{"$f":"IF($E867=AZ$2,$M867,\"\")","v":""}]
[null,null,null,null,null,null,null,null,null,"",null,null,"","","","","","","","","","","","","","","","","","","","","","","","","","","","","","","","","",{"$f":"IF($E868=AT$2,$M868,\"\")","v":""},"","","","","",""]
[null,null,null,null,null,null,null,null,null,"",null,null,"","","","","","","","","","","","","","","","","","","","","","","","","","","","","","","","","","","","","","","",""]
[null,null,null,null,null,null,null,null,null,"",null,null,"","","","","","","","","","","","","","","","","","","","","","","","","","","","","","","","","","","","","","","",""]
[null,null,null,null,null,null,null,null,null,"",null,null,"","","","","","","","","","","","","","","","","","","","","","","","","","","","","","","","","","","","","","","",""]
[null,null,null,null,null,null,null,null,null,"",null,null,"","","","","","","","","","","","","","","","","","","","","","","","","","","","","","","","","","","","","","","",""]
[null,null,null,null,null,null,null,null,null,"",null,null,"","","","","","","","","","","","","","","","","",{"$f":"IF($E873=AD$2,$M873,\"\")","v":""},"","","","","","","","","","","","","","","","","","","","","",""]
[null,null,null,null,null,null,null,null,null,"",null,null,"","","",{"$f":"IF($E874=P$2,$M874,\"\")","v":""},"","","","","","","","","","","","","","","","","","","","","","","","","","","","","","","","","","","",""]
[null,null,null,null,null,null,null,null,null,"",null,null,"","","","","","","","","","","","","","","","","","","","","","","","","","","","","","","","","","","","","","","",""]
[null,null,null,null,null,null,null,null,null,"",null,null,"","","","","","","","","","","","","","","","","","","","","","","","","","","","","","","","","","","","","","","",""]
[null,null,null,null,null,null,null,null,null,"",null,null,"","","","","","","","","","","","","","","","","","","","","","","","","","","","","","","","","","","","","","","",""]
[null,null,null,null,null,null,null,null,null,"",null,null,"","","","","","","","","","","","","","","","","","","","","","","","","","","","","","","","","","","","","","","",""]
[null,null,null,null,null,null,null,null,null,"",null,null,"","","","","","","","","","","","","","","","","","","","","","","","","","","","","","","","","","","","","","","",""]
[null,null,null,null,null,null,null,null,null,"",null,null,"","","","","","","","","","","","","","","","","","","","","","","","","","","","","","","","","","","","","","","",""]
[null,null,null,null,null,null,null,null,null,"",null,null,"","","","","","","","","","","","","","","","","","","","","","","","","","","","","","","","","","","","","","","",""]
[null,null,null,null,null,null,null,null,null,"",null,null,"",{"$f":"IF($E882=N$2,$M882,\"\")","v":""},"","","","","","","","","","","","","","","","","","","","","","","","","","","","","","","","","","","","","",""]
[null,null,null,null,null,null,null,null,null,"",null,null,"","","","","","","","","","","","","","","","","","","","","","","","","","","","","","","","","","","","","","","",""]
[null,null,null,null,null,null,null,null,null,"",null,null,"","","","","","","","","","","","","","","","","","","","","","","","","","","","","","","","","","","","","","","",""]
[null,null,null,null,null,null,null,null,null,"",null,null,"","","","","","","","","","","","","","","","","","","","","","","","","","","","","","","","","","","","","","","",""]
[null,null,null,null,null,null,null,null,null,"",null,null,"","","","","","","","","","","","","","","","","","","","","","","","","","","","","","","","","","","","","","","",""]
[null,null,null,null,null,null,null,null,null,"",null,null,"","","","","","","","","","","","","","","","","","","","","","","","","","","","","","","","","","","","","","","",""]
[null,null,null,null,null,null,null,null,null,"",null,null,"","","","","","","","","","","","","","","","","","","","","","","","","","","","","","","","","","","","","","","",""]
[null,null,null,null,null,null,null,null,null,"",null,null,"","","","","","","","","","","","","","","","","",{"$f":"IF($E889=AD$2,$M889,\"\")","v":""},"","","","","","","","","","","","","","","","","","","","","",""]
[null,null,null,null,null,null,null,null,null,"",null,null,"","","",{"$f":"IF($E890=P$2,$M890,\"\")","v":""},"","","","","","","","","","","","","","","","","","","","","","","","","","","","","","","","","","","",""]
[null,null,null,null,null,null,null,null,null,"",null,null,"","","","","","","","","","","","","","","","","","","","","","","","","","","","","","","","","","","","","","","",""]
[null,null,null,null,null,null,null,null,null,"",null,null,"","","","","","","","","","","","","","","","","","","","","","","","","","","","","","","","","","","","","","","",""]
[null,null,null,null,null,null,null,null,null,"",null,null,"","","","","","","","","","","","","","","","","","","","","","","","","","","","","","","","","","","","","","","",""]
[null,null,null,null,null,null,null,null,null,"",null,null,"","","","","","","","","","","","","","","","","","","","","","","","","","","","","","","","","","","","","","","",""]
[null,null,null,null,null,null,null,null,null,"",null,null,"","","","","","","","","","","","","","","","","","","","","","","","","","","","","","","","","","","","","","","",""]
[null,null,null,null,null,null,null,null,null,"",null,null,"","","","","","","","","","","","","","","","","","","","","","","","","","","","","","","","","","","","","","","",""]
[null,null,null,null,null,null,null,null,null,"",null,null,"","","","","","","","","","","","","","","","","","","","","","","","","","","","","","","","","","","","","","","",""]
[null,null,null,null,null,null,null,null,null,"",null,null,"","","","","","","","","","","","","","","","","","","","","","","","","","","","","","","","","","","","","","","",""]
[null,null,null,null,null,null,null,null,null,"",null,null,"","","","","","","","","","","","","","","","","","","","","","","","","","","","","","","","","","","","","","","",""]
[null,null,null,null,null,null,null,null,null,{"$f":"IF(E900=\"\",\"\",A900&\" \"&B900)","v":""},null,null,"","",{"$f":"IF($E900=O$2,$M900,\"\")","v":""},"","","","","","","","","","","","","","","","","","","","","","","","","","","","","","","","","","","","",""]
[null,null,null,null,null,null,null,null,null,"",null,null,{"$f":"IF(E901=\"\",\"\",IF(E901=E900,M900+1,1))","v":""},"","","","","","","","","","","","","","","","","","","","","","","","","","","","","","","","","","","","","","",""]
[null,null,null,null,null,null,null,null,null,"",null,null,"","","","","","","","","","","","","","","","","","","","","","","","","","","","","","","","","","","","","","","",""]
[null,null,null,null,null,null,null,null,null,"",null,null,"","","","","","","","","","","","","","","","","","","","","","","","","","","","","","","","","","","","","","","",""]
[null,null,null,null,null,null,null,null,null,"",null,null,"","","","","","","","","","","","","","","","","","","","","","","","","","","","","","","","","","","","",{"$f":"IF($E904=AW$2,$M904,\"\")","v":""},{"$f":"IF($E904=AX$2,$M904,\"\")","v":""},{"$f":"IF($E904=AY$2,$M904,\"\")","v":""},{"$f":"IF($E904=AZ$2,$M904,\"\")","v":""}]
[null,null,null,null,null,null,null,null,null,"",null,null,"",{"$f":"IF($E905=N$2,$M905,\"\")","v":""},"","","","","","","","","","","","","","","",{"$f":"IF($E905=AD$2,$M905,\"\")","v":""},"","","","","","","","","","","","","","","",{"$f":"IF($E905=AT$2,$M905,\"\")","v":""},"","","","","",""]
[null,null,null,null,null,null,null,null,null,"",null,null,"","","",{"$f":"IF($E906=P$2,$M906,\"\")","v":""},"","","","","","","","","","","","","","","","","","","","","","","","","","","","","","","","","","","",""]
[null,null,null,null,null,null,null,null,null,"",null,null,"","","","","","","","","","","","","","","","","","","","","","","","","","","","","","","","","","","","","","","",""]
[null,null,null,null,null,null,null,null,null,"",null,null,"","","","","","","","","","","","","","","","","","","","","","","","","","","","","","","","","","","","","","","",""]
[null,null,null,null,null,null,null,null,null,"",null,null,"","","","","","","","","","","","","","","","","","","","","","","","","","","","","","","","","","","","","","","",""]
[null,null,null,null,null,null,null,null,null,"",null,null,"","","","","","","","","","","","","","","","","","","","","","","","","","","","","","","","","","","","","","","",""]
[null,null,null,null,null,null,null,null,null,"",null,null,"","","","","","","","","","","","","","","","","","","","","","","","","","","","","","","","","","","","","","","",""]
[null,null,null,null,null,null,null,null,null,"",null,null,"","","","","","","","","","","","","","","","","","","","","","","","","","","","","","","","","","","","","","","",""]
[null,null,null,null,null,null,null,null,null,"",null,null,"","","","","","","","","","","","","","","","","","","","","","","","","","","","","","","","","","","","","","","",""]
[null,null,null,null,null,null,null,null,null,"",null,null,"","","","","","","","","","","","","","","","","","","","","","","","","","","","","","","","","","","","","","","",""]
[null,null,null,null,null,null,null,null,null,"",null,null,"","","","","","","","","","","","","","","","","","","","","","","","","","","","","","","","","","","","","","","",""]
[null,null,null,null,null,null,null,null,null,"",null,null,"","","","","","","","","","","","","","","","","","","","","","","","","","","","","","","","","","","","","","","",""]
[null,null,null,null,null,null,null,null,null,"",null,null,"","","","","","","","","","","","","","","","","","","","","","","","","","","","","","","","","","","","","","","",""]
[null,null,null,null,null,null,null,null,null,"",null,null,"","","","","","","","","","","","","","","","","","","","","","","","","","","","","","","","","","","","","","","",""]
[null,null,null,null,null,null,null,null,null,"",null,null,"","","","","","","","","","","","","","","","","","","","","","","","","","","","","","","","","","","","","","","",""]
[null,null,null,null,null,null,null,null,null,"",null,null,"","","","","","","","","","","","","","","","","","","","","","","","","","","","","","","","","","","","","","","",""]
[null,null,null,null,null,null,null,null,null,"",null,null,"",{"$f":"IF($E921=N$2,$M921,\"\")","v":""},"","","","","","","","","","","","","","","",{"$f":"IF($E921=AD$2,$M921,\"\")","v":""},"","","","","","","","","","","","","","","","","","","","","",""]
[null,null,null,null,null,null,null,null,null,"",null,null,"","","",{"$f":"IF($E922=P$2,$M922,\"\")","v":""},"","","","","","","","","","","","","","","","","","","","","","","","","","","","","","","","","","","",""]
[null,null,null,null,null,null,null,null,null,"",null,null,"","","","","","","","","","","","","","","","","","","","","","","","","","","","","","","","","","","","","","","",""]
[null,null,null,null,null,null,null,null,null,"",null,null,"","","","","","","","","","","","","","","","","","","","","","","","","","","","","","","","","","","","","","","",""]
[null,null,null,null,null,null,null,null,null,"",null,null,"","","","","","","","","","","","","","","","","","","","","","","","","","","","","","","","","","","","","","","",""]
[null,null,null,null,null,null,null,null,null,"",null,null,"","","","","","","","","","","","","","","","","","","","","","","","","","","","","","","","","","","","","","","",""]
[null,null,null,null,null,null,null,null,null,"",null,null,"","","","","","","","","","","","","","","","","","","","","","","","","","","","","","","","","","","","","","","",""]
[null,null,null,null,null,null,null,null,null,"",null,null,"","","","","","","","","","","","","","","","","","","","","","","","","","","","","","","","","","","","","","","",""]
[null,null,null,null,null,null,null,null,null,"",null,null,"","","","","","","","","","","","","","","","","","","","","","","","","","","","","","","","","","","","","","","",""]
[null,null,null,null,null,null,null,null,null,"",null,null,"","","","","","","","","","","","","","","","","","","","","","","","","","","","","","","","","","","","","","","",""]
[null,null,null,null,null,null,null,null,null,"",null,null,"","","","","","","","","","","","","","","","","","","","","","","","","","","","","","","","","","","","","","","",""]
[null,null,null,null,null,null,null,null,null,"",null,null,"","","","","","","","","","","","","","","","","","","","","","","","","","","","","","","","","","","","","","","",""]
[null,null,null,null,null,null,null,null,null,"",null,null,"","","","","","","","","","","","","","","","","","","","","","","","","","","","","","","","","","","","","","","",""]
[null,null,null,null,null,null,null,null,null,"",null,null,"","","","","","","","","","","","","","","","","","","","","","","","","","","","","","","","","","","","","","","",""]
[null,null,null,null,null,null,null,null,null,"",null,null,"","","","","","","","","","","","","","","","","","","","","","","","","","","","","","","","","","","","","","","",""]
[null,null,null,null,null,null,null,null,null,"",null,null,"","","","","","","","","","","","","","","","","","","","","","","","","","","","","","","","","","","","","","","",""]
[null,null,null,null,null,null,null,null,null,"",null,null,"",{"$f":"IF($E937=N$2,$M937,\"\")","v":""},"","","","","","","","","","","","","","","",{"$f":"IF($E937=AD$2,$M937,\"\")","v":""},"","","","","","","","","","","","","","","","","","","","","",""]
[null,null,null,null,null,null,null,null,null,"",null,null,"","","",{"$f":"IF($E938=P$2,$M938,\"\")","v":""},"","","","","","","","","","","","","","","","","","","","","","","","","","","","","","","","","","","",""]
[null,null,null,null,null,null,null,null,null,"",null,null,"","","","","","","","","","","","","","","","","","","","","","","","","","","","","","","","","","","","","","","",""]
[null,null,null,null,null,null,null,null,null,"",null,null,"","","","","","","","","","","","","","","","","","","","","","","","","","","","","","","","","","","","","","","",""]
[null,null,null,null,null,null,null,null,null,"",null,null,"","","","","","","","","","","","","","","","","","","","","","","","","","","","","","","","","","","","",{"$f":"IF($E941=AW$2,$M941,\"\")","v":""},{"$f":"IF($E941=AX$2,$M941,\"\")","v":""},{"$f":"IF($E941=AY$2,$M941,\"\")","v":""},{"$f":"IF($E941=AZ$2,$M941,\"\")","v":""}]
[null,null,null,null,null,null,null,null,null,"",null,null,"","","","","","","","","","","","","","","","","","","","","","","","","","","","","","","","","",{"$f":"IF($E942=AT$2,$M942,\"\")","v":""},"","","","","",""]
[null,null,null,null,null,null,null,null,null,"",null,null,"","","","","","","","","","","","","","","","","","","","","","","","","","","","","","","","","","","","","","","",""]
[null,null,null,null,null,null,null,null,null,"",null,null,"","","","","","","","","","","","","","","","","","","","","","","","","","","","","","","","","","","","","","","",""]
[null,null,null,null,null,null,null,null,null,"",null,null,"","","","","","","","","","","","","","","","","","","","","","","","","","","","","","","","","","","","","","","",""]
[null,null,null,null,null,null,null,null,null,"",null,null,"","","","","","","","","","","","","","","","","","","","","","","","","","","","","","","","","","","","","","","",""]
[null,null,null,null,null,null,null,null,null,"",null,null,"","","","","","","","","","","","","","","","","","","","","","","","","","","","","","","","","","","","","","","",""]
[null,null,null,null,null,null,null,null,null,"",null,null,"","","","","","","","","","","","","","","","","","","","","","","","","","","","","","","","","","","","","","","",""]
[null,null,null,null,null,null,null,null,null,"",null,null,"","","","","","","","","","","","","","","","","","","","","","","","","","","","","","","","","","","","","","","",""]
[null,null,null,null,null,null,null,null,null,"",null,null,"","","","","","","","","","","","","","","","","","","","","","","","","","","","","","","","","","","","","","","",""]
[null,null,null,null,null,null,null,null,null,"",null,null,"","","","","","","","","","","","","","","","","","","","","","","","","","","","","","","","","","","","","","","",""]
[null,null,null,null,null,null,null,null,null,"",null,null,"","","","","","","","","","","","","","","","","","","","","","","","","","","","","","","","","","","","","","","",""]
[null,null,null,null,null,null,null,null,null,"",null,null,"",{"$f":"IF($E953=N$2,$M953,\"\")","v":""},"","","","","","","","","","","","","","","",{"$f":"IF($E953=AD$2,$M953,\"\")","v":""},"","","","","","","","","","","","","","","","","","","","","",""]
[null,null,null,null,null,null,null,null,null,"",null,null,"","","",{"$f":"IF($E954=P$2,$M954,\"\")","v":""},"","","","","","","","","","","","","","","","","","","","","","","","","","","","","","","","","","","",""]
[null,null,null,null,null,null,null,null,null,"",null,null,"","","","","","","","","","","","","","","","","","","","","","","","","","","","","","","","","","","","","","","",""]
[null,null,null,null,null,null,null,null,null,"",null,null,"","","","","","","","","","","","","","","","","","","","","","","","","","","","","","","","","","","","","","","",""]
[null,null,null,null,null,null,null,null,null,"",null,null,"","","","","","","","","","","","","","","","","","","","","","","","","","","","","","","","","","","","","","","",""]
[null,null,null,null,null,null,null,null,null,"",null,null,"","","","","","","","","","","","","","","","","","","","","","","","","","","","","","","","","","","","","","","",""]
[null,null,null,null,null,null,null,null,null,"",null,null,"","","","","","","","","","","","","","","","","","","","","","","","","","","","","","","","","","","","","","","",""]
[null,null,null,null,null,null,null,null,null,"",null,null,"","","","","","","","","","","","","","","","","","","","","","","","","","","","","","","","","","","","","","","",""]
[null,null,null,null,null,null,null,null,null,"",null,null,"","","","","","","","","","","","","","","","","","","","","","","","","","","","","","","","","","","","","","","",""]
[null,null,null,null,null,null,null,null,null,"",null,null,"","","","","","","","","","","","","","","","","","","","","","","","","","","","","","","","","","","","","","","",""]
[null,null,null,null,null,null,null,null,null,"",null,null,"","","","","","","","","","","","","","","","","","","","","","","","","","","","","","","","","","","","","","","",""]
[null,null,null,null,null,null,null,null,null,{"$f":"IF(E964=\"\",\"\",A964&\" \"&B964)","v":""},null,null,"","",{"$f":"IF($E964=O$2,$M964,\"\")","v":""},"","","","","","","","","","","","","","","","","","","","","","","","","","","","","","","","","","","","",""]
[null,null,null,null,null,null,null,null,null,"",null,null,{"$f":"IF(E965=\"\",\"\",IF(E965=E964,M964+1,1))","v":""},"","","","","","","","","","","","","","","","","","","","","","","","","","","","","","","","","","","","","","",""]
[null,null,null,null,null,null,null,null,null,"",null,null,"","","","","","","","","","","","","","","","","","","","","","","","","","","","","","","","","","","","","","","",""]
[null,null,null,null,null,null,null,null,null,"",null,null,"","","","","","","","","","","","","","","","","","","","","","","","","","","","","","","","","","","","","","","",""]
[null,null,null,null,null,null,null,null,null,"",null,null,"","","","","","","","","","","","","","","","","","","","","","","","","","","","","","","","","","","","","","","",""]
[null,null,null,null,null,null,null,null,null,"",null,null,"",{"$f":"IF($E969=N$2,$M969,\"\")","v":""},"","","","","","","","","","","","","","","",{"$f":"IF($E969=AD$2,$M969,\"\")","v":""},"","","","","","","","","","","","","","","","","","","","","",""]
[null,null,null,null,null,null,null,null,null,"",null,null,"","","",{"$f":"IF($E970=P$2,$M970,\"\")","v":""},"","","","","","","","","","","","","","","","","","","","","","","","","","","","","","","","","","","",""]
[null,null,null,null,null,null,null,null,null,"",null,null,"","","","","","","","","","","","","","","","","","","","","","","","","","","","","","","","","","","","","","","",""]
[null,null,null,null,null,null,null,null,null,"",null,null,"","","","","","","","","","","","","","","","","","","","","","","","","","","","","","","","","","","","","","","",""]
[null,null,null,null,null,null,null,null,null,"",null,null,"","","","","","","","","","","","","","","","","","","","","","","","","","","","","","","","","","","","","","","",""]
[null,null,null,null,null,null,null,null,null,"",null,null,"","","","","","","","","","","","","","","","","","","","","","","","","","","","","","","","","","","","","","","",""]
[null,null,null,null,null,null,null,null,null,"",null,null,"","","","","","","","","","","","","","","","","","","","","","","","","","","","","","","","","","","","","","","",""]
[null,null,null,null,null,null,null,null,null,"",null,null,"","","","","","","","","","","","","","","","","","","","","","","","","","","","","","","","","","","","","","","",""]
[null,null,null,null,null,null,null,null,null,"",null,null,"","","","","","","","","","","","","","","","","","","","","","","","","","","","","","","","","","","","","","","",""]
[null,null,null,null,null,null,null,null,null,"",null,null,"","","","","","","","","","","","","","","","","","","","","","","","","","","","","","","","","","","","",{"$f":"IF($E978=AW$2,$M978,\"\")","v":""},{"$f":"IF($E978=AX$2,$M978,\"\")","v":""},{"$f":"IF($E978=AY$2,$M978,\"\")","v":""},{"$f":"IF($E978=AZ$2,$M978,\"\")","v":""}]
[null,null,null,null,null,null,null,null,null,"",null,null,"","","","","","","","","","","","","","","","","","","","","","","","","","","","","","","","","",{"$f":"IF($E979=AT$2,$M979,\"\")","v":""},"","","","","",""]
[null,null,null,null,null,null,null,null,null,"",null,null,"","","","","","","","","","","","","","","","","","","","","","","","","","","","","","","","","","","","","","","",""]
[null,null,null,null,null,null,null,null,null,"",null,null,"","","","","","","","","","","","","","","","","","","","","","","","","","","","","","","","","","","","","","","",""]
[null,null,null,null,null,null,null,null,null,"",null,null,"","","","","","","","","","","","","","","","","","","","","","","","","","","","","","","","","","","","","","","",""]
[null,null,null,null,null,null,null,null,null,"",null,null,"","","","","","","","","","","","","","","","","","","","","","","","","","","","","","","","","","","","","","","",""]
[null,null,null,null,null,null,null,null,null,"",null,null,"","","","","","","","","","","","","","","","","","","","","","","","","","","","","","","","","","","","","","","",""]
[null,null,null,null,null,null,null,null,null,"",null,null,"",{"$f":"IF($E985=N$2,$M985,\"\")","v":""},"","","","","","","","","","","","","","","",{"$f":"IF($E985=AD$2,$M985,\"\")","v":""},"","","","","","","","","","","","","","","","","","","","","",""]
[null,null,null,null,null,null,null,null,null,"",null,null,"","","",{"$f":"IF($E986=P$2,$M986,\"\")","v":""},"","","","","","","","","","","","","","","","","","","","","","","","","","","","","","","","","","","",""]
[null,null,null,null,null,null,null,null,null,"",null,null,"","","","","","","","","","","","","","","","","","","","","","","","","","","","","","","","","","","","","","","",""]
[null,null,null,null,null,null,null,null,null,"",null,null,"","","","","","","","","","","","","","","","","","","","","","","","","","","","","","","","","","","","","","","",""]
[null,null,null,null,null,null,null,null,null,"",null,null,"","","","","","","","","","","","","","","","","","","","","","","","","","","","","","","","","","","","","","","",""]
[null,null,null,null,null,null,null,null,null,"",null,null,"","","","","","","","","","","","","","","","","","","","","","","","","","","","","","","","","","","","","","","",""]
[null,null,null,null,null,null,null,null,null,"",null,null,"","","","","","","","","","","","","","","","","","","","","","","","","","","","","","","","","","","","","","","",""]
[null,null,null,null,null,null,null,null,null,"",null,null,"","","","","","","","","","","","","","","","","","","","","","","","","","","","","","","","","","","","","","","",""]
[null,null,null,null,null,null,null,null,null,"",null,null,"","","","","","","","","","","","","","","","","","","","","","","","","","","","","","","","","","","","","","","",""]
[null,null,null,null,null,null,null,null,null,"",null,null,"","","","","","","","","","","","","","","","","","","","","","","","","","","","","","","","","","","","","","","",""]
[null,null,null,null,null,null,null,null,null,"",null,null,"","","","","","","","","","","","","","","","","","","","","","","","","","","","","","","","","","","","","","","",""]
[null,null,null,null,null,null,null,null,null,"",null,null,"","","","","","","","","","","","","","","","","","","","","","","","","","","","","","","","","","","","","","","",""]
[null,null,null,null,null,null,null,null,null,"",null,null,"","","","","","","","","","","","","","","","","","","","","","","","","","","","","","","","","","","","","","","",""]
[null,null,null,null,null,null,null,null,null,"",null,null,"","","","","","","","","","","","","","","","","","","","","","","","","","","","","","","","","","","","","","","",""]
[null,null,null,null,null,null,null,null,null,"",null,null,"","","","","","","","","","","","","","","","","","","","","","","","","","","","","","","","","","","","","","","",""]
[null,null,null,null,null,null,null,null,null,"",null,null,"","","","","","","","","","","","","","","","","","","","","","","","","","","","","","","","","","","","","","","",""]
[null,null,null,null,null,null,null,null,null,"",null,null,"","","","","","","","","","","","","","","","","",{"$f":"IF($E1001=AD$2,$M1001,\"\")","v":""},"","","","","","","","","","","","","","","","","","","","","",""]
[null,null,null,null,null,null,null,null,null,"",null,null,"","","",{"$f":"IF($E1002=P$2,$M1002,\"\")","v":""},"","","","","","","","","","","","","","","","","","","","","","","","","","","","","","","","","","","",""]
[null,null,null,null,null,null,null,null,null,"",null,null,"","","","","","","","","","","","","","","","","","","","","","","","","","","","","","","","","","","","","","","",""]
[null,null,null,null,null,null,null,null,null,"",null,null,"","","","","","","","","","","","","","","","","","","","","","","","","","","","","","","","","","","","","","","",""]
[null,null,null,null,null,null,null,null,null,"",null,null,"","","","","","","","","","","","","","","","","","","","","","","","","","","","","","","","","","","","","","","",""]
[null,null,null,null,null,null,null,null,null,"",null,null,"","","","","","","","","","","","","","","","","","","","","","","","","","","","","","","","","","","","","","","",""]
[null,null,null,null,null,null,null,null,null,"",null,null,"","","","","","","","","","","","","","","","","","","","","","","","","","","","","","","","","","","","","","","",""]
[null,null,null,null,null,null,null,null,null,"",null,null,"",{"$f":"IF($E1008=N$2,$M1008,\"\")","v":""},"","","","","","","","","","","","","","","","","","","","","","","","","","","","","","","","","","","","","",""]
[null,null,null,null,null,null,null,null,null,"",null,null,"","","","","","","","","","","","","","","","","","","","","","","","","","","","","","","","","","","","","","","",""]
[null,null,null,null,null,null,null,null,null,"",null,null,"","","","","","","","","","","","","","","","","","","","","","","","","","","","","","","","","","","","","","","",""]
[null,null,null,null,null,null,null,null,null,"",null,null,"","","","","","","","","","","","","","","","","","","","","","","","","","","","","","","","","","","","","","","",""]
[null,null,null,null,null,null,null,null,null,"",null,null,"","","","","","","","","","","","","","","","","","","","","","","","","","","","","","","","","","","","","","","",""]
[null,null,null,null,null,null,null,null,null,"",null,null,"","","","","","","","","","","","","","","","","","","","","","","","","","","","","","","","","","","","","","","",""]
[null,null,null,null,null,null,null,null,null,"",null,null,"","","","","","","","","","","","","","","","","","","","","","","","","","","","","","","","","","","","","","","",""]
[null,null,null,null,null,null,null,null,null,"",null,null,"","","","","","","","","","","","","","","","","","","","","","","","","","","","","","","","","","","","",{"$f":"IF($E1015=AW$2,$M1015,\"\")","v":""},{"$f":"IF($E1015=AX$2,$M1015,\"\")","v":""},{"$f":"IF($E1015=AY$2,$M1015,\"\")","v":""},{"$f":"IF($E1015=AZ$2,$M1015,\"\")","v":""}]
[null,null,null,null,null,null,null,null,null,"",null,null,"","","","","","","","","","","","","","","","","","","","","","","","","","","","","","","","","",{"$f":"IF($E1016=AT$2,$M1016,\"\")","v":""},"","","","","",""]
[null,null,null,null,null,null,null,null,null,"",null,null,"","","","","","","","","","","","","","","","","",{"$f":"IF($E1017=AD$2,$M1017,\"\")","v":""},"","","","","","","","","","","","","","","","","","","","","",""]
[null,null,null,null,null,null,null,null,null,"",null,null,"","","",{"$f":"IF($E1018=P$2,$M1018,\"\")","v":""},"","","","","","","","","","","","","","","","","","","","","","","","","","","","","","","","","","","",""]
[null,null,null,null,null,null,null,null,null,"",null,null,"","","","","","","","","","","","","","","","","","","","","","","","","","","","","","","","","","","","","","","",""]
[null,null,null,null,null,null,null,null,null,"",null,null,"","","","","","","","","","","","","","","","","","","","","","","","","","","","","","","","","","","","","","","",""]
[null,null,null,null,null,null,null,null,null,"",null,null,"","","","","","","","","","","","","","","","","","","","","","","","","","","","","","","","","","","","","","","",""]
[null,null,null,null,null,null,null,null,null,"",null,null,"","","","","","","","","","","","","","","","","","","","","","","","","","","","","","","","","","","","","","","",""]
[null,null,null,null,null,null,null,null,null,"",null,null,"","","","","","","","","","","","","","","","","","","","","","","","","","","","","","","","","","","","","","","",""]
[null,null,null,null,null,null,null,null,null,"",null,null,"",{"$f":"IF($E1024=N$2,$M1024,\"\")","v":""},"","","","","","","","","","","","","","","","","","","","","","","","","","","","","","","","","","","","","",""]
[null,null,null,null,null,null,null,null,null,"",null,null,"","","","","","","","","","","","","","","","","","","","","","","","","","","","","","","","","","","","","","","",""]
[null,null,null,null,null,null,null,null,null,"",null,null,"","","","","","","","","","","","","","","","","","","","","","","","","","","","","","","","","","","","","","","",""]
[null,null,null,null,null,null,null,null,null,"",null,null,"","","","","","","","","","","","","","","","","","","","","","","","","","","","","","","","","","","","","","","",""]
[null,null,null,null,null,null,null,null,null,{"$f":"IF(E1028=\"\",\"\",A1028&\" \"&B1028)","v":""},null,null,"","","","","","","","","","","","","","","","","","","","","","","","","","","","","","","","","","","","","","","",""]
[null,null,null,null,null,null,null,null,null,{"$f":"IF(E1029=\"\",\"\",A1029&\" \"&B1029)","v":""},null,null,{"$f":"IF(E1029=\"\",\"\",IF(E1029=E1028,M1028+1,1))","v":""},"","","","","","","","","","","","","","","","","","","","","","","","","","","","","","","","","","","","","","",""]
[null,null,null,null,null,null,null,null,null,{"$f":"IF(E1030=\"\",\"\",A1030&\" \"&B1030)","v":""},null,null,{"$f":"IF(E1030=\"\",\"\",IF(E1030=E1029,M1029+1,1))","v":""},"","","","","","","","","","","","","","","","","","","","","","","","","","","","","","","","","","","","","","",""]

{"sheet":"Importation classes","index":2,"n_rows":41,"n_cols":36,"rows_kept":41,"cut":false,"hidden":false,"merged":[[0,0,0,6]]}
["Copier coller les noms des classes en A3"]
["Nom des classes  39 max copier coller à partir de Pronote",null,null,null,null,null,1,2,3,4,5,6,7,8,9,10,11,12,13,14,15,16,17,18,19,20,21,22,23,24,25,26,27,28,29,30]
[null,null,null,null,null,1,{"$f":"INDEX(tabeleves,G$2,$F3)","v":" "}," "," "," "," "," "," "," "," "," ",{"$f":"INDEX(tabeleves,Q$2,$F3)","v":" "}," "," "," "," "," "," "," "," "," ",{"$f":"INDEX(tabeleves,AA$2,$F3)","v":" "}," "," "," "," "," "," "," "," "]
[null,null,null,null,null,2," "," "," "," "," "," "," "," "," "," "," "," "," "," "," "," "," "," "," "," "," "," "," "," "," "," "," "," "," "]
[null,null,null,null,null,3," "," "," "," "," "," "," "," "," "," "," "," "," "," "," "," "," "," "," "," "," "," "," "," "," "," "," "," "," "]
[null,null,null,null,null,4," "," "," "," "," "," "," "," "," "," "," "," "," "," "," "," "," "," "," "," "," "," "," "," "," "," "," "," "," "]
[null,null,null,null,null,5," "," "," "," "," "," "," "," "," "," "," "," "," "," "," "," "," "," "," "," "," "," "," "," "," "," "," "," "," "]
[null,null,null,null,null,6," "," "," "," "," "," "," "," "," "," "," "," "," "," "," "," "," "," "," "," "," "," "," "," "," "," "," "," "," "]
[null,null,null,null,null,7," "," "," "," "," "," "," "," "," "," "," "," "," "," "," "," "," "," "," "," "," "," "," "," "," "," "," "," "," "]
[null,null,null,null,null,8," "," "," "," "," "," "," "," "," "," "," "," "," "," "," "," "," "," "," "," "," "," "," "," "," "," "," "," "," "]
[null,null,null,null,null,9," "," "," "," "," "," "," "," "," "," "," "," "," "," "," "," "," "," "," "," "," "," "," "," "," "," "," "," "," "]
[null,null,null,null,null,10," "," "," "," "," "," "," "," "," "," "," "," "," "," "," "," "," "," "," "," "," "," "," "," "," "," "," "," "," "]
[null,null,null,null,null,11,{"$f":"INDEX(tabeleves,G$2,$F13)","v":" "}," "," "," "," "," "," "," "," "," ",{"$f":"INDEX(tabeleves,Q$2,$F13)","v":" "}," "," "," "," "," "," "," "," "," ",{"$f":"INDEX(tabeleves,AA$2,$F13)","v":" "}," "," "," "," "," "," "," "," "]
[null,null,null,null,null,12," "," "," "," "," "," "," "," "," "," "," "," "," "," "," "," "," "," "," "," "," "," "," "," "," "," "," "," "," "]
[null,null,null,null,null,13," "," "," "," "," "," "," "," "," "," "," "," "," "," "," "," "," "," "," "," "," "," "," "," "," "," "," "," "," "]
[null,null,null,null,null,14," "," "," "," "," "," "," "," "," "," "," "," "," "," "," "," "," "," "," "," "," "," "," "," "," "," "," "," "," "]
[null,null,null,null,null,15," "," "," "," "," "," "," "," "," "," "," "," "," "," "," "," "," "," "," "," "," "," "," "," "," "," "," "," "," "]
[null,null,null,null,null,16," "," "," "," "," "," "," "," "," "," "," "," "," "," "," "," "," "," "," "," "," "," "," "," "," "," "," "," "," "]
[null,null,null,null,null,17," "," "," "," "," "," "," "," "," "," "," "," "," "," "," "," "," "," "," "," "," "," "," "," "," "," "," "," "," "]
[null,null,null,null,null,18," "," "," "," "," "," "," "," "," "," "," "," "," "," "," "," "," "," "," "," "," "," "," "," "," "," "," "," "," "]
[null,null,null,null,null,19," "," "," "," "," "," "," "," "," "," "," "," "," "," "," "," "," "," "," "," "," "," "," "," "," "," "," "," "," "]
[null,null,null,null,null,20," "," "," "," "," "," "," "," "," "," "," "," "," "," "," "," "," "," "," "," "," "," "," "," "," "," "," "," "," "]
[null,null,null,null,null,21,{"$f":"INDEX(tabeleves,G$2,$F23)","v":" "}," "," "," "," "," "," "," "," "," ",{"$f":"INDEX(tabeleves,Q$2,$F23)","v":" "}," "," "," "," "," "," "," "," "," ",{"$f":"INDEX(tabeleves,AA$2,$F23)","v":" "}," "," "," "," "," "," "," "," "]
[null,null,null,null,null,22," "," "," "," "," "," "," "," "," "," "," "," "," "," "," "," "," "," "," "," "," "," "," "," "," "," "," "," "," "]
[null,null,null,null,null,23," "," "," "," "," "," "," "," "," "," "," "," "," "," "," "," "," "," "," "," "," "," "," "," "," "," "," "," "," "]
[null,null,null,null,null,24," "," "," "," "," "," "," "," "," "," "," "," "," "," "," "," "," "," "," "," "," "," "," "," "," "," "," "," "," "]
[null,null,null,null,null,25," "," "," "," "," "," "," "," "," "," "," "," "," "," "," "," "," "," "," "," "," "," "," "," "," "," "," "," "," "]
[null,null,null,null,null,26," "," "," "," "," "," "," "," "," "," "," "," "," "," "," "," "," "," "," "," "," "," "," "," "," "," "," "," "," "]
[null,null,null,null,null,27," "," "," "," "," "," "," "," "," "," "," "," "," "," "," "," "," "," "," "," "," "," "," "," "," "," "," "," "," "]
[null,null,null,null,null,28," "," "," "," "," "," "," "," "," "," "," "," "," "," "," "," "," "," "," "," "," "," "," "," "," "," "," "," "," "]
[null,null,null,null,null,29," "," "," "," "," "," "," "," "," "," "," "," "," "," "," "," "," "," "," "," "," "," "," "," "," "," "," "," "," "]
[null,null,null,null,null,30," "," "," "," "," "," "," "," "," "," "," "," "," "," "," "," "," "," "," "," "," "," "," "," "," "," "," "," "," "]
[null,null,null,null,null,31,{"$f":"INDEX(tabeleves,G$2,$F33)","v":" "}," "," "," "," "," "," "," "," "," ",{"$f":"INDEX(tabeleves,Q$2,$F33)","v":" "}," "," "," "," "," "," "," "," "," ",{"$f":"INDEX(tabeleves,AA$2,$F33)","v":" "}," "," "," "," "," "," "," "," "]
[null,null,null,null,null,32," "," "," "," "," "," "," "," "," "," "," "," "," "," "," "," "," "," "," "," "," "," "," "," "," "," "," "," "," "]
[null,null,null,null,null,33," "," "," "," "," "," "," "," "," "," "," "," "," "," "," "," "," "," "," "," "," "," "," "," "," "," "," "," "," "]
[null,null,null,null,null,34," "," "," "," "," "," "," "," "," "," "," "," "," "," "," "," "," "," "," "," "," "," "," "," "," "," "," "," "," "]
[null,null,null,null,null,35," "," "," "," "," "," "," "," "," "," "," "," "," "," "," "," "," "," "," "," "," "," "," "," "," "," "," "," "," "]
[null,null,null,null,null,36," "," "," "," "," "," "," "," "," "," "," "," "," "," "," "," "," "," "," "," "," "," "," "," "," "," "," "," "," "]
[null,null,null,null,null,37," "," "," "," "," "," "," "," "," "," "," "," "," "," "," "," "," "," "," "," "," "," "," "," "," "," "," "," "," "]
[null,null,null,null,null,38," "," "," "," "," "," "," "," "," "," "," "," "," "," "," "," "," "," "," "," "," "," "," "," "," "," "," "," "," "]
[null,null,null,null,null,39,{"$f":"INDEX(tabeleves,G$2,$F41)","v":" "}," "," "," "," "," "," "," "," "," "," "," "," "," "," "," "," "," "," "," "," "," "," "," "," "," "," "," "," "]

{"sheet":"fiche","index":3,"n_rows":25,"n_cols":107,"rows_kept":25,"cut":false,"hidden":false,"merged":[[1,37,1,39],[6,37,7,39],[12,37,13,39],[17,37,18,39],[3,29,3,35],[4,29,4,35],[19,25,19,27],[19,29,19,31],[19,32,19,34],[5,32,5,34],[18,32,18,34],[5,14,7,14],[5,15,5,17],[5,18,5,20],[5,21,7,21],[19,11,19,13],[19,15,19,17],[5,92,5,105],[5,35,7,35],[18,15,18,17],[5,78,5,91],[5,42,5,55],[5,56,5,69],[5,22,5,24],[5,25,5,27],[5,28,7,28],[5,29,5,31],[5,70,5,77],[18,22,18,24],[18,25,18,27],[18,29,18,31],[19,22,19,24],[4,22,4,28],[5,1,5,3],[5,4,5,6],[5,7,7,7],[5,8,5,10],[5,11,5,13],[19,18,19,20],[18,1,18,3],[18,18,18,20],[18,4,18,6],[18,8,18,10],[18,11,18,13],[19,1,19,3],[19,4,19,6],[19,8,19,10],[22,9,22,35],[0,0,0,7],[0,21,0,24],[0,25,0,35],[1,0,1,7],[1,9,1,18],[1,21,1,24],[1,25,1,35],[3,0,4,0],[3,1,3,7],[3,8,3,14],[3,15,3,21],[3,22,3,28],[4,1,4,7],[4,8,4,14],[4,15,4,21]]}
["Fiche de suivi",null,null,null,null,null,null,null,null,null,null,null,null,null,null,null,null,null,null,null,null,"Nom de l'élève :",null,null,null,{"$f":"IF(nsaisie=\"\",\"\",INDEX(tabsignal,MATCH(nsaisie,nsignal,0),2))","v":""}]
["Contrat de vie scolaire",null,null,null,null,null,null,null,null,"Bilan de la semaine",null,null,null,null,null,null,null,null,null,null,null,"Classe :",null,null,null,{"$f":"IF(nsaisie=\"\",\"\",INDEX(tabsignal,MATCH(nsaisie,nsignal,0),1))","v":""},null,null,null,null,null,null,null,null,null,null,null,"Valider la saisie"]
["N° fiche"]
[{"$f":"'Tableau général'!L2&\"\"","v":""},"Lundi",null,null,null,null,null,null,"Mardi",null,null,null,null,null,null,"Mercredi",null,null,null,null,null,null,"Jeudi",null,null,null,null,null,null,"Vendredi"]
[null,{"$f":"IF(nsaisie=\"\",\"\",INDEX(tabsignal,MATCH(nsaisie,nsignal,0),3))","v":""},null,null,null,null,null,null,{"$f":"IF(B5=\"\",\"\",B5+1)","v":""},null,null,null,null,null,null,{"$f":"IF(I5=\"\",\"\",I5+1)","v":""},null,null,null,null,null,null,{"$f":"IF(P5=\"\",\"\",P5+1)","v":""},null,null,null,null,null,null,{"$f":"IF(W5=\"\",\"\",W5+1)","v":""}]
[null,"Travail",null,null,"Comport.",null,null,"Signature","Travail",null,null,"Comport.",null,null,"Signature","Travail",null,null,"Comport.",null,null,"Signature","Travail",null,null,"Comport.",null,null,"Signature","Travail",null,null,"Comport.",null,null,"Signature",null,null,null,null,null,null,"Lundi",null,null,null,null,null,null,null,null,null,null,null,null,null,"Mardi",null,null,null,null,null,null,null,null,null,null,null,null,null,"Mercredi",null,null,null,null,null,null,null,"Jeudi",null,null,null,null,null,null,null,null,null,null,null,null,null,"Vendredi"]
["Note",2,1,0,2,1,0,null,2,1,0,2,1,0,null,2,1,0,2,1,0,null,2,1,0,2,1,0,null,2,1,0,2,1,0,null,null,"Imprimer la fiche",null,null,null,null,"M1","M2","M3","M4","S1","S2","S3","M1","M2","M3","M4","S1","S2","S3","M1","M2","M3","M4","S1","S2","S3","M1","M2","M3","M4","S1","S2","S3","M1","M2","M3","M4","M1","M2","M3","M4","M1","M2","M3","M4","S1","S2","S3","M1","M2","M3","M4","S1","S2","S3","M1","M2","M3","M4","S1","S2","S3","M1","M2","M3","M4","S1","S2","S3"]
["heures","B","M","I","B","M","I",null,"B","M","I","B","M","I",null,"B","M","I","B","M","I",null,"B","M","I","B","M","I",null,"B","M","I","B","M","I",null,null,null,null,null,null,null,"T","T","T","T","T","T","T","C","C","C","C","C","C","C","T","T","T","T","T","T","T","C","C","C","C","C","C","C","T","T","T","T","C","C","C","C","T","T","T","T","T","T","T","C","C","C","C","C","C","C","T","T","T","T","T","T","T","C","C","C","C","C","C","C","observations"]
["M1",null,null,null,null,null,null,null,null,null,null,null,null,null,null,null,null,null,null,null,null,null,null,null,null,null,null,null,null,null,null,null,null,null,null,null,null,null,null,null,null,{"$f":"IF(H22=\"\",\"\",H22)","v":""},{"$f":"IF($H$22=\"\",\"\",IF($B9=1,2,IF($C9=1,1,IF($D9=1,0,\" \"))))","v":""},{"$f":"IF($H$22=\"\",\"\",IF($B10=1,2,IF($C10=1,1,IF($D10=1,0,\" \"))))","v":""},{"$f":"IF($H$22=\"\",\"\",IF($B11=1,2,IF($C11=1,1,IF($D11=1,0,\" \"))))","v":""},{"$f":"IF($H$22=\"\",\"\",IF($B12=1,2,IF($C12=1,1,IF($D12=1,0,\" \"))))","v":""},{"$f":"IF($H$22=\"\",\"\",IF($B14=1,2,IF($C14=1,1,IF($D14=1,0,\" \"))))","v":""},{"$f":"IF($H$22=\"\",\"\",IF($B15=1,2,IF($C15=1,1,IF($D15=1,0,\" \"))))","v":""},{"$f":"IF($H$22=\"\",\"\",IF($B16=1,2,IF($C16=1,1,IF($D16=1,0,\" \"))))","v":""},{"$f":"IF($H$22=\"\",\"\",IF($E9=1,2,IF($F9=1,1,IF($G9=1,0,\" \"))))","v":""},{"$f":"IF($H$22=\"\",\"\",IF($E10=1,2,IF($F10=1,1,IF($G10=1,0,\" \"))))","v":""},{"$f":"IF($H$22=\"\",\"\",IF($E11=1,2,IF($F11=1,1,IF($G11=1,0,\" \"))))","v":""},{"$f":"IF($H$22=\"\",\"\",IF($E12=1,2,IF($F12=1,1,IF($G12=1,0,\" \"))))","v":""},{"$f":"IF($H$22=\"\",\"\",IF($E14=1,2,IF($F14=1,1,IF($G14=1,0,\" \"))))","v":""},{"$f":"IF($H$22=\"\",\"\",IF($E15=1,2,IF($F15=1,1,IF($G15=1,0,\" \"))))","v":""},{"$f":"IF($H$22=\"\",\"\",IF($E16=1,2,IF($F16=1,1,IF($G16=1,0,\" \"))))","v":""},{"$f":"IF($H$22=\"\",\"\",IF($I9=1,2,IF($J9=1,1,IF($K9=1,0,\" \"))))","v":""},{"$f":"IF($H$22=\"\",\"\",IF($I10=1,2,IF($J10=1,1,IF($K10=1,0,\" \"))))","v":""},{"$f":"IF($H$22=\"\",\"\",IF($I11=1,2,IF($J11=1,1,IF($K11=1,0,\" \"))))","v":""},{"$f":"IF($H$22=\"\",\"\",IF($I12=1,2,IF($J12=1,1,IF($K12=1,0,\" \"))))","v":""},{"$f":"IF($H$22=\"\",\"\",IF($I14=1,2,IF($J14=1,1,IF($K14=1,0,\" \"))))","v":""},{"$f":"IF($H$22=\"\",\"\",IF($I15=1,2,IF($J15=1,1,IF($K15=1,0,\" \"))))","v":""},{"$f":"IF($H$22=\"\",\"\",IF($I16=1,2,IF($J16=1,1,IF($K16=1,0,\" \"))))","v":""},{"$f":"IF($H$22=\"\",\"\",IF($L9=1,2,IF($M9=1,1,IF($N9=1,0,\" \"))))","v":""},{"$f":"IF($H$22=\"\",\"\",IF($L10=1,2,IF($M10=1,1,IF($N10=1,0,\" \"))))","v":""},{"$f":"IF($H$22=\"\",\"\",IF($L11=1,2,IF($M11=1,1,IF($N11=1,0,\" \"))))","v":""},{"$f":"IF($H$22=\"\",\"\",IF($L12=1,2,IF($M12=1,1,IF($N12=1,0,\" \"))))","v":""},{"$f":"IF($H$22=\"\",\"\",IF($L14=1,2,IF($M14=1,1,IF($N14=1,0,\" \"))))","v":""},{"$f":"IF($H$22=\"\",\"\",IF($L15=1,2,IF($M15=1,1,IF($N15=1,0,\" \"))))","v":""},{"$f":"IF($H$22=\"\",\"\",IF($L16=1,2,IF($M16=1,1,IF($N16=1,0,\" \"))))","v":""},{"$f":"IF($H$22=\"\",\"\",IF($P9=1,2,IF($Q9=1,1,IF($R9=1,0,\" \"))))","v":""},{"$f":"IF($H$22=\"\",\"\",IF($P10=1,2,IF($Q10=1,1,IF($R10=1,0,\" \"))))","v":""},{"$f":"IF($H$22=\"\",\"\",IF($P11=1,2,IF($Q11=1,1,IF($R11=1,0,\" \"))))","v":""},{"$f":"IF($H$22=\"\",\"\",IF($P12=1,2,IF($Q12=1,1,IF($R12=1,0,\" \"))))","v":""},{"$f":"IF($H$22=\"\",\"\",IF($S9=1,2,IF($T9=1,1,IF($U9=1,0,\" \"))))","v":""},{"$f":"IF($H$22=\"\",\"\",IF($S10=1,2,IF($T10=1,1,IF($U10=1,0,\" \"))))","v":""},{"$f":"IF($H$22=\"\",\"\",IF($S11=1,2,IF($T11=1,1,IF($U11=1,0,\" \"))))","v":""},{"$f":"IF($H$22=\"\",\"\",IF($S12=1,2,IF($T12=1,1,IF($U12=1,0,\" \"))))","v":""},{"$f":"IF($H$22=\"\",\"\",IF($W9=1,2,IF($X9=1,1,IF($Y9=1,0,\" \"))))","v":""},{"$f":"IF($H$22=\"\",\"\",IF($W10=1,2,IF($X10=1,1,IF($Y10=1,0,\" \"))))","v":""},{"$f":"IF($H$22=\"\",\"\",IF($W11=1,2,IF($X11=1,1,IF($Y11=1,0,\" \"))))","v":""},{"$f":"IF($H$22=\"\",\"\",IF($W12=1,2,IF($X12=1,1,IF($Y12=1,0,\" \"))))","v":""},{"$f":"IF($H$22=\"\",\"\",IF($W14=1,2,IF($X14=1,1,IF($Y14=1,0,\" \"))))","v":""},{"$f":"IF($H$22=\"\",\"\",IF($W15=1,2,IF($X15=1,1,IF($Y15=1,0,\" \"))))","v":""},{"$f":"IF($H$22=\"\",\"\",IF($W16=1,2,IF($X16=1,1,IF($Y16=1,0,\" \"))))","v":""},{"$f":"IF($H$22=\"\",\"\",IF($Z9=1,2,IF($AA9=1,1,IF($AB9=1,0,\" \"))))","v":""},{"$f":"IF($H$22=\"\",\"\",IF($Z10=1,2,IF($AA10=1,1,IF($AB10=1,0,\" \"))))","v":""},{"$f":"IF($H$22=\"\",\"\",IF($Z11=1,2,IF($AA11=1,1,IF($AB11=1,0,\" \"))))","v":""},{"$f":"IF($H$22=\"\",\"\",IF($Z12=1,2,IF($AA12=1,1,IF($AB12=1,0,\" \"))))","v":""},{"$f":"IF($H$22=\"\",\"\",IF($Z14=1,2,IF($AA14=1,1,IF($AB14=1,0,\" \"))))","v":""},{"$f":"IF($H$22=\"\",\"\",IF($Z15=1,2,IF($AA15=1,1,IF($AB15=1,0,\" \"))))","v":""},{"$f":"IF($H$22=\"\",\"\",IF($Z16=1,2,IF($AA16=1,1,IF($AB16=1,0,\" \"))))","v":""},{"$f":"IF($H$22=\"\",\"\",IF($AD9=1,2,IF($AE9=1,1,IF($AF9=1,0,\" \"))))","v":""},{"$f":"IF($H$22=\"\",\"\",IF($AD10=1,2,IF($AE10=1,1,IF($AF10=1,0,\" \"))))","v":""},{"$f":"IF($H$22=\"\",\"\",IF($AD11=1,2,IF($AE11=1,1,IF($AF11=1,0,\" \"))))","v":""},{"$f":"IF($H$22=\"\",\"\",IF($AD12=1,2,IF($AE12=1,1,IF($AF12=1,0,\" \"))))","v":""},{"$f":"IF($H$22=\"\",\"\",IF($AD14=1,2,IF($AE14=1,1,IF($AF14=1,0,\" \"))))","v":""},{"$f":"IF($H$22=\"\",\"\",IF($AD15=1,2,IF($AE15=1,1,IF($AF15=1,0,\" \"))))","v":""},{"$f":"IF($H$22=\"\",\"\",IF($AD16=1,2,IF($AE16=1,1,IF($AF16=1,0,\" \"))))","v":""},{"$f":"IF($H$22=\"\",\"\",IF($AG9=1,2,IF($AH9=1,1,IF($AI9=1,0,\" \"))))","v":""},{"$f":"IF($H$22=\"\",\"\",IF($AG10=1,2,IF($AH10=1,1,IF($AI10=1,0,\" \"))))","v":""},{"$f":"IF($H$22=\"\",\"\",IF($AG11=1,2,IF($AH11=1,1,IF($AI11=1,0,\" \"))))","v":""},{"$f":"IF($H$22=\"\",\"\",IF($AG12=1,2,IF($AH12=1,1,IF($AI12=1,0,\" \"))))","v":""},{"$f":"IF($H$22=\"\",\"\",IF($AG14=1,2,IF($AH14=1,1,IF($AI14=1,0,\" \"))))","v":""},{"$f":"IF($H$22=\"\",\"\",IF($AG15=1,2,IF($AH15=1,1,IF($AI15=1,0,\" \"))))","v":""},{"$f":"IF($H$22=\"\",\"\",IF($AG16=1,2,IF($AH16=1,1,IF($AI16=1,0,\" \"))))","v":""},{"$f":"IF(J23=\"\",\"\",J23)","v":""}]
["M2"]
["M3"]
["M4"]
[null,null,null,null,null,null,null,null,null,null,null,null,null,null,null,null,null,null,null,null,null,null,null,null,null,null,null,null,null,null,null,null,null,null,null,null,null,"Effacer la saisie"]
["S1"]
["S2"]
["S3"]
["S4"]
[null,null,null,null,null,null,null,null,null,null,null,null,null,null,null,null,null,null,null,null,null,null,null,null,null,null,null,null,null,null,null,null,null,null,null,null,null,"Retour tableau",null,null,null,null,null,null,null,null,null,null,null,null,null,null,null,null,null,null,null,null,null,null,null,null,null,null,null,null,null,null,null,null,null,null,null,null,null,null,null,null,null,null,null,null,null,null,null,null,null,null,null,null,null,null,null,null,null,null,null,null,null,{"$f":"IF($H$22=\"\",\"\",IF($AG18=1,2,IF($AH18=1,1,IF($AI18=1,0,\" \"))))","v":""}]
["Notes",{"$f":"IF(SUM(B9:D17)=0,\"\",(SUM(B9:B17)*B7)+(SUM(C9:C17)*C7))","v":""},null,null,{"$f":"IF(SUM(E9:G17)=0,\"\",(SUM(E9:E17)*E7)+(SUM(F9:F17)*F7))","v":""},null,null,null,{"$f":"IF(SUM(I9:K17)=0,\"\",(SUM(I9:I17)*I7)+(SUM(J9:J17)*J7))","v":""},null,null,{"$f":"IF(SUM(L9:N17)=0,\"\",(SUM(L9:L17)*L7)+(SUM(M9:M17)*M7))","v":""},null,null,null,{"$f":"IF(SUM(P9:R17)=0,\"\",(SUM(P9:P17)*P7)+(SUM(Q9:Q17)*Q7))","v":""},null,null,{"$f":"IF(SUM(S9:U17)=0,\"\",(SUM(S9:S17)*S7)+(SUM(T9:T17)*T7))","v":""},null,null,null,{"$f":"IF(SUM(W9:Y17)=0,\"\",(SUM(W9:W17)*W7)+(SUM(X9:X17)*X7))","v":""},null,null,{"$f":"IF(SUM(Z9:AB17)=0,\"\",(SUM(Z9:Z17)*Z7)+(SUM(AA9:AA17)*AA7))","v":""},null,null,null,{"$f":"IF(SUM(AD9:AF17)=0,\"\",(SUM(AD9:AD17)*AD7)+(SUM(AE9:AE17)*AE7))","v":""},null,null,{"$f":"IF(SUM(AG9:AI17)=0,\"\",(SUM(AG9:AG17)*AG7)+(SUM(AH9:AH17)*AH7))","v":""}]
["Notes sur",{"$f":"IF(SUM(B9:D17)=0,\"\",COUNT(B9:D17)*2)","v":""},null,null,{"$f":"IF(SUM(E9:G17)=0,\"\",COUNT(E9:G17)*2)","v":""},null,null,null,{"$f":"IF(SUM(I9:K17)=0,\"\",COUNT(I9:K17)*2)","v":""},null,null,{"$f":"IF(SUM(L9:N17)=0,\"\",COUNT(L9:N17)*2)","v":""},null,null,null,{"$f":"IF(SUM(P9:R17)=0,\"\",COUNT(P9:R17)*2)","v":""},null,null,{"$f":"IF(SUM(S9:U17)=0,\"\",COUNT(S9:U17)*2)","v":""},null,null,null,{"$f":"IF(SUM(W9:Y17)=0,\"\",COUNT(W9:Y17)*2)","v":""},null,null,{"$f":"IF(SUM(Z9:AB17)=0,\"\",COUNT(Z9:AB17)*2)","v":""},null,null,null,{"$f":"IF(SUM(AD9:AF17)=0,\"\",COUNT(AD9:AF17)*2)","v":""},null,null,{"$f":"IF(SUM(AG9:AI17)=0,\"\",COUNT(AG9:AI17)*2)","v":""}]
[]
["Note de la semaine / 20",null,null,null,null,null,null,{"$f":"IF(SUM(B20:AI20)=0,\"\",(SUM(B19:AI19)*20)/SUM(B20:AI20))","v":""},null,null,"Observations"]
[]
[]
["Le professeur principal",null,null,null,null,null,null,null,null,"Le CPE",null,null,null,null,null,null,null,null,null,null,"Les parents (ou tuteurs)"]

{"sheet":"recap fiche","index":4,"n_rows":247,"n_cols":122,"rows_kept":247,"cut":false,"hidden":false,"merged":[[3,0,4,0],[3,1,3,7],[3,8,3,14],[3,15,3,21],[3,22,3,28],[4,22,4,28],[0,0,0,7],[0,21,0,24],[0,25,0,35],[1,0,1,7],[1,9,1,18],[1,21,1,24],[1,25,1,35],[5,14,7,14],[5,15,5,17],[5,18,5,20],[4,1,4,7],[4,8,4,14],[4,15,4,21],[5,1,5,3],[5,4,5,6],[5,7,7,7],[5,8,5,10],[5,11,5,13],[5,92,5,105],[5,21,7,21],[5,22,5,24],[5,25,5,27],[5,28,7,28],[5,29,5,31],[5,32,5,34],[5,35,7,35],[5,42,5,55],[5,56,5,69],[5,70,5,77],[5,78,5,91],[18,11,18,13],[18,15,18,17],[18,18,18,20],[18,22,18,24],[18,25,18,27],[0,37,0,39],[6,37,6,39],[12,37,12,39],[18,29,18,31],[18,32,18,34],[3,29,3,35],[4,29,4,35],[21,9,25,35],[23,1,23,7],[2,1,2,3],[19,29,19,31],[19,32,19,34],[19,1,19,3],[19,4,19,6],[19,8,19,10],[19,11,19,13],[19,15,19,17],[19,18,19,20],[19,22,19,24],[19,25,19,27],[18,1,18,3],[18,4,18,6],[18,8,18,10]]}
["Fiche de suivi",null,null,null,null,null,null,null,null,null,null,null,null,null,null,null,null,null,null,null,null,"Nom de l'élève :",null,null,null,{"$f":"INDEX(nom,MATCH(AM$4,nsignal,0),1)","v":{"$error":"#N/A"}},null,null,null,null,null,null,null,null,null,null,null,"Afficher une fiche déjà saisie"]
["Contrat de vie scolaire",null,null,null,null,null,null,null,null,null,null,null,null,null,null,null,null,null,null,null,null,"Classe :",null,null,null,{"$f":"INDEX(classe,MATCH(AM$4,nsignal,0),1)","v":{"$error":"#N/A"}},null,null,null,null,null,null,null,null,null,null,null,"Numéro du signalement",null,null,null,null,null,null,null,null,null,null,null,null,null,null,null,null,null,null,null,null,null,null,null,null,null,null,null,null,null,null,null,null,null,null,null,null,null,null,null,null,null,null,null,null,null,null,null,null,null,null,null,null,null,null,null,null,null,null,null,null,null,null,null,null,null,null,null,null,null,null,null,null,null,null,null,null,null,null,null,null,"N°","Nom","Date","Note"]
["N° fiche",{"$f":"AM4&\"\"","v":"2"},null,null,null,null,null,null,null,null,null,null,null,null,null,null,null,null,null,null,null,null,null,null,null,null,null,null,null,null,null,null,null,null,null,null,null,null,null,null,null,null,null,null,null,null,null,null,null,null,null,null,null,null,null,null,null,null,null,null,null,null,null,null,null,null,null,null,null,null,null,null,null,null,null,null,null,null,null,null,null,null,null,null,null,null,null,null,null,null,null,null,null,null,null,null,null,null,null,null,null,null,null,null,null,null,null,null,null,null,null,null,null,null,null,null,null,null,{"$f":"'Tableau général'!A5","v":""},{"$f":"IF($DO3=\"\",\"\",'Tableau général'!C5)","v":""},{"$f":"IF($DO3=\"\",\"\",'Tableau général'!D5)","v":""},{"$f":"IF($DO3=\"\",\"\",'Tableau général'!E5)","v":""}]
[{"$f":"'Tableau général'!L2&\"\"","v":""},"Lundi",null,null,null,null,null,null,"Mardi",null,null,null,null,null,null,"Mercredi",null,null,null,null,null,null,"Jeudi",null,null,null,null,null,null,"Vendredi",null,null,null,null,null,null,null,null,2,null,null,null,null,null,null,null,null,null,null,null,null,null,null,null,null,null,null,null,null,null,null,null,null,null,null,null,null,null,null,null,null,null,null,null,null,null,null,null,null,null,null,null,null,null,null,null,null,null,null,null,null,null,null,null,null,null,null,null,null,null,null,null,null,null,null,null,null,null,null,null,null,null,null,null,null,null,null,null,{"$f":"'Tableau général'!A6","v":""},{"$f":"IF($DO4=\"\",\"\",'Tableau général'!C6)","v":""},{"$f":"IF($DO4=\"\",\"\",'Tableau général'!D6)","v":""},{"$f":"IF($DO4=\"\",\"\",'Tableau général'!E6)","v":""}]
[null,{"$f":"IF(nsaisie=\"\",\"\",INDEX(tabsignal,MATCH(nsaisie,nsignal,0),3))","v":""},null,null,null,null,null,null,{"$f":"IF(B5=\"\",\"\",B5+1)","v":""},null,null,null,null,null,null,{"$f":"IF(I5=\"\",\"\",I5+1)","v":""},null,null,null,null,null,null,{"$f":"IF(P5=\"\",\"\",P5+1)","v":""},null,null,null,null,null,null,{"$f":"IF(W5=\"\",\"\",W5+1)","v":""},null,null,null,null,null,null,null,null," ",null,null,1,2,3,4,5,6,7,8,9,10,11,12,13,14,15,16,17,18,19,20,21,22,23,24,25,26,27,28,29,30,31,32,33,34,35,36,37,38,39,40,41,42,43,44,45,46,47,48,49,50,51,52,53,54,55,56,57,58,59,60,61,62,63,64,65,66,null,null,null,null,null,null,null,null,null,null,null,{"$f":"'Tableau général'!A7","v":""},{"$f":"IF($DO5=\"\",\"\",'Tableau général'!C7)","v":""},{"$f":"IF($DO5=\"\",\"\",'Tableau général'!D7)","v":""},{"$f":"IF($DO5=\"\",\"\",'Tableau général'!E7)","v":""}]
[null,"Travail",null,null,"Comport.",null,null,"Signature","Travail",null,null,"Comport.",null,null,"Signature","Travail",null,null,"Comport.",null,null,"Signature","Travail",null,null,"Comport.",null,null,"Signature","Travail",null,null,"Comport.",null,null,"Signature",null,null,null,null,null,null,"Lundi",null,null,null,null,null,null,null,null,null,null,null,null,null,"Mardi",null,null,null,null,null,null,null,null,null,null,null,null,null,"Mercredi",null,null,null,null,null,null,null,"Jeudi",null,null,null,null,null,null,null,null,null,null,null,null,null,"Vendredi",null,null,null,null,null,null,null,null,null,null,null,null,null,null,null,null,null,null,null,null,null,null,null,null,null,{"$f":"'Tableau général'!A8","v":""},{"$f":"IF($DO6=\"\",\"\",'Tableau général'!C8)","v":""},{"$f":"IF($DO6=\"\",\"\",'Tableau général'!D8)","v":""},{"$f":"IF($DO6=\"\",\"\",'Tableau général'!E8)","v":""}]
["Note",2,1,0,2,1,0,null,2,1,0,2,1,0,null,2,1,0,2,1,0,null,2,1,0,2,1,0,null,2,1,0,2,1,0,null,null,"Imprimer la fiche",null,null,null,null,"M1","M2","M3","M4","S1","S2","S3","M1","M2","M3","M4","S1","S2","S3","M1","M2","M3","M4","S1","S2","S3","M1","M2","M3","M4","S1","S2","S3","M1","M2","M3","M4","M1","M2","M3","M4","M1","M2","M3","M4","S1","S2","S3","M1","M2","M3","M4","S1","S2","S3","M1","M2","M3","M4","S1","S2","S3","M1","M2","M3","M4","S1","S2","S3",null,null,null,null,null,null,null,null,null,null,null,null,{"$f":"'Tableau général'!A9","v":""},{"$f":"IF($DO7=\"\",\"\",'Tableau général'!C9)","v":""},{"$f":"IF($DO7=\"\",\"\",'Tableau général'!D9)","v":""},{"$f":"IF($DO7=\"\",\"\",'Tableau général'!E9)","v":""}]
["heures","B","M","I","B","M","I",null,"B","M","I","B","M","I",null,"B","M","I","B","M","I",null,"B","M","I","B","M","I",null,"B","M","I","B","M","I",null,null,null,null,null,null,"note","T","T","T","T","T","T","T","C","C","C","C","C","C","C","T","T","T","T","T","T","T","C","C","C","C","C","C","C","T","T","T","T","C","C","C","C","T","T","T","T","T","T","T","C","C","C","C","C","C","C","T","T","T","T","T","T","T","C","C","C","C","C","C","C",null,null,null,null,null,null,null,null,null,null,null,null,{"$f":"'Tableau général'!A10","v":""},{"$f":"IF($DO8=\"\",\"\",'Tableau général'!C10)","v":""},{"$f":"IF($DO8=\"\",\"\",'Tableau général'!D10)","v":""},{"$f":"IF($DO8=\"\",\"\",'Tableau général'!E10)","v":""}]
["M1",{"$f":"IF(AQ$9=2,1,\"\")","v":{"$error":"#N/A"}},{"$f":"IF(AQ$9=1,1,\"\")","v":{"$error":"#N/A"}},{"$f":"IF(AR$9=0,1,\"\")","v":{"$error":"#N/A"}},{"$f":"IF(AX$9=2,1,\"\")","v":{"$error":"#N/A"}},{"$f":"IF(AX$9=1,1,\"\")","v":{"$error":"#N/A"}},{"$f":"IF(AX$9=0,1,\"\")","v":{"$error":"#N/A"}},null,{"$f":"IF(BE$9=2,1,\"\")","v":{"$error":"#N/A"}},{"$f":"IF(AX$9=1,1,\"\")","v":{"$error":"#N/A"}},{"$f":"IF(BE$9=0,1,\"\")","v":{"$error":"#N/A"}},{"$f":"IF(BL$9=2,1,\"\")","v":{"$error":"#N/A"}},{"$f":"IF(BL$9=1,1,\"\")","v":{"$error":"#N/A"}},{"$f":"IF(BL$9=0,1,\"\")","v":{"$error":"#N/A"}},null,{"$f":"IF(BS$9=2,1,\"\")","v":{"$error":"#N/A"}},{"$f":"IF(BS$9=1,1,\"\")","v":{"$error":"#N/A"}},{"$f":"IF(BS$9=0,1,\"\")","v":{"$error":"#N/A"}},{"$f":"IF(BW$9=2,1,\"\")","v":{"$error":"#N/A"}},{"$f":"IF(BW$9=1,1,\"\")","v":{"$error":"#N/A"}},{"$f":"IF(BW$9=0,1,\"\")","v":{"$error":"#N/A"}},null,{"$f":"IF(CA$9=2,1,\"\")","v":{"$error":"#N/A"}},{"$f":"IF(CA$9=1,1,\"\")","v":{"$error":"#N/A"}},{"$f":"IF(CA$9=0,1,\"\")","v":{"$error":"#N/A"}},{"$f":"IF(CH$9=2,1,\"\")","v":{"$error":"#N/A"}},{"$f":"IF(CH$9=1,1,\"\")","v":{"$error":"#N/A"}},{"$f":"IF(CH$9=0,1,\"\")","v":{"$error":"#N/A"}},null,{"$f":"IF(CO$9=2,1,\"\")","v":{"$error":"#N/A"}},{"$f":"IF(CO$9=1,1,\"\")","v":{"$error":"#N/A"}},{"$f":"IF(CO$9=0,1,\"\")","v":{"$error":"#N/A"}},{"$f":"IF(CV$9=2,1,\"\")","v":{"$error":"#N/A"}},{"$f":"IF(CV$9=1,1,\"\")","v":{"$error":"#N/A"}},{"$f":"IF(CV$9=0,1,\"\")","v":{"$error":"#N/A"}},null,null,null,null,null,null,{"$f":"INDEX(tabresultats,MATCH($AM$4,nsignal,0),'recap fiche'!AP5)","v":{"$error":"#N/A"}},{"$f":"INDEX(tabresultats,MATCH($AM$4,nsignal,0),'recap fiche'!AQ5)","v":{"$error":"#N/A"}},{"$f":"INDEX(tabresultats,MATCH($AM$4,nsignal,0),'recap fiche'!AR5)","v":{"$error":"#N/A"}},{"$f":"INDEX(tabresultats,MATCH($AM$4,nsignal,0),'recap fiche'!AS5)","v":{"$error":"#N/A"}},{"$f":"INDEX(tabresultats,MATCH($AM$4,nsignal,0),'recap fiche'!AT5)","v":{"$error":"#N/A"}},{"$f":"INDEX(tabresultats,MATCH($AM$4,nsignal,0),'recap fiche'!AU5)","v":{"$error":"#N/A"}},{"$f":"INDEX(tabresultats,MATCH($AM$4,nsignal,0),'recap fiche'!AV5)","v":{"$error":"#N/A"}},{"$f":"INDEX(tabresultats,MATCH($AM$4,nsignal,0),'recap fiche'!AW5)","v":{"$error":"#N/A"}},{"$f":"INDEX(tabresultats,MATCH($AM$4,nsignal,0),'recap fiche'!AX5)","v":{"$error":"#N/A"}},{"$f":"INDEX(tabresultats,MATCH($AM$4,nsignal,0),'recap fiche'!AY5)","v":{"$error":"#N/A"}},{"$f":"INDEX(tabresultats,MATCH($AM$4,nsignal,0),'recap fiche'!AZ5)","v":{"$error":"#N/A"}},{"$f":"INDEX(tabresultats,MATCH($AM$4,nsignal,0),'recap fiche'!BA5)","v":{"$error":"#N/A"}},{"$f":"INDEX(tabresultats,MATCH($AM$4,nsignal,0),'recap fiche'!BB5)","v":{"$error":"#N/A"}},{"$f":"INDEX(tabresultats,MATCH($AM$4,nsignal,0),'recap fiche'!BC5)","v":{"$error":"#N/A"}},{"$f":"INDEX(tabresultats,MATCH($AM$4,nsignal,0),'recap fiche'!BD5)","v":{"$error":"#N/A"}},{"$f":"INDEX(tabresultats,MATCH($AM$4,nsignal,0),'recap fiche'!BE5)","v":{"$error":"#N/A"}},{"$f":"INDEX(tabresultats,MATCH($AM$4,nsignal,0),'recap fiche'!BF5)","v":{"$error":"#N/A"}},{"$f":"INDEX(tabresultats,MATCH($AM$4,nsignal,0),'recap fiche'!BG5)","v":{"$error":"#N/A"}},{"$f":"INDEX(tabresultats,MATCH($AM$4,nsignal,0),'recap fiche'!BH5)","v":{"$error":"#N/A"}},{"$f":"INDEX(tabresultats,MATCH($AM$4,nsignal,0),'recap fiche'!BI5)","v":{"$error":"#N/A"}},{"$f":"INDEX(tabresultats,MATCH($AM$4,nsignal,0),'recap fiche'!BJ5)","v":{"$error":"#N/A"}},{"$f":"INDEX(tabresultats,MATCH($AM$4,nsignal,0),'recap fiche'!BK5)","v":{"$error":"#N/A"}},{"$f":"INDEX(tabresultats,MATCH($AM$4,nsignal,0),'recap fiche'!BL5)","v":{"$error":"#N/A"}},{"$f":"INDEX(tabresultats,MATCH($AM$4,nsignal,0),'recap fiche'!BM5)","v":{"$error":"#N/A"}},{"$f":"INDEX(tabresultats,MATCH($AM$4,nsignal,0),'recap fiche'!BN5)","v":{"$error":"#N/A"}},{"$f":"INDEX(tabresultats,MATCH($AM$4,nsignal,0),'recap fiche'!BO5)","v":{"$error":"#N/A"}},{"$f":"INDEX(tabresultats,MATCH($AM$4,nsignal,0),'recap fiche'!BP5)","v":{"$error":"#N/A"}},{"$f":"INDEX(tabresultats,MATCH($AM$4,nsignal,0),'recap fiche'!BQ5)","v":{"$error":"#N/A"}},{"$f":"INDEX(tabresultats,MATCH($AM$4,nsignal,0),'recap fiche'!BR5)","v":{"$error":"#N/A"}},{"$f":"INDEX(tabresultats,MATCH($AM$4,nsignal,0),'recap fiche'!BS5)","v":{"$error":"#N/A"}},{"$f":"INDEX(tabresultats,MATCH($AM$4,nsignal,0),'recap fiche'!BT5)","v":{"$error":"#N/A"}},{"$f":"INDEX(tabresultats,MATCH($AM$4,nsignal,0),'recap fiche'!BU5)","v":{"$error":"#N/A"}},{"$f":"INDEX(tabresultats,MATCH($AM$4,nsignal,0),'recap fiche'!BV5)","v":{"$error":"#N/A"}},{"$f":"INDEX(tabresultats,MATCH($AM$4,nsignal,0),'recap fiche'!BW5)","v":{"$error":"#N/A"}},{"$f":"INDEX(tabresultats,MATCH($AM$4,nsignal,0),'recap fiche'!BX5)","v":{"$error":"#N/A"}},{"$f":"INDEX(tabresultats,MATCH($AM$4,nsignal,0),'recap fiche'!BY5)","v":{"$error":"#N/A"}},{"$f":"INDEX(tabresultats,MATCH($AM$4,nsignal,0),'recap fiche'!BZ5)","v":{"$error":"#N/A"}},{"$f":"INDEX(tabresultats,MATCH($AM$4,nsignal,0),'recap fiche'!CA5)","v":{"$error":"#N/A"}},{"$f":"INDEX(tabresultats,MATCH($AM$4,nsignal,0),'recap fiche'!CB5)","v":{"$error":"#N/A"}},{"$f":"INDEX(tabresultats,MATCH($AM$4,nsignal,0),'recap fiche'!CC5)","v":{"$error":"#N/A"}},{"$f":"INDEX(tabresultats,MATCH($AM$4,nsignal,0),'recap fiche'!CD5)","v":{"$error":"#N/A"}},{"$f":"INDEX(tabresultats,MATCH($AM$4,nsignal,0),'recap fiche'!CE5)","v":{"$error":"#N/A"}},{"$f":"INDEX(tabresultats,MATCH($AM$4,nsignal,0),'recap fiche'!CF5)","v":{"$error":"#N/A"}},{"$f":"INDEX(tabresultats,MATCH($AM$4,nsignal,0),'recap fiche'!CG5)","v":{"$error":"#N/A"}},{"$f":"INDEX(tabresultats,MATCH($AM$4,nsignal,0),'recap fiche'!CH5)","v":{"$error":"#N/A"}},{"$f":"INDEX(tabresultats,MATCH($AM$4,nsignal,0),'recap fiche'!CI5)","v":{"$error":"#N/A"}},{"$f":"INDEX(tabresultats,MATCH($AM$4,nsignal,0),'recap fiche'!CJ5)","v":{"$error":"#N/A"}},{"$f":"INDEX(tabresultats,MATCH($AM$4,nsignal,0),'recap fiche'!CK5)","v":{"$error":"#N/A"}},{"$f":"INDEX(tabresultats,MATCH($AM$4,nsignal,0),'recap fiche'!CL5)","v":{"$error":"#N/A"}},{"$f":"INDEX(tabresultats,MATCH($AM$4,nsignal,0),'recap fiche'!CM5)","v":{"$error":"#N/A"}},{"$f":"INDEX(tabresultats,MATCH($AM$4,nsignal,0),'recap fiche'!CN5)","v":{"$error":"#N/A"}},{"$f":"INDEX(tabresultats,MATCH($AM$4,nsignal,0),'recap fiche'!CO5)","v":{"$error":"#N/A"}},{"$f":"INDEX(tabresultats,MATCH($AM$4,nsignal,0),'recap fiche'!CP5)","v":{"$error":"#N/A"}},{"$f":"INDEX(tabresultats,MATCH($AM$4,nsignal,0),'recap fiche'!CQ5)","v":{"$error":"#N/A"}},{"$f":"INDEX(tabresultats,MATCH($AM$4,nsignal,0),'recap fiche'!CR5)","v":{"$error":"#N/A"}},{"$f":"INDEX(tabresultats,MATCH($AM$4,nsignal,0),'recap fiche'!CS5)","v":{"$error":"#N/A"}},{"$f":"INDEX(tabresultats,MATCH($AM$4,nsignal,0),'recap fiche'!CT5)","v":{"$error":"#N/A"}},{"$f":"INDEX(tabresultats,MATCH($AM$4,nsignal,0),'recap fiche'!CU5)","v":{"$error":"#N/A"}},{"$f":"INDEX(tabresultats,MATCH($AM$4,nsignal,0),'recap fiche'!CV5)","v":{"$error":"#N/A"}},{"$f":"INDEX(tabresultats,MATCH($AM$4,nsignal,0),'recap fiche'!CW5)","v":{"$error":"#N/A"}},{"$f":"INDEX(tabresultats,MATCH($AM$4,nsignal,0),'recap fiche'!CX5)","v":{"$error":"#N/A"}},{"$f":"INDEX(tabresultats,MATCH($AM$4,nsignal,0),'recap fiche'!CY5)","v":{"$error":"#N/A"}},{"$f":"INDEX(tabresultats,MATCH($AM$4,nsignal,0),'recap fiche'!CZ5)","v":{"$error":"#N/A"}},{"$f":"INDEX(tabresultats,MATCH($AM$4,nsignal,0),'recap fiche'!DA5)","v":{"$error":"#N/A"}},{"$f":"INDEX(tabresultats,MATCH($AM$4,nsignal,0),'recap fiche'!DB5)","v":{"$error":"#N/A"}},{"$f":"INDEX(tabresultats,MATCH($AM$4,nsignal,0),'recap fiche'!DC5)","v":{"$error":"#N/A"}},null,null,null,null,null,null,null,null,null,null,null,{"$f":"'Tableau général'!A11","v":""},{"$f":"IF($DO9=\"\",\"\",'Tableau général'!C11)","v":""},{"$f":"IF($DO9=\"\",\"\",'Tableau général'!D11)","v":""},{"$f":"IF($DO9=\"\",\"\",'Tableau général'!E11)","v":""}]
["M2",{"$f":"IF(AR$9=2,1,\"\")","v":{"$error":"#N/A"}},{"$f":"IF(AR$9=1,1,\"\")","v":{"$error":"#N/A"}},{"$f":"IF(AR$9=0,1,\"\")","v":{"$error":"#N/A"}},{"$f":"IF(AY$9=2,1,\"\")","v":{"$error":"#N/A"}},{"$f":"IF(AY$9=1,1,\"\")","v":{"$error":"#N/A"}},{"$f":"IF(AY$9=0,1,\"\")","v":{"$error":"#N/A"}},null,{"$f":"IF(BF$9=2,1,\"\")","v":{"$error":"#N/A"}},{"$f":"IF(AY$9=1,1,\"\")","v":{"$error":"#N/A"}},{"$f":"IF(BF$9=0,1,\"\")","v":{"$error":"#N/A"}},{"$f":"IF(BM$9=2,1,\"\")","v":{"$error":"#N/A"}},{"$f":"IF(BM$9=1,1,\"\")","v":{"$error":"#N/A"}},{"$f":"IF(BM$9=0,1,\"\")","v":{"$error":"#N/A"}},null,{"$f":"IF(BT$9=2,1,\"\")","v":{"$error":"#N/A"}},{"$f":"IF(BT$9=1,1,\"\")","v":{"$error":"#N/A"}},{"$f":"IF(BT$9=0,1,\"\")","v":{"$error":"#N/A"}},{"$f":"IF(BX$9=2,1,\"\")","v":{"$error":"#N/A"}},{"$f":"IF(BX$9=1,1,\"\")","v":{"$error":"#N/A"}},{"$f":"IF(BX$9=0,1,\"\")","v":{"$error":"#N/A"}},null,{"$f":"IF(CB$9=2,1,\"\")","v":{"$error":"#N/A"}},{"$f":"IF(CB$9=1,1,\"\")","v":{"$error":"#N/A"}},{"$f":"IF(CB$9=0,1,\"\")","v":{"$error":"#N/A"}},{"$f":"IF(CI$9=2,1,\"\")","v":{"$error":"#N/A"}},{"$f":"IF(CI$9=1,1,\"\")","v":{"$error":"#N/A"}},{"$f":"IF(CI$9=0,1,\"\")","v":{"$error":"#N/A"}},null,{"$f":"IF(CP$9=2,1,\"\")","v":{"$error":"#N/A"}},{"$f":"IF(CP$9=1,1,\"\")","v":{"$error":"#N/A"}},{"$f":"IF(CP$9=0,1,\"\")","v":{"$error":"#N/A"}},{"$f":"IF(CW$9=2,1,\"\")","v":{"$error":"#N/A"}},{"$f":"IF(CW$9=1,1,\"\")","v":{"$error":"#N/A"}},{"$f":"IF(CW$9=0,1,\"\")","v":{"$error":"#N/A"}},null,null,null,null,null,null,null,null,null,null,null,null,null,null,null,null,null,null,null,null,null,null,null,null,null,null,null,null,null,null,null,null,null,null,null,null,null,null,null,null,null,null,null,null,null,null,null,null,null,null,null,null,null,null,null,null,null,null,null,null,null,null,null,null,null,null,null,null,null,null,null,null,null,null,null,null,null,null,null,null,null,null,null,{"$f":"'Tableau général'!A12","v":""},{"$f":"IF($DO10=\"\",\"\",'Tableau général'!C12)","v":""},{"$f":"IF($DO10=\"\",\"\",'Tableau général'!D12)","v":""},{"$f":"IF($DO10=\"\",\"\",'Tableau général'!E12)","v":""}]
["M3",{"$f":"IF(AS$9=2,1,\"\")","v":{"$error":"#N/A"}},{"$f":"IF(AS$9=1,1,\"\")","v":{"$error":"#N/A"}},{"$f":"IF(AS$9=0,1,\"\")","v":{"$error":"#N/A"}},{"$f":"IF(AZ$9=2,1,\"\")","v":{"$error":"#N/A"}},{"$f":"IF(AZ$9=1,1,\"\")","v":{"$error":"#N/A"}},{"$f":"IF(AZ$9=0,1,\"\")","v":{"$error":"#N/A"}},null,{"$f":"IF(BG$9=2,1,\"\")","v":{"$error":"#N/A"}},{"$f":"IF(AZ$9=1,1,\"\")","v":{"$error":"#N/A"}},{"$f":"IF(BG$9=0,1,\"\")","v":{"$error":"#N/A"}},{"$f":"IF(BN$9=2,1,\"\")","v":{"$error":"#N/A"}},{"$f":"IF(BN$9=1,1,\"\")","v":{"$error":"#N/A"}},{"$f":"IF(BN$9=0,1,\"\")","v":{"$error":"#N/A"}},null,{"$f":"IF(BU$9=2,1,\"\")","v":{"$error":"#N/A"}},{"$f":"IF(BU$9=1,1,\"\")","v":{"$error":"#N/A"}},{"$f":"IF(BU$9=0,1,\"\")","v":{"$error":"#N/A"}},{"$f":"IF(BY$9=2,1,\"\")","v":{"$error":"#N/A"}},{"$f":"IF(BY$9=1,1,\"\")","v":{"$error":"#N/A"}},{"$f":"IF(BY$9=0,1,\"\")","v":{"$error":"#N/A"}},null,{"$f":"IF(CC$9=2,1,\"\")","v":{"$error":"#N/A"}},{"$f":"IF(CC$9=1,1,\"\")","v":{"$error":"#N/A"}},{"$f":"IF(CC$9=0,1,\"\")","v":{"$error":"#N/A"}},{"$f":"IF(CJ$9=2,1,\"\")","v":{"$error":"#N/A"}},{"$f":"IF(CJ$9=1,1,\"\")","v":{"$error":"#N/A"}},{"$f":"IF(CJ$9=0,1,\"\")","v":{"$error":"#N/A"}},null,{"$f":"IF(CQ$9=2,1,\"\")","v":{"$error":"#N/A"}},{"$f":"IF(CQ$9=1,1,\"\")","v":{"$error":"#N/A"}},{"$f":"IF(CQ$9=0,1,\"\")","v":{"$error":"#N/A"}},{"$f":"IF(CX$9=2,1,\"\")","v":{"$error":"#N/A"}},{"$f":"IF(CX$9=1,1,\"\")","v":{"$error":"#N/A"}},{"$f":"IF(CX$9=0,1,\"\")","v":{"$error":"#N/A"}},null,null,null,null,null,null,null,null,null,null,null,null,null,null,null,null,null,null,null,null,null,null,null,null,null,null,null,null,null,null,null,null,null,null,null,null,null,null,null,null,null,null,null,null,null,null,null,null,null,null,null,null,null,null,null,null,null,null,null,null,null,null,null,null,null,null,null,null,null,null,null,null,null,null,null,null,null,null,null,null,null,null,null,{"$f":"'Tableau général'!A13","v":""},{"$f":"IF($DO11=\"\",\"\",'Tableau général'!C13)","v":""},{"$f":"IF($DO11=\"\",\"\",'Tableau général'!D13)","v":""},{"$f":"IF($DO11=\"\",\"\",'Tableau général'!E13)","v":""}]
["M4",{"$f":"IF(AT$9=2,1,\"\")","v":{"$error":"#N/A"}},{"$f":"IF(AT$9=1,1,\"\")","v":{"$error":"#N/A"}},{"$f":"IF(AT$9=0,1,\"\")","v":{"$error":"#N/A"}},{"$f":"IF(BA$9=2,1,\"\")","v":{"$error":"#N/A"}},{"$f":"IF(BA$9=1,1,\"\")","v":{"$error":"#N/A"}},{"$f":"IF(BA$9=0,1,\"\")","v":{"$error":"#N/A"}},null,{"$f":"IF(BH$9=2,1,\"\")","v":{"$error":"#N/A"}},{"$f":"IF(BA$9=1,1,\"\")","v":{"$error":"#N/A"}},{"$f":"IF(BH$9=0,1,\"\")","v":{"$error":"#N/A"}},{"$f":"IF(BO$9=2,1,\"\")","v":{"$error":"#N/A"}},{"$f":"IF(BO$9=1,1,\"\")","v":{"$error":"#N/A"}},{"$f":"IF(BO$9=0,1,\"\")","v":{"$error":"#N/A"}},null,{"$f":"IF(BV$9=2,1,\"\")","v":{"$error":"#N/A"}},{"$f":"IF(BV$9=1,1,\"\")","v":{"$error":"#N/A"}},{"$f":"IF(BV$9=0,1,\"\")","v":{"$error":"#N/A"}},{"$f":"IF(BZ$9=2,1,\"\")","v":{"$error":"#N/A"}},{"$f":"IF(BZ$9=1,1,\"\")","v":{"$error":"#N/A"}},{"$f":"IF(BZ$9=0,1,\"\")","v":{"$error":"#N/A"}},null,{"$f":"IF(CD$9=2,1,\"\")","v":{"$error":"#N/A"}},{"$f":"IF(CD$9=1,1,\"\")","v":{"$error":"#N/A"}},{"$f":"IF(CD$9=0,1,\"\")","v":{"$error":"#N/A"}},{"$f":"IF(CK$9=2,1,\"\")","v":{"$error":"#N/A"}},{"$f":"IF(CK$9=1,1,\"\")","v":{"$error":"#N/A"}},{"$f":"IF(CK$9=0,1,\"\")","v":{"$error":"#N/A"}},null,{"$f":"IF(CR$9=2,1,\"\")","v":{"$error":"#N/A"}},{"$f":"IF(CR$9=1,1,\"\")","v":{"$error":"#N/A"}},{"$f":"IF(CR$9=0,1,\"\")","v":{"$error":"#N/A"}},{"$f":"IF(CY$9=2,1,\"\")","v":{"$error":"#N/A"}},{"$f":"IF(CY$9=1,1,\"\")","v":{"$error":"#N/A"}},{"$f":"IF(CY$9=0,1,\"\")","v":{"$error":"#N/A"}},null,null,null,null,null,null,null,null,null,null,null,null,null,null,null,null,null,null,null,null,null,null,null,null,null,null,null,null,null,null,null,null,null,null,null,null,null,null,null,null,null,null,null,null,null,null,null,null,null,null,null,null,null,null,null,null,null,null,null,null,null,null,null,null,null,null,null,null,null,null,null,null,null,null,null,null,null,null,null,null,null,null,null,{"$f":"'Tableau général'!A14","v":""},{"$f":"IF($DO12=\"\",\"\",'Tableau général'!C14)","v":""},{"$f":"IF($DO12=\"\",\"\",'Tableau général'!D14)","v":""},{"$f":"IF($DO12=\"\",\"\",'Tableau général'!E14)","v":""}]
[null,null,null,null,null,null,null,null,null,null,null,null,null,null,null,null,null,null,null,null,null,null,null,null,null,null,null,null,null,null,null,null,null,null,null,null,null,"Retour tableau",null,null,null,null,null,null,null,null,null,null,null,null,null,null,null,null,null,null,null,null,null,null,null,null,null,null,null,null,null,null,null,null,null,null,null,null,null,null,null,null,null,null,null,null,null,null,null,null,null,null,null,null,null,null,null,null,null,null,null,null,null,null,null,null,null,null,null,null,null,null,null,null,null,null,null,null,null,null,null,null,{"$f":"'Tableau général'!A15","v":""},{"$f":"IF($DO13=\"\",\"\",'Tableau général'!C15)","v":""},{"$f":"IF($DO13=\"\",\"\",'Tableau général'!D15)","v":""},{"$f":"IF($DO13=\"\",\"\",'Tableau général'!E15)","v":""}]
["S1",{"$f":"IF(AU9=2,1,\"\")","v":{"$error":"#N/A"}},{"$f":"IF(AU$9=1,1,\"\")","v":{"$error":"#N/A"}},{"$f":"IF(AU$9=0,1,\"\")","v":{"$error":"#N/A"}},{"$f":"IF(BB$9=2,1,\"\")","v":{"$error":"#N/A"}},{"$f":"IF(BB$9=1,1,\"\")","v":{"$error":"#N/A"}},{"$f":"IF(BB$9=0,1,\"\")","v":{"$error":"#N/A"}},null,{"$f":"IF(BI$9=2,1,\"\")","v":{"$error":"#N/A"}},{"$f":"IF(BB$9=1,1,\"\")","v":{"$error":"#N/A"}},{"$f":"IF(BI$9=0,1,\"\")","v":{"$error":"#N/A"}},{"$f":"IF(BP$9=2,1,\"\")","v":{"$error":"#N/A"}},{"$f":"IF(BP$9=1,1,\"\")","v":{"$error":"#N/A"}},{"$f":"IF(BP$9=0,1,\"\")","v":{"$error":"#N/A"}},null,null,null,null,null,null,null,null,{"$f":"IF(CE$9=2,1,\"\")","v":{"$error":"#N/A"}},{"$f":"IF(CE$9=1,1,\"\")","v":{"$error":"#N/A"}},{"$f":"IF(CE$9=0,1,\"\")","v":{"$error":"#N/A"}},{"$f":"IF(CL$9=2,1,\"\")","v":{"$error":"#N/A"}},{"$f":"IF(CL$9=1,1,\"\")","v":{"$error":"#N/A"}},{"$f":"IF(CL$9=0,1,\"\")","v":{"$error":"#N/A"}},null,{"$f":"IF(CS$9=2,1,\"\")","v":{"$error":"#N/A"}},{"$f":"IF(CS$9=1,1,\"\")","v":{"$error":"#N/A"}},{"$f":"IF(CS$9=0,1,\"\")","v":{"$error":"#N/A"}},{"$f":"IF(CZ$9=2,1,\"\")","v":{"$error":"#N/A"}},{"$f":"IF(CZ$9=1,1,\"\")","v":{"$error":"#N/A"}},{"$f":"IF(CZ$9=0,1,\"\")","v":{"$error":"#N/A"}},null,null,null,null,null,null,null,null,null,null,null,null,null,null,null,null,null,null,null,null,null,null,null,null,null,null,null,null,null,null,null,null,null,null,null,null,null,null,null,null,null,null,null,null,null,null,null,null,null,null,null,null,null,null,null,null,null,null,null,null,null,null,null,null,null,null,null,null,null,null,null,null,null,null,null,null,null,null,null,null,null,null,null,{"$f":"'Tableau général'!A16","v":""},{"$f":"IF($DO14=\"\",\"\",'Tableau général'!C16)","v":""},{"$f":"IF($DO14=\"\",\"\",'Tableau général'!D16)","v":""},{"$f":"IF($DO14=\"\",\"\",'Tableau général'!E16)","v":""}]
["S2",{"$f":"IF(AV9=2,1,\"\")","v":{"$error":"#N/A"}},{"$f":"IF(AV$9=1,1,\"\")","v":{"$error":"#N/A"}},{"$f":"IF(AV$9=0,1,\"\")","v":{"$error":"#N/A"}},{"$f":"IF(BC$9=2,1,\"\")","v":{"$error":"#N/A"}},{"$f":"IF(BC$9=1,1,\"\")","v":{"$error":"#N/A"}},{"$f":"IF(BC$9=0,1,\"\")","v":{"$error":"#N/A"}},null,{"$f":"IF(BJ$9=2,1,\"\")","v":{"$error":"#N/A"}},{"$f":"IF(BC$9=1,1,\"\")","v":{"$error":"#N/A"}},{"$f":"IF(BJ$9=0,1,\"\")","v":{"$error":"#N/A"}},{"$f":"IF(BQ$9=2,1,\"\")","v":{"$error":"#N/A"}},{"$f":"IF(BQ$9=1,1,\"\")","v":{"$error":"#N/A"}},{"$f":"IF(BQ$9=0,1,\"\")","v":{"$error":"#N/A"}},null,null,null,null,null,null,null,null,{"$f":"IF(CF$9=2,1,\"\")","v":{"$error":"#N/A"}},{"$f":"IF(CF$9=1,1,\"\")","v":{"$error":"#N/A"}},{"$f":"IF(CF$9=0,1,\"\")","v":{"$error":"#N/A"}},{"$f":"IF(CM$9=2,1,\"\")","v":{"$error":"#N/A"}},{"$f":"IF(CM$9=1,1,\"\")","v":{"$error":"#N/A"}},{"$f":"IF(CM$9=0,1,\"\")","v":{"$error":"#N/A"}},null,{"$f":"IF(CT$9=2,1,\"\")","v":{"$error":"#N/A"}},{"$f":"IF(CT$9=1,1,\"\")","v":{"$error":"#N/A"}},{"$f":"IF(CT$9=0,1,\"\")","v":{"$error":"#N/A"}},{"$f":"IF(DA$9=2,1,\"\")","v":{"$error":"#N/A"}},{"$f":"IF(DA$9=1,1,\"\")","v":{"$error":"#N/A"}},{"$f":"IF(DA$9=0,1,\"\")","v":{"$error":"#N/A"}},null,null,null,null,null,null,null,null,null,null,null,null,null,null,null,null,null,null,null,null,null,null,null,null,null,null,null,null,null,null,null,null,null,null,null,null,null,null,null,null,null,null,null,null,null,null,null,null,null,null,null,null,null,null,null,null,null,null,null,null,null,null,null,null,null,null,null,null,null,null,null,null,null,null,null,null,null,null,null,null,null,null,null,{"$f":"'Tableau général'!A17","v":""},{"$f":"IF($DO15=\"\",\"\",'Tableau général'!C17)","v":""},{"$f":"IF($DO15=\"\",\"\",'Tableau général'!D17)","v":""},{"$f":"IF($DO15=\"\",\"\",'Tableau général'!E17)","v":""}]
["S3",{"$f":"IF(AW9=2,1,\"\")","v":{"$error":"#N/A"}},{"$f":"IF(AW$9=1,1,\"\")","v":{"$error":"#N/A"}},{"$f":"IF(AW$9=0,1,\"\")","v":{"$error":"#N/A"}},{"$f":"IF(BD$9=2,1,\"\")","v":{"$error":"#N/A"}},{"$f":"IF(BD$9=1,1,\"\")","v":{"$error":"#N/A"}},{"$f":"IF(BD$9=0,1,\"\")","v":{"$error":"#N/A"}},null,{"$f":"IF(BK$9=2,1,\"\")","v":{"$error":"#N/A"}},{"$f":"IF(BD$9=1,1,\"\")","v":{"$error":"#N/A"}},{"$f":"IF(BK$9=0,1,\"\")","v":{"$error":"#N/A"}},{"$f":"IF(BR$9=2,1,\"\")","v":{"$error":"#N/A"}},{"$f":"IF(BR$9=1,1,\"\")","v":{"$error":"#N/A"}},{"$f":"IF(BR$9=0,1,\"\")","v":{"$error":"#N/A"}},null,null,null,null,null,null,null,null,{"$f":"IF(CG$9=2,1,\"\")","v":{"$error":"#N/A"}},{"$f":"IF(CG$9=1,1,\"\")","v":{"$error":"#N/A"}},{"$f":"IF(CG$9=0,1,\"\")","v":{"$error":"#N/A"}},{"$f":"IF(CN$9=2,1,\"\")","v":{"$error":"#N/A"}},{"$f":"IF(CN$9=1,1,\"\")","v":{"$error":"#N/A"}},{"$f":"IF(CN$9=0,1,\"\")","v":{"$error":"#N/A"}},null,{"$f":"IF(CU$9=2,1,\"\")","v":{"$error":"#N/A"}},{"$f":"IF(CU$9=1,1,\"\")","v":{"$error":"#N/A"}},{"$f":"IF(CU$9=0,1,\"\")","v":{"$error":"#N/A"}},{"$f":"IF(DB$9=2,1,\"\")","v":{"$error":"#N/A"}},{"$f":"IF(DB$9=1,1,\"\")","v":{"$error":"#N/A"}},{"$f":"IF(DB$9=0,1,\"\")","v":{"$error":"#N/A"}},null,null,null,null,null,null,null,null,null,null,null,null,null,null,null,null,null,null,null,null,null,null,null,null,null,null,null,null,null,null,null,null,null,null,null,null,null,null,null,null,null,null,null,null,null,null,null,null,null,null,null,null,null,null,null,null,null,null,null,null,null,null,null,null,null,null,null,null,null,null,null,null,null,null,null,null,null,null,null,null,null,null,null,{"$f":"'Tableau général'!A18","v":""},{"$f":"IF($DO16=\"\",\"\",'Tableau général'!C18)","v":""},{"$f":"IF($DO16=\"\",\"\",'Tableau général'!D18)","v":""},{"$f":"IF($DO16=\"\",\"\",'Tableau général'!E18)","v":""}]
["S4",null,null,null,null,null,null,null,null,null,null,null,null,null,null,null,null,null,null,null,null,null,null,null,null,null,null,null,null,null,null,null,null,null,null,null,null,null,null,null,null,null,null,null,null,null,null,null,null,null,null,null,null,null,null,null,null,null,null,null,null,null,null,null,null,null,null,null,null,null,null,null,null,null,null,null,null,null,null,null,null,null,null,null,null,null,null,null,null,null,null,null,null,null,null,null,null,null,null,null,null,null,null,null,null,null,null,null,null,null,null,null,null,null,null,null,null,null,{"$f":"'Tableau général'!A19","v":""},{"$f":"IF($DO17=\"\",\"\",'Tableau général'!C19)","v":""},{"$f":"IF($DO17=\"\",\"\",'Tableau général'!D19)","v":""},{"$f":"IF($DO17=\"\",\"\",'Tableau général'!E19)","v":""}]
[null,null,null,null,null,null,null,null,null,null,null,null,null,null,null,null,null,null,null,null,null,null,null,null,null,null,null,null,null,null,null,null,null,null,null,null,null,null,null,null,null,null,null,null,null,null,null,null,null,null,null,null,null,null,null,null,null,null,null,null,null,null,null,null,null,null,null,null,null,null,null,null,null,null,null,null,null,null,null,null,null,null,null,null,null,null,null,null,null,null,null,null,null,null,null,null,null,null,null,{"$f":"IF($H$22=\"\",\"\",IF($AG18=1,2,IF($AH18=1,1,IF($AI18=1,0,\" \"))))","v":{"$error":"#N/A"}},null,null,null,null,null,null,null,null,null,null,null,null,null,null,null,null,null,null,{"$f":"'Tableau général'!A20","v":""},{"$f":"IF($DO18=\"\",\"\",'Tableau général'!C20)","v":""},{"$f":"IF($DO18=\"\",\"\",'Tableau général'!D20)","v":""},{"$f":"IF($DO18=\"\",\"\",'Tableau général'!E20)","v":""}]
["Notes",{"$f":"IF(SUM(B9:D17)=0,\"\",(SUM(B9:B17)*B7)+(SUM(C9:C17)*C7))","v":{"$error":"#N/A"}},null,null,{"$f":"IF(SUM(E9:G17)=0,\"\",(SUM(E9:E17)*E7)+(SUM(F9:F17)*F7))","v":{"$error":"#N/A"}},null,null,null,{"$f":"IF(SUM(I9:K17)=0,\"\",(SUM(I9:I17)*I7)+(SUM(J9:J17)*J7))","v":{"$error":"#N/A"}},null,null,{"$f":"IF(SUM(L9:N17)=0,\"\",(SUM(L9:L17)*L7)+(SUM(M9:M17)*M7))","v":{"$error":"#N/A"}},null,null,null,{"$f":"IF(SUM(P9:R17)=0,\"\",(SUM(P9:P17)*P7)+(SUM(Q9:Q17)*Q7))","v":{"$error":"#N/A"}},null,null,{"$f":"IF(SUM(S9:U17)=0,\"\",(SUM(S9:S17)*S7)+(SUM(T9:T17)*T7))","v":{"$error":"#N/A"}},null,null,null,{"$f":"IF(SUM(W9:Y17)=0,\"\",(SUM(W9:W17)*W7)+(SUM(X9:X17)*X7))","v":{"$error":"#N/A"}},null,null,{"$f":"IF(SUM(Z9:AB17)=0,\"\",(SUM(Z9:Z17)*Z7)+(SUM(AA9:AA17)*AA7))","v":{"$error":"#N/A"}},null,null,null,{"$f":"IF(SUM(AD9:AF17)=0,\"\",(SUM(AD9:AD17)*AD7)+(SUM(AE9:AE17)*AE7))","v":{"$error":"#N/A"}},null,null,{"$f":"IF(SUM(AG9:AI17)=0,\"\",(SUM(AG9:AG17)*AG7)+(SUM(AH9:AH17)*AH7))","v":{"$error":"#N/A"}},null,null,null,null,null,null,null,null,null,null,null,null,null,null,null,null,null,null,null,null,null,null,null,null,null,null,null,null,null,null,null,null,null,null,null,null,null,null,null,null,null,null,null,null,null,null,null,null,null,null,null,null,null,null,null,null,null,null,null,null,null,null,null,null,null,null,null,null,null,null,null,null,null,null,null,null,null,null,null,null,null,null,null,null,null,{"$f":"'Tableau général'!A21","v":""},{"$f":"IF($DO19=\"\",\"\",'Tableau général'!C21)","v":""},{"$f":"IF($DO19=\"\",\"\",'Tableau général'!D21)","v":""},{"$f":"IF($DO19=\"\",\"\",'Tableau général'!E21)","v":""}]
["Notes sur",{"$f":"IF(SUM(B9:D17)=0,\"\",COUNT(B9:D17)*2)","v":{"$error":"#N/A"}},null,null,{"$f":"IF(SUM(E9:G17)=0,\"\",COUNT(E9:G17)*2)","v":{"$error":"#N/A"}},null,null,null,{"$f":"IF(SUM(I9:K17)=0,\"\",COUNT(I9:K17)*2)","v":{"$error":"#N/A"}},null,null,{"$f":"IF(SUM(L9:N17)=0,\"\",COUNT(L9:N17)*2)","v":{"$error":"#N/A"}},null,null,null,{"$f":"IF(SUM(P9:R17)=0,\"\",COUNT(P9:R17)*2)","v":{"$error":"#N/A"}},null,null,{"$f":"IF(SUM(S9:U17)=0,\"\",COUNT(S9:U17)*2)","v":{"$error":"#N/A"}},null,null,null,{"$f":"IF(SUM(W9:Y17)=0,\"\",COUNT(W9:Y17)*2)","v":{"$error":"#N/A"}},null,null,{"$f":"IF(SUM(Z9:AB17)=0,\"\",COUNT(Z9:AB17)*2)","v":{"$error":"#N/A"}},null,null,null,{"$f":"IF(SUM(AD9:AF17)=0,\"\",COUNT(AD9:AF17)*2)","v":{"$error":"#N/A"}},null,null,{"$f":"IF(SUM(AG9:AI17)=0,\"\",COUNT(AG9:AI17)*2)","v":{"$error":"#N/A"}},null,null,null,null,null,null,null,null,null,null,null,null,null,null,null,null,null,null,null,null,null,null,null,null,null,null,null,null,null,null,null,null,null,null,null,null,null,null,null,null,null,null,null,null,null,null,null,null,null,null,null,null,null,null,null,null,null,null,null,null,null,null,null,null,null,null,null,null,null,null,null,null,null,null,null,null,null,null,null,null,null,null,null,null,null,{"$f":"'Tableau général'!A22","v":""},{"$f":"IF($DO20=\"\",\"\",'Tableau général'!C22)","v":""},{"$f":"IF($DO20=\"\",\"\",'Tableau général'!D22)","v":""},{"$f":"IF($DO20=\"\",\"\",'Tableau général'!E22)","v":""}]
[null,null,null,null,null,null,null,null,null,null,null,null,null,null,null,null,null,null,null,null,null,null,null,null,null,null,null,null,null,null,null,null,null,null,null,null,null,null,null,null,null,null,null,null,null,null,null,null,null,null,null,null,null,null,null,null,null,null,null,null,null,null,null,null,null,null,null,null,null,null,null,null,null,null,null,null,null,null,null,null,null,null,null,null,null,null,null,null,null,null,null,null,null,null,null,null,null,null,null,null,null,null,null,null,null,null,null,null,null,null,null,null,null,null,null,null,null,null,{"$f":"'Tableau général'!A23","v":""},{"$f":"IF($DO21=\"\",\"\",'Tableau général'!C23)","v":""},{"$f":"IF($DO21=\"\",\"\",'Tableau général'!D23)","v":""},{"$f":"IF($DO21=\"\",\"\",'Tableau général'!E23)","v":""}]
["Note de la semaine / 20",null,null,null,null,null,null,{"$f":"IF(AP9=\"\",\"\",AP9)","v":{"$error":"#N/A"}},null,{"$f":"IF(OR(DC9=0,DC9=\"\"),\"\",DC9)","v":{"$error":"#N/A"}},null,null,null,null,null,null,null,null,null,null,null,null,null,null,null,null,null,null,null,null,null,null,null,null,null,null,null,null,null,null,null,null,null,null,null,null,null,null,null,null,null,null,null,null,null,null,null,null,null,null,null,null,null,null,null,null,null,null,null,null,null,null,null,null,null,null,null,null,null,null,null,null,null,null,null,null,null,null,null,null,null,null,null,null,null,null,null,null,null,null,null,null,null,null,null,null,null,null,null,null,null,null,null,null,null,null,null,null,{"$f":"'Tableau général'!A24","v":""},{"$f":"IF($DO22=\"\",\"\",'Tableau général'!C24)","v":""},{"$f":"IF($DO22=\"\",\"\",'Tableau général'!D24)","v":""},{"$f":"IF($DO22=\"\",\"\",'Tableau général'!E24)","v":""}]
[null,null,null,null,null,null,null,null,null,null,null,null,null,null,null,null,null,null,null,null,null,null,null,null,null,null,null,null,null,null,null,null,null,null,null,null,null,null,null,null,null,null,null,null,null,null,null,null,null,null,null,null,null,null,null,null,null,null,null,null,null,null,null,null,null,null,null,null,null,null,null,null,null,null,null,null,null,null,null,null,null,null,null,null,null,null,null,null,null,null,null,null,null,null,null,null,null,null,null,null,null,null,null,null,null,null,null,null,null,null,null,null,null,null,null,null,null,null,{"$f":"'Tableau général'!A25","v":""},{"$f":"IF($DO23=\"\",\"\",'Tableau général'!C25)","v":""},{"$f":"IF($DO23=\"\",\"\",'Tableau général'!D25)","v":""},{"$f":"IF($DO23=\"\",\"\",'Tableau général'!E25)","v":""}]
[null,"Observations",null,null,null,null,null,null,null,null,null,null,null,null,null,null,null,null,null,null,null,null,null,null,null,null,null,null,null,null,null,null,null,null,null,null,null,null,null,null,null,null,null,null,null,null,null,null,null,null,null,null,null,null,null,null,null,null,null,null,null,null,null,null,null,null,null,null,null,null,null,null,null,null,null,null,null,null,null,null,null,null,null,null,null,null,null,null,null,null,null,null,null,null,null,null,null,null,null,null,null,null,null,null,null,null,null,null,null,null,null,null,null,null,null,null,null,null,{"$f":"'Tableau général'!A26","v":""},{"$f":"IF($DO24=\"\",\"\",'Tableau général'!C26)","v":""},{"$f":"IF($DO24=\"\",\"\",'Tableau général'!D26)","v":""},{"$f":"IF($DO24=\"\",\"\",'Tableau général'!E26)","v":""}]
[null,null,null,null,null,null,null,null,null,null,null,null,null,null,null,null,null,null,null,null,null,null,null,null,null,null,null,null,null,null,null,null,null,null,null,null,null,null,null,null,null,null,null,null,null,null,null,null,null,null,null,null,null,null,null,null,null,null,null,null,null,null,null,null,null,null,null,null,null,null,null,null,null,null,null,null,null,null,null,null,null,null,null,null,null,null,null,null,null,null,null,null,null,null,null,null,null,null,null,null,null,null,null,null,null,null,null,null,null,null,null,null,null,null,null,null,null,null,{"$f":"'Tableau général'!A27","v":""},{"$f":"IF($DO25=\"\",\"\",'Tableau général'!C27)","v":""},{"$f":"IF($DO25=\"\",\"\",'Tableau général'!D27)","v":""},{"$f":"IF($DO25=\"\",\"\",'Tableau général'!E27)","v":""}]
[null,null,null,null,null,null,null,null,null,null,null,null,null,null,null,null,null,null,null,null,null,null,null,null,null,null,null,null,null,null,null,null,null,null,null,null,null,null,null,null,null,null,null,null,null,null,null,null,null,null,null,null,null,null,null,null,null,null,null,null,null,null,null,null,null,null,null,null,null,null,null,null,null,null,null,null,null,null,null,null,null,null,null,null,null,null,null,null,null,null,null,null,null,null,null,null,null,null,null,null,null,null,null,null,null,null,null,null,null,null,null,null,null,null,null,null,null,null,{"$f":"'Tableau général'!A28","v":""},{"$f":"IF($DO26=\"\",\"\",'Tableau général'!C28)","v":""},{"$f":"IF($DO26=\"\",\"\",'Tableau général'!D28)","v":""},{"$f":"IF($DO26=\"\",\"\",'Tableau général'!E28)","v":""}]
["Le professeur principal",null,null,null,null,null,null,null,null,"Le CPE",null,null,null,null,null,null,null,null,null,null,"Les parents (ou tuteurs)",null,null,null,null,null,null,null,null,null,null,null,null,null,null,null,null,null,null,null,null,null,null,null,null,null,null,null,null,null,null,null,null,null,null,null,null,null,null,null,null,null,null,null,null,null,null,null,null,null,null,null,null,null,null,null,null,null,null,null,null,null,null,null,null,null,null,null,null,null,null,null,null,null,null,null,null,null,null,null,null,null,null,null,null,null,null,null,null,null,null,null,null,null,null,null,null,null,{"$f":"'Tableau général'!A29","v":""},{"$f":"IF($DO27=\"\",\"\",'Tableau général'!C29)","v":""},{"$f":"IF($DO27=\"\",\"\",'Tableau général'!D29)","v":""},{"$f":"IF($DO27=\"\",\"\",'Tableau général'!E29)","v":""}]
[null,null,null,null,null,null,null,null,null,null,null,null,null,null,null,null,null,null,null,null,null,null,null,null,null,null,null,null,null,null,null,null,null,null,null,null,null,null,null,null,null,null,null,null,null,null,null,null,null,null,null,null,null,null,null,null,null,null,null,null,null,null,null,null,null,null,null,null,null,null,null,null,null,null,null,null,null,null,null,null,null,null,null,null,null,null,null,null,null,null,null,null,null,null,null,null,null,null,null,null,null,null,null,null,null,null,null,null,null,null,null,null,null,null,null,null,null,null,{"$f":"'Tableau général'!A30","v":""},{"$f":"IF($DO28=\"\",\"\",'Tableau général'!C30)","v":""},{"$f":"IF($DO28=\"\",\"\",'Tableau général'!D30)","v":""},{"$f":"IF($DO28=\"\",\"\",'Tableau général'!E30)","v":""}]
[null,null,null,null,null,null,null,null,null,null,null,null,null,null,null,null,null,null,null,null,null,null,null,null,null,null,null,null,null,null,null,null,null,null,null,null,null,null,null,null,null,null,null,null,null,null,null,null,null,null,null,null,null,null,null,null,null,null,null,null,null,null,null,null,null,null,null,null,null,null,null,null,null,null,null,null,null,null,null,null,null,null,null,null,null,null,null,null,null,null,null,null,null,null,null,null,null,null,null,null,null,null,null,null,null,null,null,null,null,null,null,null,null,null,null,null,null,null,{"$f":"'Tableau général'!A31","v":""},{"$f":"IF($DO29=\"\",\"\",'Tableau général'!C31)","v":""},{"$f":"IF($DO29=\"\",\"\",'Tableau général'!D31)","v":""},{"$f":"IF($DO29=\"\",\"\",'Tableau général'!E31)","v":""}]
[null,null,null,null,null,null,null,null,null,null,null,null,null,null,null,null,null,null,null,null,null,null,null,null,null,null,null,null,null,null,null,null,null,null,null,null,null,null,null,null,null,null,null,null,null,null,null,null,null,null,null,null,null,null,null,null,null,null,null,null,null,null,null,null,null,null,null,null,null,null,null,null,null,null,null,null,null,null,null,null,null,null,null,null,null,null,null,null,null,null,null,null,null,null,null,null,null,null,null,null,null,null,null,null,null,null,null,null,null,null,null,null,null,null,null,null,null,null,{"$f":"'Tableau général'!A32","v":""},{"$f":"IF($DO30=\"\",\"\",'Tableau général'!C32)","v":""},{"$f":"IF($DO30=\"\",\"\",'Tableau général'!D32)","v":""},{"$f":"IF($DO30=\"\",\"\",'Tableau général'!E32)","v":""}]
[null,null,null,null,null,null,null,null,null,null,null,null,null,null,null,null,null,null,null,null,null,null,null,null,null,null,null,null,null,null,null,null,null,null,null,null,null,null,null,null,null,null,null,null,null,null,null,null,null,null,null,null,null,null,null,null,null,null,null,null,null,null,null,null,null,null,null,null,null,null,null,null,null,null,null,null,null,null,null,null,null,null,null,null,null,null,null,null,null,null,null,null,null,null,null,null,null,null,null,null,null,null,null,null,null,null,null,null,null,null,null,null,null,null,null,null,null,null,{"$f":"'Tableau général'!A33","v":""},{"$f":"IF($DO31=\"\",\"\",'Tableau général'!C33)","v":""},{"$f":"IF($DO31=\"\",\"\",'Tableau général'!D33)","v":""},{"$f":"IF($DO31=\"\",\"\",'Tableau général'!E33)","v":""}]
[null,null,null,null,null,null,null,null,null,null,null,null,null,null,null,null,null,null,null,null,null,null,null,null,null,null,null,null,null,null,null,null,null,null,null,null,null,null,null,null,null,null,null,null,null,null,null,null,null,null,null,null,null,null,null,null,null,null,null,null,null,null,null,null,null,null,null,null,null,null,null,null,null,null,null,null,null,null,null,null,null,null,null,null,null,null,null,null,null,null,null,null,null,null,null,null,null,null,null,null,null,null,null,null,null,null,null,null,null,null,null,null,null,null,null,null,null,null,{"$f":"'Tableau général'!A34","v":""},{"$f":"IF($DO32=\"\",\"\",'Tableau général'!C34)","v":""},{"$f":"IF($DO32=\"\",\"\",'Tableau général'!D34)","v":""},{"$f":"IF($DO32=\"\",\"\",'Tableau général'!E34)","v":""}]
[null,null,null,null,null,null,null,null,null,null,null,null,null,null,null,null,null,null,null,null,null,null,null,null,null,null,null,null,null,null,null,null,null,null,null,null,null,null,null,null,null,null,null,null,null,null,null,null,null,null,null,null,null,null,null,null,null,null,null,null,null,null,null,null,null,null,null,null,null,null,null,null,null,null,null,null,null,null,null,null,null,null,null,null,null,null,null,null,null,null,null,null,null,null,null,null,null,null,null,null,null,null,null,null,null,null,null,null,null,null,null,null,null,null,null,null,null,null,{"$f":"'Tableau général'!A35","v":""},{"$f":"IF($DO33=\"\",\"\",'Tableau général'!C35)","v":""},{"$f":"IF($DO33=\"\",\"\",'Tableau général'!D35)","v":""},{"$f":"IF($DO33=\"\",\"\",'Tableau général'!E35)","v":""}]
[null,null,null,null,null,null,null,null,null,null,null,null,null,null,null,null,null,null,null,null,null,null,null,null,null,null,null,null,null,null,null,null,null,null,null,null,null,null,null,null,null,null,null,null,null,null,null,null,null,null,null,null,null,null,null,null,null,null,null,null,null,null,null,null,null,null,null,null,null,null,null,null,null,null,null,null,null,null,null,null,null,null,null,null,null,null,null,null,null,null,null,null,null,null,null,null,null,null,null,null,null,null,null,null,null,null,null,null,null,null,null,null,null,null,null,null,null,null,{"$f":"'Tableau général'!A36","v":""},{"$f":"IF($DO34=\"\",\"\",'Tableau général'!C36)","v":""},{"$f":"IF($DO34=\"\",\"\",'Tableau général'!D36)","v":""},{"$f":"IF($DO34=\"\",\"\",'Tableau général'!E36)","v":""}]
[null,null,null,null,null,null,null,null,null,null,null,null,null,null,null,null,null,null,null,null,null,null,null,null,null,null,null,null,null,null,null,null,null,null,null,null,null,null,null,null,null,null,null,null,null,null,null,null,null,null,null,null,null,null,null,null,null,null,null,null,null,null,null,null,null,null,null,null,null,null,null,null,null,null,null,null,null,null,null,null,null,null,null,null,null,null,null,null,null,null,null,null,null,null,null,null,null,null,null,null,null,null,null,null,null,null,null,null,null,null,null,null,null,null,null,null,null,null,{"$f":"'Tableau général'!A37","v":""},{"$f":"IF($DO35=\"\",\"\",'Tableau général'!C37)","v":""},{"$f":"IF($DO35=\"\",\"\",'Tableau général'!D37)","v":""},{"$f":"IF($DO35=\"\",\"\",'Tableau général'!E37)","v":""}]
[null,null,null,null,null,null,null,null,null,null,null,null,null,null,null,null,null,null,null,null,null,null,null,null,null,null,null,null,null,null,null,null,null,null,null,null,null,null,null,null,null,null,null,null,null,null,null,null,null,null,null,null,null,null,null,null,null,null,null,null,null,null,null,null,null,null,null,null,null,null,null,null,null,null,null,null,null,null,null,null,null,null,null,null,null,null,null,null,null,null,null,null,null,null,null,null,null,null,null,null,null,null,null,null,null,null,null,null,null,null,null,null,null,null,null,null,null,null,{"$f":"'Tableau général'!A38","v":""},{"$f":"IF($DO36=\"\",\"\",'Tableau général'!C38)","v":""},{"$f":"IF($DO36=\"\",\"\",'Tableau général'!D38)","v":""},{"$f":"IF($DO36=\"\",\"\",'Tableau général'!E38)","v":""}]
[null,null,null,null,null,null,null,null,null,null,null,null,null,null,null,null,null,null,null,null,null,null,null,null,null,null,null,null,null,null,null,null,null,null,null,null,null,null,null,null,null,null,null,null,null,null,null,null,null,null,null,null,null,null,null,null,null,null,null,null,null,null,null,null,null,null,null,null,null,null,null,null,null,null,null,null,null,null,null,null,null,null,null,null,null,null,null,null,null,null,null,null,null,null,null,null,null,null,null,null,null,null,null,null,null,null,null,null,null,null,null,null,null,null,null,null,null,null,{"$f":"'Tableau général'!A39","v":""},{"$f":"IF($DO37=\"\",\"\",'Tableau général'!C39)","v":""},{"$f":"IF($DO37=\"\",\"\",'Tableau général'!D39)","v":""},{"$f":"IF($DO37=\"\",\"\",'Tableau général'!E39)","v":""}]
[null,null,null,null,null,null,null,null,null,null,null,null,null,null,null,null,null,null,null,null,null,null,null,null,null,null,null,null,null,null,null,null,null,null,null,null,null,null,null,null,null,null,null,null,null,null,null,null,null,null,null,null,null,null,null,null,null,null,null,null,null,null,null,null,null,null,null,null,null,null,null,null,null,null,null,null,null,null,null,null,null,null,null,null,null,null,null,null,null,null,null,null,null,null,null,null,null,null,null,null,null,null,null,null,null,null,null,null,null,null,null,null,null,null,null,null,null,null,{"$f":"'Tableau général'!A40","v":""},{"$f":"IF($DO38=\"\",\"\",'Tableau général'!C40)","v":""},{"$f":"IF($DO38=\"\",\"\",'Tableau général'!D40)","v":""},{"$f":"IF($DO38=\"\",\"\",'Tableau général'!E40)","v":""}]
[null,null,null,null,null,null,null,null,null,null,null,null,null,null,null,null,null,null,null,null,null,null,null,null,null,null,null,null,null,null,null,null,null,null,null,null,null,null,null,null,null,null,null,null,null,null,null,null,null,null,null,null,null,null,null,null,null,null,null,null,null,null,null,null,null,null,null,null,null,null,null,null,null,null,null,null,null,null,null,null,null,null,null,null,null,null,null,null,null,null,null,null,null,null,null,null,null,null,null,null,null,null,null,null,null,null,null,null,null,null,null,null,null,null,null,null,null,null,{"$f":"'Tableau général'!A41","v":""},{"$f":"IF($DO39=\"\",\"\",'Tableau général'!C41)","v":""},{"$f":"IF($DO39=\"\",\"\",'Tableau général'!D41)","v":""},{"$f":"IF($DO39=\"\",\"\",'Tableau général'!E41)","v":""}]
[null,null,null,null,null,null,null,null,null,null,null,null,null,null,null,null,null,null,null,null,null,null,null,null,null,null,null,null,null,null,null,null,null,null,null,null,null,null,null,null,null,null,null,null,null,null,null,null,null,null,null,null,null,null,null,null,null,null,null,null,null,null,null,null,null,null,null,null,null,null,null,null,null,null,null,null,null,null,null,null,null,null,null,null,null,null,null,null,null,null,null,null,null,null,null,null,null,null,null,null,null,null,null,null,null,null,null,null,null,null,null,null,null,null,null,null,null,null,{"$f":"'Tableau général'!A42","v":""},{"$f":"IF($DO40=\"\",\"\",'Tableau général'!C42)","v":""},{"$f":"IF($DO40=\"\",\"\",'Tableau général'!D42)","v":""},{"$f":"IF($DO40=\"\",\"\",'Tableau général'!E42)","v":""}]
[null,null,null,null,null,null,null,null,null,null,null,null,null,null,null,null,null,null,null,null,null,null,null,null,null,null,null,null,null,null,null,null,null,null,null,null,null,null,null,null,null,null,null,null,null,null,null,null,null,null,null,null,null,null,null,null,null,null,null,null,null,null,null,null,null,null,null,null,null,null,null,null,null,null,null,null,null,null,null,null,null,null,null,null,null,null,null,null,null,null,null,null,null,null,null,null,null,null,null,null,null,null,null,null,null,null,null,null,null,null,null,null,null,null,null,null,null,null,{"$f":"'Tableau général'!A43","v":""},{"$f":"IF($DO41=\"\",\"\",'Tableau général'!C43)","v":""},{"$f":"IF($DO41=\"\",\"\",'Tableau général'!D43)","v":""},{"$f":"IF($DO41=\"\",\"\",'Tableau général'!E43)","v":""}]
[null,null,null,null,null,null,null,null,null,null,null,null,null,null,null,null,null,null,null,null,null,null,null,null,null,null,null,null,null,null,null,null,null,null,null,null,null,null,null,null,null,null,null,null,null,null,null,null,null,null,null,null,null,null,null,null,null,null,null,null,null,null,null,null,null,null,null,null,null,null,null,null,null,null,null,null,null,null,null,null,null,null,null,null,null,null,null,null,null,null,null,null,null,null,null,null,null,null,null,null,null,null,null,null,null,null,null,null,null,null,null,null,null,null,null,null,null,null,{"$f":"'Tableau général'!A44","v":""},{"$f":"IF($DO42=\"\",\"\",'Tableau général'!C44)","v":""},{"$f":"IF($DO42=\"\",\"\",'Tableau général'!D44)","v":""},{"$f":"IF($DO42=\"\",\"\",'Tableau général'!E44)","v":""}]
[null,null,null,null,null,null,null,null,null,null,null,null,null,null,null,null,null,null,null,null,null,null,null,null,null,null,null,null,null,null,null,null,null,null,null,null,null,null,null,null,null,null,null,null,null,null,null,null,null,null,null,null,null,null,null,null,null,null,null,null,null,null,null,null,null,null,null,null,null,null,null,null,null,null,null,null,null,null,null,null,null,null,null,null,null,null,null,null,null,null,null,null,null,null,null,null,null,null,null,null,null,null,null,null,null,null,null,null,null,null,null,null,null,null,null,null,null,null,{"$f":"'Tableau général'!A45","v":""},{"$f":"IF($DO43=\"\",\"\",'Tableau général'!C45)","v":""},{"$f":"IF($DO43=\"\",\"\",'Tableau général'!D45)","v":""},{"$f":"IF($DO43=\"\",\"\",'Tableau général'!E45)","v":""}]
[null,null,null,null,null,null,null,null,null,null,null,null,null,null,null,null,null,null,null,null,null,null,null,null,null,null,null,null,null,null,null,null,null,null,null,null,null,null,null,null,null,null,null,null,null,null,null,null,null,null,null,null,null,null,null,null,null,null,null,null,null,null,null,null,null,null,null,null,null,null,null,null,null,null,null,null,null,null,null,null,null,null,null,null,null,null,null,null,null,null,null,null,null,null,null,null,null,null,null,null,null,null,null,null,null,null,null,null,null,null,null,null,null,null,null,null,null,null,{"$f":"'Tableau général'!A46","v":""},{"$f":"IF($DO44=\"\",\"\",'Tableau général'!C46)","v":""},{"$f":"IF($DO44=\"\",\"\",'Tableau général'!D46)","v":""},{"$f":"IF($DO44=\"\",\"\",'Tableau général'!E46)","v":""}]
[null,null,null,null,null,null,null,null,null,null,null,null,null,null,null,null,null,null,null,null,null,null,null,null,null,null,null,null,null,null,null,null,null,null,null,null,null,null,null,null,null,null,null,null,null,null,null,null,null,null,null,null,null,null,null,null,null,null,null,null,null,null,null,null,null,null,null,null,null,null,null,null,null,null,null,null,null,null,null,null,null,null,null,null,null,null,null,null,null,null,null,null,null,null,null,null,null,null,null,null,null,null,null,null,null,null,null,null,null,null,null,null,null,null,null,null,null,null,{"$f":"'Tableau général'!A47","v":""},{"$f":"IF($DO45=\"\",\"\",'Tableau général'!C47)","v":""},{"$f":"IF($DO45=\"\",\"\",'Tableau général'!D47)","v":""},{"$f":"IF($DO45=\"\",\"\",'Tableau général'!E47)","v":""}]
[null,null,null,null,null,null,null,null,null,null,null,null,null,null,null,null,null,null,null,null,null,null,null,null,null,null,null,null,null,null,null,null,null,null,null,null,null,null,null,null,null,null,null,null,null,null,null,null,null,null,null,null,null,null,null,null,null,null,null,null,null,null,null,null,null,null,null,null,null,null,null,null,null,null,null,null,null,null,null,null,null,null,null,null,null,null,null,null,null,null,null,null,null,null,null,null,null,null,null,null,null,null,null,null,null,null,null,null,null,null,null,null,null,null,null,null,null,null,{"$f":"'Tableau général'!A48","v":""},{"$f":"IF($DO46=\"\",\"\",'Tableau général'!C48)","v":""},{"$f":"IF($DO46=\"\",\"\",'Tableau général'!D48)","v":""},{"$f":"IF($DO46=\"\",\"\",'Tableau général'!E48)","v":""}]
[null,null,null,null,null,null,null,null,null,null,null,null,null,null,null,null,null,null,null,null,null,null,null,null,null,null,null,null,null,null,null,null,null,null,null,null,null,null,null,null,null,null,null,null,null,null,null,null,null,null,null,null,null,null,null,null,null,null,null,null,null,null,null,null,null,null,null,null,null,null,null,null,null,null,null,null,null,null,null,null,null,null,null,null,null,null,null,null,null,null,null,null,null,null,null,null,null,null,null,null,null,null,null,null,null,null,null,null,null,null,null,null,null,null,null,null,null,null,{"$f":"'Tableau général'!A49","v":""},{"$f":"IF($DO47=\"\",\"\",'Tableau général'!C49)","v":""},{"$f":"IF($DO47=\"\",\"\",'Tableau général'!D49)","v":""},{"$f":"IF($DO47=\"\",\"\",'Tableau général'!E49)","v":""}]
[null,null,null,null,null,null,null,null,null,null,null,null,null,null,null,null,null,null,null,null,null,null,null,null,null,null,null,null,null,null,null,null,null,null,null,null,null,null,null,null,null,null,null,null,null,null,null,null,null,null,null,null,null,null,null,null,null,null,null,null,null,null,null,null,null,null,null,null,null,null,null,null,null,null,null,null,null,null,null,null,null,null,null,null,null,null,null,null,null,null,null,null,null,null,null,null,null,null,null,null,null,null,null,null,null,null,null,null,null,null,null,null,null,null,null,null,null,null,{"$f":"'Tableau général'!A50","v":""},{"$f":"IF($DO48=\"\",\"\",'Tableau général'!C50)","v":""},{"$f":"IF($DO48=\"\",\"\",'Tableau général'!D50)","v":""},{"$f":"IF($DO48=\"\",\"\",'Tableau général'!E50)","v":""}]
[null,null,null,null,null,null,null,null,null,null,null,null,null,null,null,null,null,null,null,null,null,null,null,null,null,null,null,null,null,null,null,null,null,null,null,null,null,null,null,null,null,null,null,null,null,null,null,null,null,null,null,null,null,null,null,null,null,null,null,null,null,null,null,null,null,null,null,null,null,null,null,null,null,null,null,null,null,null,null,null,null,null,null,null,null,null,null,null,null,null,null,null,null,null,null,null,null,null,null,null,null,null,null,null,null,null,null,null,null,null,null,null,null,null,null,null,null,null,{"$f":"'Tableau général'!A51","v":""},{"$f":"IF($DO49=\"\",\"\",'Tableau général'!C51)","v":""},{"$f":"IF($DO49=\"\",\"\",'Tableau général'!D51)","v":""},{"$f":"IF($DO49=\"\",\"\",'Tableau général'!E51)","v":""}]
[null,null,null,null,null,null,null,null,null,null,null,null,null,null,null,null,null,null,null,null,null,null,null,null,null,null,null,null,null,null,null,null,null,null,null,null,null,null,null,null,null,null,null,null,null,null,null,null,null,null,null,null,null,null,null,null,null,null,null,null,null,null,null,null,null,null,null,null,null,null,null,null,null,null,null,null,null,null,null,null,null,null,null,null,null,null,null,null,null,null,null,null,null,null,null,null,null,null,null,null,null,null,null,null,null,null,null,null,null,null,null,null,null,null,null,null,null,null,{"$f":"'Tableau général'!A52","v":""},{"$f":"IF($DO50=\"\",\"\",'Tableau général'!C52)","v":""},{"$f":"IF($DO50=\"\",\"\",'Tableau général'!D52)","v":""},{"$f":"IF($DO50=\"\",\"\",'Tableau général'!E52)","v":""}]
[null,null,null,null,null,null,null,null,null,null,null,null,null,null,null,null,null,null,null,null,null,null,null,null,null,null,null,null,null,null,null,null,null,null,null,null,null,null,null,null,null,null,null,null,null,null,null,null,null,null,null,null,null,null,null,null,null,null,null,null,null,null,null,null,null,null,null,null,null,null,null,null,null,null,null,null,null,null,null,null,null,null,null,null,null,null,null,null,null,null,null,null,null,null,null,null,null,null,null,null,null,null,null,null,null,null,null,null,null,null,null,null,null,null,null,null,null,null,{"$f":"'Tableau général'!A53","v":""},{"$f":"IF($DO51=\"\",\"\",'Tableau général'!C53)","v":""},{"$f":"IF($DO51=\"\",\"\",'Tableau général'!D53)","v":""},{"$f":"IF($DO51=\"\",\"\",'Tableau général'!E53)","v":""}]
[null,null,null,null,null,null,null,null,null,null,null,null,null,null,null,null,null,null,null,null,null,null,null,null,null,null,null,null,null,null,null,null,null,null,null,null,null,null,null,null,null,null,null,null,null,null,null,null,null,null,null,null,null,null,null,null,null,null,null,null,null,null,null,null,null,null,null,null,null,null,null,null,null,null,null,null,null,null,null,null,null,null,null,null,null,null,null,null,null,null,null,null,null,null,null,null,null,null,null,null,null,null,null,null,null,null,null,null,null,null,null,null,null,null,null,null,null,null,{"$f":"'Tableau général'!A54","v":""},{"$f":"IF($DO52=\"\",\"\",'Tableau général'!C54)","v":""},{"$f":"IF($DO52=\"\",\"\",'Tableau général'!D54)","v":""},{"$f":"IF($DO52=\"\",\"\",'Tableau général'!E54)","v":""}]
[null,null,null,null,null,null,null,null,null,null,null,null,null,null,null,null,null,null,null,null,null,null,null,null,null,null,null,null,null,null,null,null,null,null,null,null,null,null,null,null,null,null,null,null,null,null,null,null,null,null,null,null,null,null,null,null,null,null,null,null,null,null,null,null,null,null,null,null,null,null,null,null,null,null,null,null,null,null,null,null,null,null,null,null,null,null,null,null,null,null,null,null,null,null,null,null,null,null,null,null,null,null,null,null,null,null,null,null,null,null,null,null,null,null,null,null,null,null,{"$f":"'Tableau général'!A55","v":""},{"$f":"IF($DO53=\"\",\"\",'Tableau général'!C55)","v":""},{"$f":"IF($DO53=\"\",\"\",'Tableau général'!D55)","v":""},{"$f":"IF($DO53=\"\",\"\",'Tableau général'!E55)","v":""}]
[null,null,null,null,null,null,null,null,null,null,null,null,null,null,null,null,null,null,null,null,null,null,null,null,null,null,null,null,null,null,null,null,null,null,null,null,null,null,null,null,null,null,null,null,null,null,null,null,null,null,null,null,null,null,null,null,null,null,null,null,null,null,null,null,null,null,null,null,null,null,null,null,null,null,null,null,null,null,null,null,null,null,null,null,null,null,null,null,null,null,null,null,null,null,null,null,null,null,null,null,null,null,null,null,null,null,null,null,null,null,null,null,null,null,null,null,null,null,{"$f":"'Tableau général'!A56","v":""},{"$f":"IF($DO54=\"\",\"\",'Tableau général'!C56)","v":""},{"$f":"IF($DO54=\"\",\"\",'Tableau général'!D56)","v":""},{"$f":"IF($DO54=\"\",\"\",'Tableau général'!E56)","v":""}]
[null,null,null,null,null,null,null,null,null,null,null,null,null,null,null,null,null,null,null,null,null,null,null,null,null,null,null,null,null,null,null,null,null,null,null,null,null,null,null,null,null,null,null,null,null,null,null,null,null,null,null,null,null,null,null,null,null,null,null,null,null,null,null,null,null,null,null,null,null,null,null,null,null,null,null,null,null,null,null,null,null,null,null,null,null,null,null,null,null,null,null,null,null,null,null,null,null,null,null,null,null,null,null,null,null,null,null,null,null,null,null,null,null,null,null,null,null,null,{"$f":"'Tableau général'!A57","v":""},{"$f":"IF($DO55=\"\",\"\",'Tableau général'!C57)","v":""},{"$f":"IF($DO55=\"\",\"\",'Tableau général'!D57)","v":""},{"$f":"IF($DO55=\"\",\"\",'Tableau général'!E57)","v":""}]
[null,null,null,null,null,null,null,null,null,null,null,null,null,null,null,null,null,null,null,null,null,null,null,null,null,null,null,null,null,null,null,null,null,null,null,null,null,null,null,null,null,null,null,null,null,null,null,null,null,null,null,null,null,null,null,null,null,null,null,null,null,null,null,null,null,null,null,null,null,null,null,null,null,null,null,null,null,null,null,null,null,null,null,null,null,null,null,null,null,null,null,null,null,null,null,null,null,null,null,null,null,null,null,null,null,null,null,null,null,null,null,null,null,null,null,null,null,null,{"$f":"'Tableau général'!A58","v":""},{"$f":"IF($DO56=\"\",\"\",'Tableau général'!C58)","v":""},{"$f":"IF($DO56=\"\",\"\",'Tableau général'!D58)","v":""},{"$f":"IF($DO56=\"\",\"\",'Tableau général'!E58)","v":""}]
[null,null,null,null,null,null,null,null,null,null,null,null,null,null,null,null,null,null,null,null,null,null,null,null,null,null,null,null,null,null,null,null,null,null,null,null,null,null,null,null,null,null,null,null,null,null,null,null,null,null,null,null,null,null,null,null,null,null,null,null,null,null,null,null,null,null,null,null,null,null,null,null,null,null,null,null,null,null,null,null,null,null,null,null,null,null,null,null,null,null,null,null,null,null,null,null,null,null,null,null,null,null,null,null,null,null,null,null,null,null,null,null,null,null,null,null,null,null,{"$f":"'Tableau général'!A59","v":""},{"$f":"IF($DO57=\"\",\"\",'Tableau général'!C59)","v":""},{"$f":"IF($DO57=\"\",\"\",'Tableau général'!D59)","v":""},{"$f":"IF($DO57=\"\",\"\",'Tableau général'!E59)","v":""}]
[null,null,null,null,null,null,null,null,null,null,null,null,null,null,null,null,null,null,null,null,null,null,null,null,null,null,null,null,null,null,null,null,null,null,null,null,null,null,null,null,null,null,null,null,null,null,null,null,null,null,null,null,null,null,null,null,null,null,null,null,null,null,null,null,null,null,null,null,null,null,null,null,null,null,null,null,null,null,null,null,null,null,null,null,null,null,null,null,null,null,null,null,null,null,null,null,null,null,null,null,null,null,null,null,null,null,null,null,null,null,null,null,null,null,null,null,null,null,{"$f":"'Tableau général'!A60","v":""},{"$f":"IF($DO58=\"\",\"\",'Tableau général'!C60)","v":""},{"$f":"IF($DO58=\"\",\"\",'Tableau général'!D60)","v":""},{"$f":"IF($DO58=\"\",\"\",'Tableau général'!E60)","v":""}]
[null,null,null,null,null,null,null,null,null,null,null,null,null,null,null,null,null,null,null,null,null,null,null,null,null,null,null,null,null,null,null,null,null,null,null,null,null,null,null,null,null,null,null,null,null,null,null,null,null,null,null,null,null,null,null,null,null,null,null,null,null,null,null,null,null,null,null,null,null,null,null,null,null,null,null,null,null,null,null,null,null,null,null,null,null,null,null,null,null,null,null,null,null,null,null,null,null,null,null,null,null,null,null,null,null,null,null,null,null,null,null,null,null,null,null,null,null,null,{"$f":"'Tableau général'!A61","v":""},{"$f":"IF($DO59=\"\",\"\",'Tableau général'!C61)","v":""},{"$f":"IF($DO59=\"\",\"\",'Tableau général'!D61)","v":""},{"$f":"IF($DO59=\"\",\"\",'Tableau général'!E61)","v":""}]
[null,null,null,null,null,null,null,null,null,null,null,null,null,null,null,null,null,null,null,null,null,null,null,null,null,null,null,null,null,null,null,null,null,null,null,null,null,null,null,null,null,null,null,null,null,null,null,null,null,null,null,null,null,null,null,null,null,null,null,null,null,null,null,null,null,null,null,null,null,null,null,null,null,null,null,null,null,null,null,null,null,null,null,null,null,null,null,null,null,null,null,null,null,null,null,null,null,null,null,null,null,null,null,null,null,null,null,null,null,null,null,null,null,null,null,null,null,null,{"$f":"'Tableau général'!A62","v":""},{"$f":"IF($DO60=\"\",\"\",'Tableau général'!C62)","v":""},{"$f":"IF($DO60=\"\",\"\",'Tableau général'!D62)","v":""},{"$f":"IF($DO60=\"\",\"\",'Tableau général'!E62)","v":""}]
[null,null,null,null,null,null,null,null,null,null,null,null,null,null,null,null,null,null,null,null,null,null,null,null,null,null,null,null,null,null,null,null,null,null,null,null,null,null,null,null,null,null,null,null,null,null,null,null,null,null,null,null,null,null,null,null,null,null,null,null,null,null,null,null,null,null,null,null,null,null,null,null,null,null,null,null,null,null,null,null,null,null,null,null,null,null,null,null,null,null,null,null,null,null,null,null,null,null,null,null,null,null,null,null,null,null,null,null,null,null,null,null,null,null,null,null,null,null,{"$f":"'Tableau général'!A63","v":""},{"$f":"IF($DO61=\"\",\"\",'Tableau général'!C63)","v":""},{"$f":"IF($DO61=\"\",\"\",'Tableau général'!D63)","v":""},{"$f":"IF($DO61=\"\",\"\",'Tableau général'!E63)","v":""}]
[null,null,null,null,null,null,null,null,null,null,null,null,null,null,null,null,null,null,null,null,null,null,null,null,null,null,null,null,null,null,null,null,null,null,null,null,null,null,null,null,null,null,null,null,null,null,null,null,null,null,null,null,null,null,null,null,null,null,null,null,null,null,null,null,null,null,null,null,null,null,null,null,null,null,null,null,null,null,null,null,null,null,null,null,null,null,null,null,null,null,null,null,null,null,null,null,null,null,null,null,null,null,null,null,null,null,null,null,null,null,null,null,null,null,null,null,null,null,{"$f":"'Tableau général'!A64","v":""},{"$f":"IF($DO62=\"\",\"\",'Tableau général'!C64)","v":""},{"$f":"IF($DO62=\"\",\"\",'Tableau général'!D64)","v":""},{"$f":"IF($DO62=\"\",\"\",'Tableau général'!E64)","v":""}]
[null,null,null,null,null,null,null,null,null,null,null,null,null,null,null,null,null,null,null,null,null,null,null,null,null,null,null,null,null,null,null,null,null,null,null,null,null,null,null,null,null,null,null,null,null,null,null,null,null,null,null,null,null,null,null,null,null,null,null,null,null,null,null,null,null,null,null,null,null,null,null,null,null,null,null,null,null,null,null,null,null,null,null,null,null,null,null,null,null,null,null,null,null,null,null,null,null,null,null,null,null,null,null,null,null,null,null,null,null,null,null,null,null,null,null,null,null,null,{"$f":"'Tableau général'!A65","v":""},{"$f":"IF($DO63=\"\",\"\",'Tableau général'!C65)","v":""},{"$f":"IF($DO63=\"\",\"\",'Tableau général'!D65)","v":""},{"$f":"IF($DO63=\"\",\"\",'Tableau général'!E65)","v":""}]
[null,null,null,null,null,null,null,null,null,null,null,null,null,null,null,null,null,null,null,null,null,null,null,null,null,null,null,null,null,null,null,null,null,null,null,null,null,null,null,null,null,null,null,null,null,null,null,null,null,null,null,null,null,null,null,null,null,null,null,null,null,null,null,null,null,null,null,null,null,null,null,null,null,null,null,null,null,null,null,null,null,null,null,null,null,null,null,null,null,null,null,null,null,null,null,null,null,null,null,null,null,null,null,null,null,null,null,null,null,null,null,null,null,null,null,null,null,null,{"$f":"'Tableau général'!A66","v":""},{"$f":"IF($DO64=\"\",\"\",'Tableau général'!C66)","v":""},{"$f":"IF($DO64=\"\",\"\",'Tableau général'!D66)","v":""},{"$f":"IF($DO64=\"\",\"\",'Tableau général'!E66)","v":""}]
[null,null,null,null,null,null,null,null,null,null,null,null,null,null,null,null,null,null,null,null,null,null,null,null,null,null,null,null,null,null,null,null,null,null,null,null,null,null,null,null,null,null,null,null,null,null,null,null,null,null,null,null,null,null,null,null,null,null,null,null,null,null,null,null,null,null,null,null,null,null,null,null,null,null,null,null,null,null,null,null,null,null,null,null,null,null,null,null,null,null,null,null,null,null,null,null,null,null,null,null,null,null,null,null,null,null,null,null,null,null,null,null,null,null,null,null,null,null,{"$f":"'Tableau général'!A67","v":""},{"$f":"IF($DO65=\"\",\"\",'Tableau général'!C67)","v":""},{"$f":"IF($DO65=\"\",\"\",'Tableau général'!D67)","v":""},{"$f":"IF($DO65=\"\",\"\",'Tableau général'!E67)","v":""}]
[null,null,null,null,null,null,null,null,null,null,null,null,null,null,null,null,null,null,null,null,null,null,null,null,null,null,null,null,null,null,null,null,null,null,null,null,null,null,null,null,null,null,null,null,null,null,null,null,null,null,null,null,null,null,null,null,null,null,null,null,null,null,null,null,null,null,null,null,null,null,null,null,null,null,null,null,null,null,null,null,null,null,null,null,null,null,null,null,null,null,null,null,null,null,null,null,null,null,null,null,null,null,null,null,null,null,null,null,null,null,null,null,null,null,null,null,null,null,{"$f":"'Tableau général'!A68","v":""},{"$f":"IF($DO66=\"\",\"\",'Tableau général'!C68)","v":""},{"$f":"IF($DO66=\"\",\"\",'Tableau général'!D68)","v":""},{"$f":"IF($DO66=\"\",\"\",'Tableau général'!E68)","v":""}]
[null,null,null,null,null,null,null,null,null,null,null,null,null,null,null,null,null,null,null,null,null,null,null,null,null,null,null,null,null,null,null,null,null,null,null,null,null,null,null,null,null,null,null,null,null,null,null,null,null,null,null,null,null,null,null,null,null,null,null,null,null,null,null,null,null,null,null,null,null,null,null,null,null,null,null,null,null,null,null,null,null,null,null,null,null,null,null,null,null,null,null,null,null,null,null,null,null,null,null,null,null,null,null,null,null,null,null,null,null,null,null,null,null,null,null,null,null,null,{"$f":"'Tableau général'!A69","v":""},{"$f":"IF($DO67=\"\",\"\",'Tableau général'!C69)","v":""},{"$f":"IF($DO67=\"\",\"\",'Tableau général'!D69)","v":""},{"$f":"IF($DO67=\"\",\"\",'Tableau général'!E69)","v":""}]
[null,null,null,null,null,null,null,null,null,null,null,null,null,null,null,null,null,null,null,null,null,null,null,null,null,null,null,null,null,null,null,null,null,null,null,null,null,null,null,null,null,null,null,null,null,null,null,null,null,null,null,null,null,null,null,null,null,null,null,null,null,null,null,null,null,null,null,null,null,null,null,null,null,null,null,null,null,null,null,null,null,null,null,null,null,null,null,null,null,null,null,null,null,null,null,null,null,null,null,null,null,null,null,null,null,null,null,null,null,null,null,null,null,null,null,null,null,null,{"$f":"'Tableau général'!A70","v":""},{"$f":"IF($DO68=\"\",\"\",'Tableau général'!C70)","v":""},{"$f":"IF($DO68=\"\",\"\",'Tableau général'!D70)","v":""},{"$f":"IF($DO68=\"\",\"\",'Tableau général'!E70)","v":""}]
[null,null,null,null,null,null,null,null,null,null,null,null,null,null,null,null,null,null,null,null,null,null,null,null,null,null,null,null,null,null,null,null,null,null,null,null,null,null,null,null,null,null,null,null,null,null,null,null,null,null,null,null,null,null,null,null,null,null,null,null,null,null,null,null,null,null,null,null,null,null,null,null,null,null,null,null,null,null,null,null,null,null,null,null,null,null,null,null,null,null,null,null,null,null,null,null,null,null,null,null,null,null,null,null,null,null,null,null,null,null,null,null,null,null,null,null,null,null,{"$f":"'Tableau général'!A71","v":""},{"$f":"IF($DO69=\"\",\"\",'Tableau général'!C71)","v":""},{"$f":"IF($DO69=\"\",\"\",'Tableau général'!D71)","v":""},{"$f":"IF($DO69=\"\",\"\",'Tableau général'!E71)","v":""}]
[null,null,null,null,null,null,null,null,null,null,null,null,null,null,null,null,null,null,null,null,null,null,null,null,null,null,null,null,null,null,null,null,null,null,null,null,null,null,null,null,null,null,null,null,null,null,null,null,null,null,null,null,null,null,null,null,null,null,null,null,null,null,null,null,null,null,null,null,null,null,null,null,null,null,null,null,null,null,null,null,null,null,null,null,null,null,null,null,null,null,null,null,null,null,null,null,null,null,null,null,null,null,null,null,null,null,null,null,null,null,null,null,null,null,null,null,null,null,{"$f":"'Tableau général'!A72","v":""},{"$f":"IF($DO70=\"\",\"\",'Tableau général'!C72)","v":""},{"$f":"IF($DO70=\"\",\"\",'Tableau général'!D72)","v":""},{"$f":"IF($DO70=\"\",\"\",'Tableau général'!E72)","v":""}]
[null,null,null,null,null,null,null,null,null,null,null,null,null,null,null,null,null,null,null,null,null,null,null,null,null,null,null,null,null,null,null,null,null,null,null,null,null,null,null,null,null,null,null,null,null,null,null,null,null,null,null,null,null,null,null,null,null,null,null,null,null,null,null,null,null,null,null,null,null,null,null,null,null,null,null,null,null,null,null,null,null,null,null,null,null,null,null,null,null,null,null,null,null,null,null,null,null,null,null,null,null,null,null,null,null,null,null,null,null,null,null,null,null,null,null,null,null,null,{"$f":"'Tableau général'!A73","v":""},{"$f":"IF($DO71=\"\",\"\",'Tableau général'!C73)","v":""},{"$f":"IF($DO71=\"\",\"\",'Tableau général'!D73)","v":""},{"$f":"IF($DO71=\"\",\"\",'Tableau général'!E73)","v":""}]
[null,null,null,null,null,null,null,null,null,null,null,null,null,null,null,null,null,null,null,null,null,null,null,null,null,null,null,null,null,null,null,null,null,null,null,null,null,null,null,null,null,null,null,null,null,null,null,null,null,null,null,null,null,null,null,null,null,null,null,null,null,null,null,null,null,null,null,null,null,null,null,null,null,null,null,null,null,null,null,null,null,null,null,null,null,null,null,null,null,null,null,null,null,null,null,null,null,null,null,null,null,null,null,null,null,null,null,null,null,null,null,null,null,null,null,null,null,null,{"$f":"'Tableau général'!A74","v":""},{"$f":"IF($DO72=\"\",\"\",'Tableau général'!C74)","v":""},{"$f":"IF($DO72=\"\",\"\",'Tableau général'!D74)","v":""},{"$f":"IF($DO72=\"\",\"\",'Tableau général'!E74)","v":""}]
[null,null,null,null,null,null,null,null,null,null,null,null,null,null,null,null,null,null,null,null,null,null,null,null,null,null,null,null,null,null,null,null,null,null,null,null,null,null,null,null,null,null,null,null,null,null,null,null,null,null,null,null,null,null,null,null,null,null,null,null,null,null,null,null,null,null,null,null,null,null,null,null,null,null,null,null,null,null,null,null,null,null,null,null,null,null,null,null,null,null,null,null,null,null,null,null,null,null,null,null,null,null,null,null,null,null,null,null,null,null,null,null,null,null,null,null,null,null,{"$f":"'Tableau général'!A75","v":""},{"$f":"IF($DO73=\"\",\"\",'Tableau général'!C75)","v":""},{"$f":"IF($DO73=\"\",\"\",'Tableau général'!D75)","v":""},{"$f":"IF($DO73=\"\",\"\",'Tableau général'!E75)","v":""}]
[null,null,null,null,null,null,null,null,null,null,null,null,null,null,null,null,null,null,null,null,null,null,null,null,null,null,null,null,null,null,null,null,null,null,null,null,null,null,null,null,null,null,null,null,null,null,null,null,null,null,null,null,null,null,null,null,null,null,null,null,null,null,null,null,null,null,null,null,null,null,null,null,null,null,null,null,null,null,null,null,null,null,null,null,null,null,null,null,null,null,null,null,null,null,null,null,null,null,null,null,null,null,null,null,null,null,null,null,null,null,null,null,null,null,null,null,null,null,{"$f":"'Tableau général'!A76","v":""},{"$f":"IF($DO74=\"\",\"\",'Tableau général'!C76)","v":""},{"$f":"IF($DO74=\"\",\"\",'Tableau général'!D76)","v":""},{"$f":"IF($DO74=\"\",\"\",'Tableau général'!E76)","v":""}]
[null,null,null,null,null,null,null,null,null,null,null,null,null,null,null,null,null,null,null,null,null,null,null,null,null,null,null,null,null,null,null,null,null,null,null,null,null,null,null,null,null,null,null,null,null,null,null,null,null,null,null,null,null,null,null,null,null,null,null,null,null,null,null,null,null,null,null,null,null,null,null,null,null,null,null,null,null,null,null,null,null,null,null,null,null,null,null,null,null,null,null,null,null,null,null,null,null,null,null,null,null,null,null,null,null,null,null,null,null,null,null,null,null,null,null,null,null,null,{"$f":"'Tableau général'!A77","v":""},{"$f":"IF($DO75=\"\",\"\",'Tableau général'!C77)","v":""},{"$f":"IF($DO75=\"\",\"\",'Tableau général'!D77)","v":""},{"$f":"IF($DO75=\"\",\"\",'Tableau général'!E77)","v":""}]
[null,null,null,null,null,null,null,null,null,null,null,null,null,null,null,null,null,null,null,null,null,null,null,null,null,null,null,null,null,null,null,null,null,null,null,null,null,null,null,null,null,null,null,null,null,null,null,null,null,null,null,null,null,null,null,null,null,null,null,null,null,null,null,null,null,null,null,null,null,null,null,null,null,null,null,null,null,null,null,null,null,null,null,null,null,null,null,null,null,null,null,null,null,null,null,null,null,null,null,null,null,null,null,null,null,null,null,null,null,null,null,null,null,null,null,null,null,null,{"$f":"'Tableau général'!A78","v":""},{"$f":"IF($DO76=\"\",\"\",'Tableau général'!C78)","v":""},{"$f":"IF($DO76=\"\",\"\",'Tableau général'!D78)","v":""},{"$f":"IF($DO76=\"\",\"\",'Tableau général'!E78)","v":""}]
[null,null,null,null,null,null,null,null,null,null,null,null,null,null,null,null,null,null,null,null,null,null,null,null,null,null,null,null,null,null,null,null,null,null,null,null,null,null,null,null,null,null,null,null,null,null,null,null,null,null,null,null,null,null,null,null,null,null,null,null,null,null,null,null,null,null,null,null,null,null,null,null,null,null,null,null,null,null,null,null,null,null,null,null,null,null,null,null,null,null,null,null,null,null,null,null,null,null,null,null,null,null,null,null,null,null,null,null,null,null,null,null,null,null,null,null,null,null,{"$f":"'Tableau général'!A79","v":""},{"$f":"IF($DO77=\"\",\"\",'Tableau général'!C79)","v":""},{"$f":"IF($DO77=\"\",\"\",'Tableau général'!D79)","v":""},{"$f":"IF($DO77=\"\",\"\",'Tableau général'!E79)","v":""}]
[null,null,null,null,null,null,null,null,null,null,null,null,null,null,null,null,null,null,null,null,null,null,null,null,null,null,null,null,null,null,null,null,null,null,null,null,null,null,null,null,null,null,null,null,null,null,null,null,null,null,null,null,null,null,null,null,null,null,null,null,null,null,null,null,null,null,null,null,null,null,null,null,null,null,null,null,null,null,null,null,null,null,null,null,null,null,null,null,null,null,null,null,null,null,null,null,null,null,null,null,null,null,null,null,null,null,null,null,null,null,null,null,null,null,null,null,null,null,{"$f":"'Tableau général'!A80","v":""},{"$f":"IF($DO78=\"\",\"\",'Tableau général'!C80)","v":""},{"$f":"IF($DO78=\"\",\"\",'Tableau général'!D80)","v":""},{"$f":"IF($DO78=\"\",\"\",'Tableau général'!E80)","v":""}]
[null,null,null,null,null,null,null,null,null,null,null,null,null,null,null,null,null,null,null,null,null,null,null,null,null,null,null,null,null,null,null,null,null,null,null,null,null,null,null,null,null,null,null,null,null,null,null,null,null,null,null,null,null,null,null,null,null,null,null,null,null,null,null,null,null,null,null,null,null,null,null,null,null,null,null,null,null,null,null,null,null,null,null,null,null,null,null,null,null,null,null,null,null,null,null,null,null,null,null,null,null,null,null,null,null,null,null,null,null,null,null,null,null,null,null,null,null,null,{"$f":"'Tableau général'!A81","v":""},{"$f":"IF($DO79=\"\",\"\",'Tableau général'!C81)","v":""},{"$f":"IF($DO79=\"\",\"\",'Tableau général'!D81)","v":""},{"$f":"IF($DO79=\"\",\"\",'Tableau général'!E81)","v":""}]
[null,null,null,null,null,null,null,null,null,null,null,null,null,null,null,null,null,null,null,null,null,null,null,null,null,null,null,null,null,null,null,null,null,null,null,null,null,null,null,null,null,null,null,null,null,null,null,null,null,null,null,null,null,null,null,null,null,null,null,null,null,null,null,null,null,null,null,null,null,null,null,null,null,null,null,null,null,null,null,null,null,null,null,null,null,null,null,null,null,null,null,null,null,null,null,null,null,null,null,null,null,null,null,null,null,null,null,null,null,null,null,null,null,null,null,null,null,null,{"$f":"'Tableau général'!A82","v":""},{"$f":"IF($DO80=\"\",\"\",'Tableau général'!C82)","v":""},{"$f":"IF($DO80=\"\",\"\",'Tableau général'!D82)","v":""},{"$f":"IF($DO80=\"\",\"\",'Tableau général'!E82)","v":""}]
[null,null,null,null,null,null,null,null,null,null,null,null,null,null,null,null,null,null,null,null,null,null,null,null,null,null,null,null,null,null,null,null,null,null,null,null,null,null,null,null,null,null,null,null,null,null,null,null,null,null,null,null,null,null,null,null,null,null,null,null,null,null,null,null,null,null,null,null,null,null,null,null,null,null,null,null,null,null,null,null,null,null,null,null,null,null,null,null,null,null,null,null,null,null,null,null,null,null,null,null,null,null,null,null,null,null,null,null,null,null,null,null,null,null,null,null,null,null,{"$f":"'Tableau général'!A83","v":""},{"$f":"IF($DO81=\"\",\"\",'Tableau général'!C83)","v":""},{"$f":"IF($DO81=\"\",\"\",'Tableau général'!D83)","v":""},{"$f":"IF($DO81=\"\",\"\",'Tableau général'!E83)","v":""}]
[null,null,null,null,null,null,null,null,null,null,null,null,null,null,null,null,null,null,null,null,null,null,null,null,null,null,null,null,null,null,null,null,null,null,null,null,null,null,null,null,null,null,null,null,null,null,null,null,null,null,null,null,null,null,null,null,null,null,null,null,null,null,null,null,null,null,null,null,null,null,null,null,null,null,null,null,null,null,null,null,null,null,null,null,null,null,null,null,null,null,null,null,null,null,null,null,null,null,null,null,null,null,null,null,null,null,null,null,null,null,null,null,null,null,null,null,null,null,{"$f":"'Tableau général'!A84","v":""},{"$f":"IF($DO82=\"\",\"\",'Tableau général'!C84)","v":""},{"$f":"IF($DO82=\"\",\"\",'Tableau général'!D84)","v":""},{"$f":"IF($DO82=\"\",\"\",'Tableau général'!E84)","v":""}]
[null,null,null,null,null,null,null,null,null,null,null,null,null,null,null,null,null,null,null,null,null,null,null,null,null,null,null,null,null,null,null,null,null,null,null,null,null,null,null,null,null,null,null,null,null,null,null,null,null,null,null,null,null,null,null,null,null,null,null,null,null,null,null,null,null,null,null,null,null,null,null,null,null,null,null,null,null,null,null,null,null,null,null,null,null,null,null,null,null,null,null,null,null,null,null,null,null,null,null,null,null,null,null,null,null,null,null,null,null,null,null,null,null,null,null,null,null,null,{"$f":"'Tableau général'!A85","v":""},{"$f":"IF($DO83=\"\",\"\",'Tableau général'!C85)","v":""},{"$f":"IF($DO83=\"\",\"\",'Tableau général'!D85)","v":""},{"$f":"IF($DO83=\"\",\"\",'Tableau général'!E85)","v":""}]
[null,null,null,null,null,null,null,null,null,null,null,null,null,null,null,null,null,null,null,null,null,null,null,null,null,null,null,null,null,null,null,null,null,null,null,null,null,null,null,null,null,null,null,null,null,null,null,null,null,null,null,null,null,null,null,null,null,null,null,null,null,null,null,null,null,null,null,null,null,null,null,null,null,null,null,null,null,null,null,null,null,null,null,null,null,null,null,null,null,null,null,null,null,null,null,null,null,null,null,null,null,null,null,null,null,null,null,null,null,null,null,null,null,null,null,null,null,null,{"$f":"'Tableau général'!A86","v":""},{"$f":"IF($DO84=\"\",\"\",'Tableau général'!C86)","v":""},{"$f":"IF($DO84=\"\",\"\",'Tableau général'!D86)","v":""},{"$f":"IF($DO84=\"\",\"\",'Tableau général'!E86)","v":""}]
[null,null,null,null,null,null,null,null,null,null,null,null,null,null,null,null,null,null,null,null,null,null,null,null,null,null,null,null,null,null,null,null,null,null,null,null,null,null,null,null,null,null,null,null,null,null,null,null,null,null,null,null,null,null,null,null,null,null,null,null,null,null,null,null,null,null,null,null,null,null,null,null,null,null,null,null,null,null,null,null,null,null,null,null,null,null,null,null,null,null,null,null,null,null,null,null,null,null,null,null,null,null,null,null,null,null,null,null,null,null,null,null,null,null,null,null,null,null,{"$f":"'Tableau général'!A87","v":""},{"$f":"IF($DO85=\"\",\"\",'Tableau général'!C87)","v":""},{"$f":"IF($DO85=\"\",\"\",'Tableau général'!D87)","v":""},{"$f":"IF($DO85=\"\",\"\",'Tableau général'!E87)","v":""}]
[null,null,null,null,null,null,null,null,null,null,null,null,null,null,null,null,null,null,null,null,null,null,null,null,null,null,null,null,null,null,null,null,null,null,null,null,null,null,null,null,null,null,null,null,null,null,null,null,null,null,null,null,null,null,null,null,null,null,null,null,null,null,null,null,null,null,null,null,null,null,null,null,null,null,null,null,null,null,null,null,null,null,null,null,null,null,null,null,null,null,null,null,null,null,null,null,null,null,null,null,null,null,null,null,null,null,null,null,null,null,null,null,null,null,null,null,null,null,{"$f":"'Tableau général'!A88","v":""},{"$f":"IF($DO86=\"\",\"\",'Tableau général'!C88)","v":""},{"$f":"IF($DO86=\"\",\"\",'Tableau général'!D88)","v":""},{"$f":"IF($DO86=\"\",\"\",'Tableau général'!E88)","v":""}]
[null,null,null,null,null,null,null,null,null,null,null,null,null,null,null,null,null,null,null,null,null,null,null,null,null,null,null,null,null,null,null,null,null,null,null,null,null,null,null,null,null,null,null,null,null,null,null,null,null,null,null,null,null,null,null,null,null,null,null,null,null,null,null,null,null,null,null,null,null,null,null,null,null,null,null,null,null,null,null,null,null,null,null,null,null,null,null,null,null,null,null,null,null,null,null,null,null,null,null,null,null,null,null,null,null,null,null,null,null,null,null,null,null,null,null,null,null,null,{"$f":"'Tableau général'!A89","v":""},{"$f":"IF($DO87=\"\",\"\",'Tableau général'!C89)","v":""},{"$f":"IF($DO87=\"\",\"\",'Tableau général'!D89)","v":""},{"$f":"IF($DO87=\"\",\"\",'Tableau général'!E89)","v":""}]
[null,null,null,null,null,null,null,null,null,null,null,null,null,null,null,null,null,null,null,null,null,null,null,null,null,null,null,null,null,null,null,null,null,null,null,null,null,null,null,null,null,null,null,null,null,null,null,null,null,null,null,null,null,null,null,null,null,null,null,null,null,null,null,null,null,null,null,null,null,null,null,null,null,null,null,null,null,null,null,null,null,null,null,null,null,null,null,null,null,null,null,null,null,null,null,null,null,null,null,null,null,null,null,null,null,null,null,null,null,null,null,null,null,null,null,null,null,null,{"$f":"'Tableau général'!A90","v":""},{"$f":"IF($DO88=\"\",\"\",'Tableau général'!C90)","v":""},{"$f":"IF($DO88=\"\",\"\",'Tableau général'!D90)","v":""},{"$f":"IF($DO88=\"\",\"\",'Tableau général'!E90)","v":""}]
[null,null,null,null,null,null,null,null,null,null,null,null,null,null,null,null,null,null,null,null,null,null,null,null,null,null,null,null,null,null,null,null,null,null,null,null,null,null,null,null,null,null,null,null,null,null,null,null,null,null,null,null,null,null,null,null,null,null,null,null,null,null,null,null,null,null,null,null,null,null,null,null,null,null,null,null,null,null,null,null,null,null,null,null,null,null,null,null,null,null,null,null,null,null,null,null,null,null,null,null,null,null,null,null,null,null,null,null,null,null,null,null,null,null,null,null,null,null,{"$f":"'Tableau général'!A91","v":""},{"$f":"IF($DO89=\"\",\"\",'Tableau général'!C91)","v":""},{"$f":"IF($DO89=\"\",\"\",'Tableau général'!D91)","v":""},{"$f":"IF($DO89=\"\",\"\",'Tableau général'!E91)","v":""}]
[null,null,null,null,null,null,null,null,null,null,null,null,null,null,null,null,null,null,null,null,null,null,null,null,null,null,null,null,null,null,null,null,null,null,null,null,null,null,null,null,null,null,null,null,null,null,null,null,null,null,null,null,null,null,null,null,null,null,null,null,null,null,null,null,null,null,null,null,null,null,null,null,null,null,null,null,null,null,null,null,null,null,null,null,null,null,null,null,null,null,null,null,null,null,null,null,null,null,null,null,null,null,null,null,null,null,null,null,null,null,null,null,null,null,null,null,null,null,{"$f":"'Tableau général'!A92","v":""},{"$f":"IF($DO90=\"\",\"\",'Tableau général'!C92)","v":""},{"$f":"IF($DO90=\"\",\"\",'Tableau général'!D92)","v":""},{"$f":"IF($DO90=\"\",\"\",'Tableau général'!E92)","v":""}]
[null,null,null,null,null,null,null,null,null,null,null,null,null,null,null,null,null,null,null,null,null,null,null,null,null,null,null,null,null,null,null,null,null,null,null,null,null,null,null,null,null,null,null,null,null,null,null,null,null,null,null,null,null,null,null,null,null,null,null,null,null,null,null,null,null,null,null,null,null,null,null,null,null,null,null,null,null,null,null,null,null,null,null,null,null,null,null,null,null,null,null,null,null,null,null,null,null,null,null,null,null,null,null,null,null,null,null,null,null,null,null,null,null,null,null,null,null,null,{"$f":"'Tableau général'!A93","v":""},{"$f":"IF($DO91=\"\",\"\",'Tableau général'!C93)","v":""},{"$f":"IF($DO91=\"\",\"\",'Tableau général'!D93)","v":""},{"$f":"IF($DO91=\"\",\"\",'Tableau général'!E93)","v":""}]
[null,null,null,null,null,null,null,null,null,null,null,null,null,null,null,null,null,null,null,null,null,null,null,null,null,null,null,null,null,null,null,null,null,null,null,null,null,null,null,null,null,null,null,null,null,null,null,null,null,null,null,null,null,null,null,null,null,null,null,null,null,null,null,null,null,null,null,null,null,null,null,null,null,null,null,null,null,null,null,null,null,null,null,null,null,null,null,null,null,null,null,null,null,null,null,null,null,null,null,null,null,null,null,null,null,null,null,null,null,null,null,null,null,null,null,null,null,null,{"$f":"'Tableau général'!A94","v":""},{"$f":"IF($DO92=\"\",\"\",'Tableau général'!C94)","v":""},{"$f":"IF($DO92=\"\",\"\",'Tableau général'!D94)","v":""},{"$f":"IF($DO92=\"\",\"\",'Tableau général'!E94)","v":""}]
[null,null,null,null,null,null,null,null,null,null,null,null,null,null,null,null,null,null,null,null,null,null,null,null,null,null,null,null,null,null,null,null,null,null,null,null,null,null,null,null,null,null,null,null,null,null,null,null,null,null,null,null,null,null,null,null,null,null,null,null,null,null,null,null,null,null,null,null,null,null,null,null,null,null,null,null,null,null,null,null,null,null,null,null,null,null,null,null,null,null,null,null,null,null,null,null,null,null,null,null,null,null,null,null,null,null,null,null,null,null,null,null,null,null,null,null,null,null,{"$f":"'Tableau général'!A95","v":""},{"$f":"IF($DO93=\"\",\"\",'Tableau général'!C95)","v":""},{"$f":"IF($DO93=\"\",\"\",'Tableau général'!D95)","v":""},{"$f":"IF($DO93=\"\",\"\",'Tableau général'!E95)","v":""}]
[null,null,null,null,null,null,null,null,null,null,null,null,null,null,null,null,null,null,null,null,null,null,null,null,null,null,null,null,null,null,null,null,null,null,null,null,null,null,null,null,null,null,null,null,null,null,null,null,null,null,null,null,null,null,null,null,null,null,null,null,null,null,null,null,null,null,null,null,null,null,null,null,null,null,null,null,null,null,null,null,null,null,null,null,null,null,null,null,null,null,null,null,null,null,null,null,null,null,null,null,null,null,null,null,null,null,null,null,null,null,null,null,null,null,null,null,null,null,{"$f":"'Tableau général'!A96","v":""},{"$f":"IF($DO94=\"\",\"\",'Tableau général'!C96)","v":""},{"$f":"IF($DO94=\"\",\"\",'Tableau général'!D96)","v":""},{"$f":"IF($DO94=\"\",\"\",'Tableau général'!E96)","v":""}]
[null,null,null,null,null,null,null,null,null,null,null,null,null,null,null,null,null,null,null,null,null,null,null,null,null,null,null,null,null,null,null,null,null,null,null,null,null,null,null,null,null,null,null,null,null,null,null,null,null,null,null,null,null,null,null,null,null,null,null,null,null,null,null,null,null,null,null,null,null,null,null,null,null,null,null,null,null,null,null,null,null,null,null,null,null,null,null,null,null,null,null,null,null,null,null,null,null,null,null,null,null,null,null,null,null,null,null,null,null,null,null,null,null,null,null,null,null,null,{"$f":"'Tableau général'!A97","v":""},{"$f":"IF($DO95=\"\",\"\",'Tableau général'!C97)","v":""},{"$f":"IF($DO95=\"\",\"\",'Tableau général'!D97)","v":""},{"$f":"IF($DO95=\"\",\"\",'Tableau général'!E97)","v":""}]
[null,null,null,null,null,null,null,null,null,null,null,null,null,null,null,null,null,null,null,null,null,null,null,null,null,null,null,null,null,null,null,null,null,null,null,null,null,null,null,null,null,null,null,null,null,null,null,null,null,null,null,null,null,null,null,null,null,null,null,null,null,null,null,null,null,null,null,null,null,null,null,null,null,null,null,null,null,null,null,null,null,null,null,null,null,null,null,null,null,null,null,null,null,null,null,null,null,null,null,null,null,null,null,null,null,null,null,null,null,null,null,null,null,null,null,null,null,null,{"$f":"'Tableau général'!A98","v":""},{"$f":"IF($DO96=\"\",\"\",'Tableau général'!C98)","v":""},{"$f":"IF($DO96=\"\",\"\",'Tableau général'!D98)","v":""},{"$f":"IF($DO96=\"\",\"\",'Tableau général'!E98)","v":""}]
[null,null,null,null,null,null,null,null,null,null,null,null,null,null,null,null,null,null,null,null,null,null,null,null,null,null,null,null,null,null,null,null,null,null,null,null,null,null,null,null,null,null,null,null,null,null,null,null,null,null,null,null,null,null,null,null,null,null,null,null,null,null,null,null,null,null,null,null,null,null,null,null,null,null,null,null,null,null,null,null,null,null,null,null,null,null,null,null,null,null,null,null,null,null,null,null,null,null,null,null,null,null,null,null,null,null,null,null,null,null,null,null,null,null,null,null,null,null,{"$f":"'Tableau général'!A99","v":""},{"$f":"IF($DO97=\"\",\"\",'Tableau général'!C99)","v":""},{"$f":"IF($DO97=\"\",\"\",'Tableau général'!D99)","v":""},{"$f":"IF($DO97=\"\",\"\",'Tableau général'!E99)","v":""}]
[null,null,null,null,null,null,null,null,null,null,null,null,null,null,null,null,null,null,null,null,null,null,null,null,null,null,null,null,null,null,null,null,null,null,null,null,null,null,null,null,null,null,null,null,null,null,null,null,null,null,null,null,null,null,null,null,null,null,null,null,null,null,null,null,null,null,null,null,null,null,null,null,null,null,null,null,null,null,null,null,null,null,null,null,null,null,null,null,null,null,null,null,null,null,null,null,null,null,null,null,null,null,null,null,null,null,null,null,null,null,null,null,null,null,null,null,null,null,{"$f":"'Tableau général'!A100","v":""},{"$f":"IF($DO98=\"\",\"\",'Tableau général'!C100)","v":""},{"$f":"IF($DO98=\"\",\"\",'Tableau général'!D100)","v":""},{"$f":"IF($DO98=\"\",\"\",'Tableau général'!E100)","v":""}]
[null,null,null,null,null,null,null,null,null,null,null,null,null,null,null,null,null,null,null,null,null,null,null,null,null,null,null,null,null,null,null,null,null,null,null,null,null,null,null,null,null,null,null,null,null,null,null,null,null,null,null,null,null,null,null,null,null,null,null,null,null,null,null,null,null,null,null,null,null,null,null,null,null,null,null,null,null,null,null,null,null,null,null,null,null,null,null,null,null,null,null,null,null,null,null,null,null,null,null,null,null,null,null,null,null,null,null,null,null,null,null,null,null,null,null,null,null,null,{"$f":"'Tableau général'!A101","v":""},{"$f":"IF($DO99=\"\",\"\",'Tableau général'!C101)","v":""},{"$f":"IF($DO99=\"\",\"\",'Tableau général'!D101)","v":""},{"$f":"IF($DO99=\"\",\"\",'Tableau général'!E101)","v":""}]
[null,null,null,null,null,null,null,null,null,null,null,null,null,null,null,null,null,null,null,null,null,null,null,null,null,null,null,null,null,null,null,null,null,null,null,null,null,null,null,null,null,null,null,null,null,null,null,null,null,null,null,null,null,null,null,null,null,null,null,null,null,null,null,null,null,null,null,null,null,null,null,null,null,null,null,null,null,null,null,null,null,null,null,null,null,null,null,null,null,null,null,null,null,null,null,null,null,null,null,null,null,null,null,null,null,null,null,null,null,null,null,null,null,null,null,null,null,null,{"$f":"'Tableau général'!A102","v":""},{"$f":"IF($DO100=\"\",\"\",'Tableau général'!C102)","v":""},{"$f":"IF($DO100=\"\",\"\",'Tableau général'!D102)","v":""},{"$f":"IF($DO100=\"\",\"\",'Tableau général'!E102)","v":""}]
[null,null,null,null,null,null,null,null,null,null,null,null,null,null,null,null,null,null,null,null,null,null,null,null,null,null,null,null,null,null,null,null,null,null,null,null,null,null,null,null,null,null,null,null,null,null,null,null,null,null,null,null,null,null,null,null,null,null,null,null,null,null,null,null,null,null,null,null,null,null,null,null,null,null,null,null,null,null,null,null,null,null,null,null,null,null,null,null,null,null,null,null,null,null,null,null,null,null,null,null,null,null,null,null,null,null,null,null,null,null,null,null,null,null,null,null,null,null,{"$f":"'Tableau général'!A103","v":""},{"$f":"IF($DO101=\"\",\"\",'Tableau général'!C103)","v":""},{"$f":"IF($DO101=\"\",\"\",'Tableau général'!D103)","v":""},{"$f":"IF($DO101=\"\",\"\",'Tableau général'!E103)","v":""}]
[null,null,null,null,null,null,null,null,null,null,null,null,null,null,null,null,null,null,null,null,null,null,null,null,null,null,null,null,null,null,null,null,null,null,null,null,null,null,null,null,null,null,null,null,null,null,null,null,null,null,null,null,null,null,null,null,null,null,null,null,null,null,null,null,null,null,null,null,null,null,null,null,null,null,null,null,null,null,null,null,null,null,null,null,null,null,null,null,null,null,null,null,null,null,null,null,null,null,null,null,null,null,null,null,null,null,null,null,null,null,null,null,null,null,null,null,null,null,{"$f":"'Tableau général'!A104","v":""},{"$f":"IF($DO102=\"\",\"\",'Tableau général'!C104)","v":""},{"$f":"IF($DO102=\"\",\"\",'Tableau général'!D104)","v":""},{"$f":"IF($DO102=\"\",\"\",'Tableau général'!E104)","v":""}]
[null,null,null,null,null,null,null,null,null,null,null,null,null,null,null,null,null,null,null,null,null,null,null,null,null,null,null,null,null,null,null,null,null,null,null,null,null,null,null,null,null,null,null,null,null,null,null,null,null,null,null,null,null,null,null,null,null,null,null,null,null,null,null,null,null,null,null,null,null,null,null,null,null,null,null,null,null,null,null,null,null,null,null,null,null,null,null,null,null,null,null,null,null,null,null,null,null,null,null,null,null,null,null,null,null,null,null,null,null,null,null,null,null,null,null,null,null,null,{"$f":"'Tableau général'!A105","v":""},{"$f":"IF($DO103=\"\",\"\",'Tableau général'!C105)","v":""},{"$f":"IF($DO103=\"\",\"\",'Tableau général'!D105)","v":""},{"$f":"IF($DO103=\"\",\"\",'Tableau général'!E105)","v":""}]
[null,null,null,null,null,null,null,null,null,null,null,null,null,null,null,null,null,null,null,null,null,null,null,null,null,null,null,null,null,null,null,null,null,null,null,null,null,null,null,null,null,null,null,null,null,null,null,null,null,null,null,null,null,null,null,null,null,null,null,null,null,null,null,null,null,null,null,null,null,null,null,null,null,null,null,null,null,null,null,null,null,null,null,null,null,null,null,null,null,null,null,null,null,null,null,null,null,null,null,null,null,null,null,null,null,null,null,null,null,null,null,null,null,null,null,null,null,null,{"$f":"'Tableau général'!A106","v":""},{"$f":"IF($DO104=\"\",\"\",'Tableau général'!C106)","v":""},{"$f":"IF($DO104=\"\",\"\",'Tableau général'!D106)","v":""},{"$f":"IF($DO104=\"\",\"\",'Tableau général'!E106)","v":""}]
[null,null,null,null,null,null,null,null,null,null,null,null,null,null,null,null,null,null,null,null,null,null,null,null,null,null,null,null,null,null,null,null,null,null,null,null,null,null,null,null,null,null,null,null,null,null,null,null,null,null,null,null,null,null,null,null,null,null,null,null,null,null,null,null,null,null,null,null,null,null,null,null,null,null,null,null,null,null,null,null,null,null,null,null,null,null,null,null,null,null,null,null,null,null,null,null,null,null,null,null,null,null,null,null,null,null,null,null,null,null,null,null,null,null,null,null,null,null,{"$f":"'Tableau général'!A107","v":""},{"$f":"IF($DO105=\"\",\"\",'Tableau général'!C107)","v":""},{"$f":"IF($DO105=\"\",\"\",'Tableau général'!D107)","v":""},{"$f":"IF($DO105=\"\",\"\",'Tableau général'!E107)","v":""}]
[null,null,null,null,null,null,null,null,null,null,null,null,null,null,null,null,null,null,null,null,null,null,null,null,null,null,null,null,null,null,null,null,null,null,null,null,null,null,null,null,null,null,null,null,null,null,null,null,null,null,null,null,null,null,null,null,null,null,null,null,null,null,null,null,null,null,null,null,null,null,null,null,null,null,null,null,null,null,null,null,null,null,null,null,null,null,null,null,null,null,null,null,null,null,null,null,null,null,null,null,null,null,null,null,null,null,null,null,null,null,null,null,null,null,null,null,null,null,{"$f":"'Tableau général'!A108","v":""},{"$f":"IF($DO106=\"\",\"\",'Tableau général'!C108)","v":""},{"$f":"IF($DO106=\"\",\"\",'Tableau général'!D108)","v":""},{"$f":"IF($DO106=\"\",\"\",'Tableau général'!E108)","v":""}]
[null,null,null,null,null,null,null,null,null,null,null,null,null,null,null,null,null,null,null,null,null,null,null,null,null,null,null,null,null,null,null,null,null,null,null,null,null,null,null,null,null,null,null,null,null,null,null,null,null,null,null,null,null,null,null,null,null,null,null,null,null,null,null,null,null,null,null,null,null,null,null,null,null,null,null,null,null,null,null,null,null,null,null,null,null,null,null,null,null,null,null,null,null,null,null,null,null,null,null,null,null,null,null,null,null,null,null,null,null,null,null,null,null,null,null,null,null,null,{"$f":"'Tableau général'!A109","v":""},{"$f":"IF($DO107=\"\",\"\",'Tableau général'!C109)","v":""},{"$f":"IF($DO107=\"\",\"\",'Tableau général'!D109)","v":""},{"$f":"IF($DO107=\"\",\"\",'Tableau général'!E109)","v":""}]
[null,null,null,null,null,null,null,null,null,null,null,null,null,null,null,null,null,null,null,null,null,null,null,null,null,null,null,null,null,null,null,null,null,null,null,null,null,null,null,null,null,null,null,null,null,null,null,null,null,null,null,null,null,null,null,null,null,null,null,null,null,null,null,null,null,null,null,null,null,null,null,null,null,null,null,null,null,null,null,null,null,null,null,null,null,null,null,null,null,null,null,null,null,null,null,null,null,null,null,null,null,null,null,null,null,null,null,null,null,null,null,null,null,null,null,null,null,null,{"$f":"'Tableau général'!A110","v":""},{"$f":"IF($DO108=\"\",\"\",'Tableau général'!C110)","v":""},{"$f":"IF($DO108=\"\",\"\",'Tableau général'!D110)","v":""},{"$f":"IF($DO108=\"\",\"\",'Tableau général'!E110)","v":""}]
[null,null,null,null,null,null,null,null,null,null,null,null,null,null,null,null,null,null,null,null,null,null,null,null,null,null,null,null,null,null,null,null,null,null,null,null,null,null,null,null,null,null,null,null,null,null,null,null,null,null,null,null,null,null,null,null,null,null,null,null,null,null,null,null,null,null,null,null,null,null,null,null,null,null,null,null,null,null,null,null,null,null,null,null,null,null,null,null,null,null,null,null,null,null,null,null,null,null,null,null,null,null,null,null,null,null,null,null,null,null,null,null,null,null,null,null,null,null,{"$f":"'Tableau général'!A111","v":""},{"$f":"IF($DO109=\"\",\"\",'Tableau général'!C111)","v":""},{"$f":"IF($DO109=\"\",\"\",'Tableau général'!D111)","v":""},{"$f":"IF($DO109=\"\",\"\",'Tableau général'!E111)","v":""}]
[null,null,null,null,null,null,null,null,null,null,null,null,null,null,null,null,null,null,null,null,null,null,null,null,null,null,null,null,null,null,null,null,null,null,null,null,null,null,null,null,null,null,null,null,null,null,null,null,null,null,null,null,null,null,null,null,null,null,null,null,null,null,null,null,null,null,null,null,null,null,null,null,null,null,null,null,null,null,null,null,null,null,null,null,null,null,null,null,null,null,null,null,null,null,null,null,null,null,null,null,null,null,null,null,null,null,null,null,null,null,null,null,null,null,null,null,null,null,{"$f":"'Tableau général'!A112","v":""},{"$f":"IF($DO110=\"\",\"\",'Tableau général'!C112)","v":""},{"$f":"IF($DO110=\"\",\"\",'Tableau général'!D112)","v":""},{"$f":"IF($DO110=\"\",\"\",'Tableau général'!E112)","v":""}]
[null,null,null,null,null,null,null,null,null,null,null,null,null,null,null,null,null,null,null,null,null,null,null,null,null,null,null,null,null,null,null,null,null,null,null,null,null,null,null,null,null,null,null,null,null,null,null,null,null,null,null,null,null,null,null,null,null,null,null,null,null,null,null,null,null,null,null,null,null,null,null,null,null,null,null,null,null,null,null,null,null,null,null,null,null,null,null,null,null,null,null,null,null,null,null,null,null,null,null,null,null,null,null,null,null,null,null,null,null,null,null,null,null,null,null,null,null,null,{"$f":"'Tableau général'!A113","v":""},{"$f":"IF($DO111=\"\",\"\",'Tableau général'!C113)","v":""},{"$f":"IF($DO111=\"\",\"\",'Tableau général'!D113)","v":""},{"$f":"IF($DO111=\"\",\"\",'Tableau général'!E113)","v":""}]
[null,null,null,null,null,null,null,null,null,null,null,null,null,null,null,null,null,null,null,null,null,null,null,null,null,null,null,null,null,null,null,null,null,null,null,null,null,null,null,null,null,null,null,null,null,null,null,null,null,null,null,null,null,null,null,null,null,null,null,null,null,null,null,null,null,null,null,null,null,null,null,null,null,null,null,null,null,null,null,null,null,null,null,null,null,null,null,null,null,null,null,null,null,null,null,null,null,null,null,null,null,null,null,null,null,null,null,null,null,null,null,null,null,null,null,null,null,null,{"$f":"'Tableau général'!A114","v":""},{"$f":"IF($DO112=\"\",\"\",'Tableau général'!C114)","v":""},{"$f":"IF($DO112=\"\",\"\",'Tableau général'!D114)","v":""},{"$f":"IF($DO112=\"\",\"\",'Tableau général'!E114)","v":""}]
[null,null,null,null,null,null,null,null,null,null,null,null,null,null,null,null,null,null,null,null,null,null,null,null,null,null,null,null,null,null,null,null,null,null,null,null,null,null,null,null,null,null,null,null,null,null,null,null,null,null,null,null,null,null,null,null,null,null,null,null,null,null,null,null,null,null,null,null,null,null,null,null,null,null,null,null,null,null,null,null,null,null,null,null,null,null,null,null,null,null,null,null,null,null,null,null,null,null,null,null,null,null,null,null,null,null,null,null,null,null,null,null,null,null,null,null,null,null,{"$f":"'Tableau général'!A115","v":""},{"$f":"IF($DO113=\"\",\"\",'Tableau général'!C115)","v":""},{"$f":"IF($DO113=\"\",\"\",'Tableau général'!D115)","v":""},{"$f":"IF($DO113=\"\",\"\",'Tableau général'!E115)","v":""}]
[null,null,null,null,null,null,null,null,null,null,null,null,null,null,null,null,null,null,null,null,null,null,null,null,null,null,null,null,null,null,null,null,null,null,null,null,null,null,null,null,null,null,null,null,null,null,null,null,null,null,null,null,null,null,null,null,null,null,null,null,null,null,null,null,null,null,null,null,null,null,null,null,null,null,null,null,null,null,null,null,null,null,null,null,null,null,null,null,null,null,null,null,null,null,null,null,null,null,null,null,null,null,null,null,null,null,null,null,null,null,null,null,null,null,null,null,null,null,{"$f":"'Tableau général'!A116","v":""},{"$f":"IF($DO114=\"\",\"\",'Tableau général'!C116)","v":""},{"$f":"IF($DO114=\"\",\"\",'Tableau général'!D116)","v":""},{"$f":"IF($DO114=\"\",\"\",'Tableau général'!E116)","v":""}]
[null,null,null,null,null,null,null,null,null,null,null,null,null,null,null,null,null,null,null,null,null,null,null,null,null,null,null,null,null,null,null,null,null,null,null,null,null,null,null,null,null,null,null,null,null,null,null,null,null,null,null,null,null,null,null,null,null,null,null,null,null,null,null,null,null,null,null,null,null,null,null,null,null,null,null,null,null,null,null,null,null,null,null,null,null,null,null,null,null,null,null,null,null,null,null,null,null,null,null,null,null,null,null,null,null,null,null,null,null,null,null,null,null,null,null,null,null,null,{"$f":"'Tableau général'!A117","v":""},{"$f":"IF($DO115=\"\",\"\",'Tableau général'!C117)","v":""},{"$f":"IF($DO115=\"\",\"\",'Tableau général'!D117)","v":""},{"$f":"IF($DO115=\"\",\"\",'Tableau général'!E117)","v":""}]
[null,null,null,null,null,null,null,null,null,null,null,null,null,null,null,null,null,null,null,null,null,null,null,null,null,null,null,null,null,null,null,null,null,null,null,null,null,null,null,null,null,null,null,null,null,null,null,null,null,null,null,null,null,null,null,null,null,null,null,null,null,null,null,null,null,null,null,null,null,null,null,null,null,null,null,null,null,null,null,null,null,null,null,null,null,null,null,null,null,null,null,null,null,null,null,null,null,null,null,null,null,null,null,null,null,null,null,null,null,null,null,null,null,null,null,null,null,null,{"$f":"'Tableau général'!A118","v":""},{"$f":"IF($DO116=\"\",\"\",'Tableau général'!C118)","v":""},{"$f":"IF($DO116=\"\",\"\",'Tableau général'!D118)","v":""},{"$f":"IF($DO116=\"\",\"\",'Tableau général'!E118)","v":""}]
[null,null,null,null,null,null,null,null,null,null,null,null,null,null,null,null,null,null,null,null,null,null,null,null,null,null,null,null,null,null,null,null,null,null,null,null,null,null,null,null,null,null,null,null,null,null,null,null,null,null,null,null,null,null,null,null,null,null,null,null,null,null,null,null,null,null,null,null,null,null,null,null,null,null,null,null,null,null,null,null,null,null,null,null,null,null,null,null,null,null,null,null,null,null,null,null,null,null,null,null,null,null,null,null,null,null,null,null,null,null,null,null,null,null,null,null,null,null,{"$f":"'Tableau général'!A119","v":""},{"$f":"IF($DO117=\"\",\"\",'Tableau général'!C119)","v":""},{"$f":"IF($DO117=\"\",\"\",'Tableau général'!D119)","v":""},{"$f":"IF($DO117=\"\",\"\",'Tableau général'!E119)","v":""}]
[null,null,null,null,null,null,null,null,null,null,null,null,null,null,null,null,null,null,null,null,null,null,null,null,null,null,null,null,null,null,null,null,null,null,null,null,null,null,null,null,null,null,null,null,null,null,null,null,null,null,null,null,null,null,null,null,null,null,null,null,null,null,null,null,null,null,null,null,null,null,null,null,null,null,null,null,null,null,null,null,null,null,null,null,null,null,null,null,null,null,null,null,null,null,null,null,null,null,null,null,null,null,null,null,null,null,null,null,null,null,null,null,null,null,null,null,null,null,{"$f":"'Tableau général'!A120","v":""},{"$f":"IF($DO118=\"\",\"\",'Tableau général'!C120)","v":""},{"$f":"IF($DO118=\"\",\"\",'Tableau général'!D120)","v":""},{"$f":"IF($DO118=\"\",\"\",'Tableau général'!E120)","v":""}]
[null,null,null,null,null,null,null,null,null,null,null,null,null,null,null,null,null,null,null,null,null,null,null,null,null,null,null,null,null,null,null,null,null,null,null,null,null,null,null,null,null,null,null,null,null,null,null,null,null,null,null,null,null,null,null,null,null,null,null,null,null,null,null,null,null,null,null,null,null,null,null,null,null,null,null,null,null,null,null,null,null,null,null,null,null,null,null,null,null,null,null,null,null,null,null,null,null,null,null,null,null,null,null,null,null,null,null,null,null,null,null,null,null,null,null,null,null,null,{"$f":"'Tableau général'!A121","v":""},{"$f":"IF($DO119=\"\",\"\",'Tableau général'!C121)","v":""},{"$f":"IF($DO119=\"\",\"\",'Tableau général'!D121)","v":""},{"$f":"IF($DO119=\"\",\"\",'Tableau général'!E121)","v":""}]
[null,null,null,null,null,null,null,null,null,null,null,null,null,null,null,null,null,null,null,null,null,null,null,null,null,null,null,null,null,null,null,null,null,null,null,null,null,null,null,null,null,null,null,null,null,null,null,null,null,null,null,null,null,null,null,null,null,null,null,null,null,null,null,null,null,null,null,null,null,null,null,null,null,null,null,null,null,null,null,null,null,null,null,null,null,null,null,null,null,null,null,null,null,null,null,null,null,null,null,null,null,null,null,null,null,null,null,null,null,null,null,null,null,null,null,null,null,null,{"$f":"'Tableau général'!A122","v":""},{"$f":"IF($DO120=\"\",\"\",'Tableau général'!C122)","v":""},{"$f":"IF($DO120=\"\",\"\",'Tableau général'!D122)","v":""},{"$f":"IF($DO120=\"\",\"\",'Tableau général'!E122)","v":""}]
[null,null,null,null,null,null,null,null,null,null,null,null,null,null,null,null,null,null,null,null,null,null,null,null,null,null,null,null,null,null,null,null,null,null,null,null,null,null,null,null,null,null,null,null,null,null,null,null,null,null,null,null,null,null,null,null,null,null,null,null,null,null,null,null,null,null,null,null,null,null,null,null,null,null,null,null,null,null,null,null,null,null,null,null,null,null,null,null,null,null,null,null,null,null,null,null,null,null,null,null,null,null,null,null,null,null,null,null,null,null,null,null,null,null,null,null,null,null,{"$f":"'Tableau général'!A123","v":""},{"$f":"IF($DO121=\"\",\"\",'Tableau général'!C123)","v":""},{"$f":"IF($DO121=\"\",\"\",'Tableau général'!D123)","v":""},{"$f":"IF($DO121=\"\",\"\",'Tableau général'!E123)","v":""}]
[null,null,null,null,null,null,null,null,null,null,null,null,null,null,null,null,null,null,null,null,null,null,null,null,null,null,null,null,null,null,null,null,null,null,null,null,null,null,null,null,null,null,null,null,null,null,null,null,null,null,null,null,null,null,null,null,null,null,null,null,null,null,null,null,null,null,null,null,null,null,null,null,null,null,null,null,null,null,null,null,null,null,null,null,null,null,null,null,null,null,null,null,null,null,null,null,null,null,null,null,null,null,null,null,null,null,null,null,null,null,null,null,null,null,null,null,null,null,{"$f":"'Tableau général'!A124","v":""},{"$f":"IF($DO122=\"\",\"\",'Tableau général'!C124)","v":""},{"$f":"IF($DO122=\"\",\"\",'Tableau général'!D124)","v":""},{"$f":"IF($DO122=\"\",\"\",'Tableau général'!E124)","v":""}]
[null,null,null,null,null,null,null,null,null,null,null,null,null,null,null,null,null,null,null,null,null,null,null,null,null,null,null,null,null,null,null,null,null,null,null,null,null,null,null,null,null,null,null,null,null,null,null,null,null,null,null,null,null,null,null,null,null,null,null,null,null,null,null,null,null,null,null,null,null,null,null,null,null,null,null,null,null,null,null,null,null,null,null,null,null,null,null,null,null,null,null,null,null,null,null,null,null,null,null,null,null,null,null,null,null,null,null,null,null,null,null,null,null,null,null,null,null,null,{"$f":"'Tableau général'!A125","v":""},{"$f":"IF($DO123=\"\",\"\",'Tableau général'!C125)","v":""},{"$f":"IF($DO123=\"\",\"\",'Tableau général'!D125)","v":""},{"$f":"IF($DO123=\"\",\"\",'Tableau général'!E125)","v":""}]
[null,null,null,null,null,null,null,null,null,null,null,null,null,null,null,null,null,null,null,null,null,null,null,null,null,null,null,null,null,null,null,null,null,null,null,null,null,null,null,null,null,null,null,null,null,null,null,null,null,null,null,null,null,null,null,null,null,null,null,null,null,null,null,null,null,null,null,null,null,null,null,null,null,null,null,null,null,null,null,null,null,null,null,null,null,null,null,null,null,null,null,null,null,null,null,null,null,null,null,null,null,null,null,null,null,null,null,null,null,null,null,null,null,null,null,null,null,null,{"$f":"'Tableau général'!A126","v":""},{"$f":"IF($DO124=\"\",\"\",'Tableau général'!C126)","v":""},{"$f":"IF($DO124=\"\",\"\",'Tableau général'!D126)","v":""},{"$f":"IF($DO124=\"\",\"\",'Tableau général'!E126)","v":""}]
[null,null,null,null,null,null,null,null,null,null,null,null,null,null,null,null,null,null,null,null,null,null,null,null,null,null,null,null,null,null,null,null,null,null,null,null,null,null,null,null,null,null,null,null,null,null,null,null,null,null,null,null,null,null,null,null,null,null,null,null,null,null,null,null,null,null,null,null,null,null,null,null,null,null,null,null,null,null,null,null,null,null,null,null,null,null,null,null,null,null,null,null,null,null,null,null,null,null,null,null,null,null,null,null,null,null,null,null,null,null,null,null,null,null,null,null,null,null,{"$f":"'Tableau général'!A127","v":""},{"$f":"IF($DO125=\"\",\"\",'Tableau général'!C127)","v":""},{"$f":"IF($DO125=\"\",\"\",'Tableau général'!D127)","v":""},{"$f":"IF($DO125=\"\",\"\",'Tableau général'!E127)","v":""}]
[null,null,null,null,null,null,null,null,null,null,null,null,null,null,null,null,null,null,null,null,null,null,null,null,null,null,null,null,null,null,null,null,null,null,null,null,null,null,null,null,null,null,null,null,null,null,null,null,null,null,null,null,null,null,null,null,null,null,null,null,null,null,null,null,null,null,null,null,null,null,null,null,null,null,null,null,null,null,null,null,null,null,null,null,null,null,null,null,null,null,null,null,null,null,null,null,null,null,null,null,null,null,null,null,null,null,null,null,null,null,null,null,null,null,null,null,null,null,{"$f":"'Tableau général'!A128","v":""},{"$f":"IF($DO126=\"\",\"\",'Tableau général'!C128)","v":""},{"$f":"IF($DO126=\"\",\"\",'Tableau général'!D128)","v":""},{"$f":"IF($DO126=\"\",\"\",'Tableau général'!E128)","v":""}]
[null,null,null,null,null,null,null,null,null,null,null,null,null,null,null,null,null,null,null,null,null,null,null,null,null,null,null,null,null,null,null,null,null,null,null,null,null,null,null,null,null,null,null,null,null,null,null,null,null,null,null,null,null,null,null,null,null,null,null,null,null,null,null,null,null,null,null,null,null,null,null,null,null,null,null,null,null,null,null,null,null,null,null,null,null,null,null,null,null,null,null,null,null,null,null,null,null,null,null,null,null,null,null,null,null,null,null,null,null,null,null,null,null,null,null,null,null,null,{"$f":"'Tableau général'!A129","v":""},{"$f":"IF($DO127=\"\",\"\",'Tableau général'!C129)","v":""},{"$f":"IF($DO127=\"\",\"\",'Tableau général'!D129)","v":""},{"$f":"IF($DO127=\"\",\"\",'Tableau général'!E129)","v":""}]
[null,null,null,null,null,null,null,null,null,null,null,null,null,null,null,null,null,null,null,null,null,null,null,null,null,null,null,null,null,null,null,null,null,null,null,null,null,null,null,null,null,null,null,null,null,null,null,null,null,null,null,null,null,null,null,null,null,null,null,null,null,null,null,null,null,null,null,null,null,null,null,null,null,null,null,null,null,null,null,null,null,null,null,null,null,null,null,null,null,null,null,null,null,null,null,null,null,null,null,null,null,null,null,null,null,null,null,null,null,null,null,null,null,null,null,null,null,null,{"$f":"'Tableau général'!A130","v":""},{"$f":"IF($DO128=\"\",\"\",'Tableau général'!C130)","v":""},{"$f":"IF($DO128=\"\",\"\",'Tableau général'!D130)","v":""},{"$f":"IF($DO128=\"\",\"\",'Tableau général'!E130)","v":""}]
[null,null,null,null,null,null,null,null,null,null,null,null,null,null,null,null,null,null,null,null,null,null,null,null,null,null,null,null,null,null,null,null,null,null,null,null,null,null,null,null,null,null,null,null,null,null,null,null,null,null,null,null,null,null,null,null,null,null,null,null,null,null,null,null,null,null,null,null,null,null,null,null,null,null,null,null,null,null,null,null,null,null,null,null,null,null,null,null,null,null,null,null,null,null,null,null,null,null,null,null,null,null,null,null,null,null,null,null,null,null,null,null,null,null,null,null,null,null,{"$f":"'Tableau général'!A131","v":""},{"$f":"IF($DO129=\"\",\"\",'Tableau général'!C131)","v":""},{"$f":"IF($DO129=\"\",\"\",'Tableau général'!D131)","v":""},{"$f":"IF($DO129=\"\",\"\",'Tableau général'!E131)","v":""}]
[null,null,null,null,null,null,null,null,null,null,null,null,null,null,null,null,null,null,null,null,null,null,null,null,null,null,null,null,null,null,null,null,null,null,null,null,null,null,null,null,null,null,null,null,null,null,null,null,null,null,null,null,null,null,null,null,null,null,null,null,null,null,null,null,null,null,null,null,null,null,null,null,null,null,null,null,null,null,null,null,null,null,null,null,null,null,null,null,null,null,null,null,null,null,null,null,null,null,null,null,null,null,null,null,null,null,null,null,null,null,null,null,null,null,null,null,null,null,{"$f":"'Tableau général'!A132","v":""},{"$f":"IF($DO130=\"\",\"\",'Tableau général'!C132)","v":""},{"$f":"IF($DO130=\"\",\"\",'Tableau général'!D132)","v":""},{"$f":"IF($DO130=\"\",\"\",'Tableau général'!E132)","v":""}]
[null,null,null,null,null,null,null,null,null,null,null,null,null,null,null,null,null,null,null,null,null,null,null,null,null,null,null,null,null,null,null,null,null,null,null,null,null,null,null,null,null,null,null,null,null,null,null,null,null,null,null,null,null,null,null,null,null,null,null,null,null,null,null,null,null,null,null,null,null,null,null,null,null,null,null,null,null,null,null,null,null,null,null,null,null,null,null,null,null,null,null,null,null,null,null,null,null,null,null,null,null,null,null,null,null,null,null,null,null,null,null,null,null,null,null,null,null,null,{"$f":"'Tableau général'!A133","v":""},{"$f":"IF($DO131=\"\",\"\",'Tableau général'!C133)","v":""},{"$f":"IF($DO131=\"\",\"\",'Tableau général'!D133)","v":""},{"$f":"IF($DO131=\"\",\"\",'Tableau général'!E133)","v":""}]
[null,null,null,null,null,null,null,null,null,null,null,null,null,null,null,null,null,null,null,null,null,null,null,null,null,null,null,null,null,null,null,null,null,null,null,null,null,null,null,null,null,null,null,null,null,null,null,null,null,null,null,null,null,null,null,null,null,null,null,null,null,null,null,null,null,null,null,null,null,null,null,null,null,null,null,null,null,null,null,null,null,null,null,null,null,null,null,null,null,null,null,null,null,null,null,null,null,null,null,null,null,null,null,null,null,null,null,null,null,null,null,null,null,null,null,null,null,null,{"$f":"'Tableau général'!A134","v":""},{"$f":"IF($DO132=\"\",\"\",'Tableau général'!C134)","v":""},{"$f":"IF($DO132=\"\",\"\",'Tableau général'!D134)","v":""},{"$f":"IF($DO132=\"\",\"\",'Tableau général'!E134)","v":""}]
[null,null,null,null,null,null,null,null,null,null,null,null,null,null,null,null,null,null,null,null,null,null,null,null,null,null,null,null,null,null,null,null,null,null,null,null,null,null,null,null,null,null,null,null,null,null,null,null,null,null,null,null,null,null,null,null,null,null,null,null,null,null,null,null,null,null,null,null,null,null,null,null,null,null,null,null,null,null,null,null,null,null,null,null,null,null,null,null,null,null,null,null,null,null,null,null,null,null,null,null,null,null,null,null,null,null,null,null,null,null,null,null,null,null,null,null,null,null,{"$f":"'Tableau général'!A135","v":""},{"$f":"IF($DO133=\"\",\"\",'Tableau général'!C135)","v":""},{"$f":"IF($DO133=\"\",\"\",'Tableau général'!D135)","v":""},{"$f":"IF($DO133=\"\",\"\",'Tableau général'!E135)","v":""}]
[null,null,null,null,null,null,null,null,null,null,null,null,null,null,null,null,null,null,null,null,null,null,null,null,null,null,null,null,null,null,null,null,null,null,null,null,null,null,null,null,null,null,null,null,null,null,null,null,null,null,null,null,null,null,null,null,null,null,null,null,null,null,null,null,null,null,null,null,null,null,null,null,null,null,null,null,null,null,null,null,null,null,null,null,null,null,null,null,null,null,null,null,null,null,null,null,null,null,null,null,null,null,null,null,null,null,null,null,null,null,null,null,null,null,null,null,null,null,{"$f":"'Tableau général'!A136","v":""},{"$f":"IF($DO134=\"\",\"\",'Tableau général'!C136)","v":""},{"$f":"IF($DO134=\"\",\"\",'Tableau général'!D136)","v":""},{"$f":"IF($DO134=\"\",\"\",'Tableau général'!E136)","v":""}]
[null,null,null,null,null,null,null,null,null,null,null,null,null,null,null,null,null,null,null,null,null,null,null,null,null,null,null,null,null,null,null,null,null,null,null,null,null,null,null,null,null,null,null,null,null,null,null,null,null,null,null,null,null,null,null,null,null,null,null,null,null,null,null,null,null,null,null,null,null,null,null,null,null,null,null,null,null,null,null,null,null,null,null,null,null,null,null,null,null,null,null,null,null,null,null,null,null,null,null,null,null,null,null,null,null,null,null,null,null,null,null,null,null,null,null,null,null,null,{"$f":"'Tableau général'!A137","v":""},{"$f":"IF($DO135=\"\",\"\",'Tableau général'!C137)","v":""},{"$f":"IF($DO135=\"\",\"\",'Tableau général'!D137)","v":""},{"$f":"IF($DO135=\"\",\"\",'Tableau général'!E137)","v":""}]
[null,null,null,null,null,null,null,null,null,null,null,null,null,null,null,null,null,null,null,null,null,null,null,null,null,null,null,null,null,null,null,null,null,null,null,null,null,null,null,null,null,null,null,null,null,null,null,null,null,null,null,null,null,null,null,null,null,null,null,null,null,null,null,null,null,null,null,null,null,null,null,null,null,null,null,null,null,null,null,null,null,null,null,null,null,null,null,null,null,null,null,null,null,null,null,null,null,null,null,null,null,null,null,null,null,null,null,null,null,null,null,null,null,null,null,null,null,null,{"$f":"'Tableau général'!A138","v":""},{"$f":"IF($DO136=\"\",\"\",'Tableau général'!C138)","v":""},{"$f":"IF($DO136=\"\",\"\",'Tableau général'!D138)","v":""},{"$f":"IF($DO136=\"\",\"\",'Tableau général'!E138)","v":""}]
[null,null,null,null,null,null,null,null,null,null,null,null,null,null,null,null,null,null,null,null,null,null,null,null,null,null,null,null,null,null,null,null,null,null,null,null,null,null,null,null,null,null,null,null,null,null,null,null,null,null,null,null,null,null,null,null,null,null,null,null,null,null,null,null,null,null,null,null,null,null,null,null,null,null,null,null,null,null,null,null,null,null,null,null,null,null,null,null,null,null,null,null,null,null,null,null,null,null,null,null,null,null,null,null,null,null,null,null,null,null,null,null,null,null,null,null,null,null,{"$f":"'Tableau général'!A139","v":""},{"$f":"IF($DO137=\"\",\"\",'Tableau général'!C139)","v":""},{"$f":"IF($DO137=\"\",\"\",'Tableau général'!D139)","v":""},{"$f":"IF($DO137=\"\",\"\",'Tableau général'!E139)","v":""}]
[null,null,null,null,null,null,null,null,null,null,null,null,null,null,null,null,null,null,null,null,null,null,null,null,null,null,null,null,null,null,null,null,null,null,null,null,null,null,null,null,null,null,null,null,null,null,null,null,null,null,null,null,null,null,null,null,null,null,null,null,null,null,null,null,null,null,null,null,null,null,null,null,null,null,null,null,null,null,null,null,null,null,null,null,null,null,null,null,null,null,null,null,null,null,null,null,null,null,null,null,null,null,null,null,null,null,null,null,null,null,null,null,null,null,null,null,null,null,{"$f":"'Tableau général'!A140","v":""},{"$f":"IF($DO138=\"\",\"\",'Tableau général'!C140)","v":""},{"$f":"IF($DO138=\"\",\"\",'Tableau général'!D140)","v":""},{"$f":"IF($DO138=\"\",\"\",'Tableau général'!E140)","v":""}]
[null,null,null,null,null,null,null,null,null,null,null,null,null,null,null,null,null,null,null,null,null,null,null,null,null,null,null,null,null,null,null,null,null,null,null,null,null,null,null,null,null,null,null,null,null,null,null,null,null,null,null,null,null,null,null,null,null,null,null,null,null,null,null,null,null,null,null,null,null,null,null,null,null,null,null,null,null,null,null,null,null,null,null,null,null,null,null,null,null,null,null,null,null,null,null,null,null,null,null,null,null,null,null,null,null,null,null,null,null,null,null,null,null,null,null,null,null,null,{"$f":"'Tableau général'!A141","v":""},{"$f":"IF($DO139=\"\",\"\",'Tableau général'!C141)","v":""},{"$f":"IF($DO139=\"\",\"\",'Tableau général'!D141)","v":""},{"$f":"IF($DO139=\"\",\"\",'Tableau général'!E141)","v":""}]
[null,null,null,null,null,null,null,null,null,null,null,null,null,null,null,null,null,null,null,null,null,null,null,null,null,null,null,null,null,null,null,null,null,null,null,null,null,null,null,null,null,null,null,null,null,null,null,null,null,null,null,null,null,null,null,null,null,null,null,null,null,null,null,null,null,null,null,null,null,null,null,null,null,null,null,null,null,null,null,null,null,null,null,null,null,null,null,null,null,null,null,null,null,null,null,null,null,null,null,null,null,null,null,null,null,null,null,null,null,null,null,null,null,null,null,null,null,null,{"$f":"'Tableau général'!A142","v":""},{"$f":"IF($DO140=\"\",\"\",'Tableau général'!C142)","v":""},{"$f":"IF($DO140=\"\",\"\",'Tableau général'!D142)","v":""},{"$f":"IF($DO140=\"\",\"\",'Tableau général'!E142)","v":""}]
[null,null,null,null,null,null,null,null,null,null,null,null,null,null,null,null,null,null,null,null,null,null,null,null,null,null,null,null,null,null,null,null,null,null,null,null,null,null,null,null,null,null,null,null,null,null,null,null,null,null,null,null,null,null,null,null,null,null,null,null,null,null,null,null,null,null,null,null,null,null,null,null,null,null,null,null,null,null,null,null,null,null,null,null,null,null,null,null,null,null,null,null,null,null,null,null,null,null,null,null,null,null,null,null,null,null,null,null,null,null,null,null,null,null,null,null,null,null,{"$f":"'Tableau général'!A143","v":""},{"$f":"IF($DO141=\"\",\"\",'Tableau général'!C143)","v":""},{"$f":"IF($DO141=\"\",\"\",'Tableau général'!D143)","v":""},{"$f":"IF($DO141=\"\",\"\",'Tableau général'!E143)","v":""}]
[null,null,null,null,null,null,null,null,null,null,null,null,null,null,null,null,null,null,null,null,null,null,null,null,null,null,null,null,null,null,null,null,null,null,null,null,null,null,null,null,null,null,null,null,null,null,null,null,null,null,null,null,null,null,null,null,null,null,null,null,null,null,null,null,null,null,null,null,null,null,null,null,null,null,null,null,null,null,null,null,null,null,null,null,null,null,null,null,null,null,null,null,null,null,null,null,null,null,null,null,null,null,null,null,null,null,null,null,null,null,null,null,null,null,null,null,null,null,{"$f":"'Tableau général'!A144","v":""},{"$f":"IF($DO142=\"\",\"\",'Tableau général'!C144)","v":""},{"$f":"IF($DO142=\"\",\"\",'Tableau général'!D144)","v":""},{"$f":"IF($DO142=\"\",\"\",'Tableau général'!E144)","v":""}]
[null,null,null,null,null,null,null,null,null,null,null,null,null,null,null,null,null,null,null,null,null,null,null,null,null,null,null,null,null,null,null,null,null,null,null,null,null,null,null,null,null,null,null,null,null,null,null,null,null,null,null,null,null,null,null,null,null,null,null,null,null,null,null,null,null,null,null,null,null,null,null,null,null,null,null,null,null,null,null,null,null,null,null,null,null,null,null,null,null,null,null,null,null,null,null,null,null,null,null,null,null,null,null,null,null,null,null,null,null,null,null,null,null,null,null,null,null,null,{"$f":"'Tableau général'!A145","v":""},{"$f":"IF($DO143=\"\",\"\",'Tableau général'!C145)","v":""},{"$f":"IF($DO143=\"\",\"\",'Tableau général'!D145)","v":""},{"$f":"IF($DO143=\"\",\"\",'Tableau général'!E145)","v":""}]
[null,null,null,null,null,null,null,null,null,null,null,null,null,null,null,null,null,null,null,null,null,null,null,null,null,null,null,null,null,null,null,null,null,null,null,null,null,null,null,null,null,null,null,null,null,null,null,null,null,null,null,null,null,null,null,null,null,null,null,null,null,null,null,null,null,null,null,null,null,null,null,null,null,null,null,null,null,null,null,null,null,null,null,null,null,null,null,null,null,null,null,null,null,null,null,null,null,null,null,null,null,null,null,null,null,null,null,null,null,null,null,null,null,null,null,null,null,null,{"$f":"'Tableau général'!A146","v":""},{"$f":"IF($DO144=\"\",\"\",'Tableau général'!C146)","v":""},{"$f":"IF($DO144=\"\",\"\",'Tableau général'!D146)","v":""},{"$f":"IF($DO144=\"\",\"\",'Tableau général'!E146)","v":""}]
[null,null,null,null,null,null,null,null,null,null,null,null,null,null,null,null,null,null,null,null,null,null,null,null,null,null,null,null,null,null,null,null,null,null,null,null,null,null,null,null,null,null,null,null,null,null,null,null,null,null,null,null,null,null,null,null,null,null,null,null,null,null,null,null,null,null,null,null,null,null,null,null,null,null,null,null,null,null,null,null,null,null,null,null,null,null,null,null,null,null,null,null,null,null,null,null,null,null,null,null,null,null,null,null,null,null,null,null,null,null,null,null,null,null,null,null,null,null,{"$f":"'Tableau général'!A147","v":""},{"$f":"IF($DO145=\"\",\"\",'Tableau général'!C147)","v":""},{"$f":"IF($DO145=\"\",\"\",'Tableau général'!D147)","v":""},{"$f":"IF($DO145=\"\",\"\",'Tableau général'!E147)","v":""}]
[null,null,null,null,null,null,null,null,null,null,null,null,null,null,null,null,null,null,null,null,null,null,null,null,null,null,null,null,null,null,null,null,null,null,null,null,null,null,null,null,null,null,null,null,null,null,null,null,null,null,null,null,null,null,null,null,null,null,null,null,null,null,null,null,null,null,null,null,null,null,null,null,null,null,null,null,null,null,null,null,null,null,null,null,null,null,null,null,null,null,null,null,null,null,null,null,null,null,null,null,null,null,null,null,null,null,null,null,null,null,null,null,null,null,null,null,null,null,{"$f":"'Tableau général'!A148","v":""},{"$f":"IF($DO146=\"\",\"\",'Tableau général'!C148)","v":""},{"$f":"IF($DO146=\"\",\"\",'Tableau général'!D148)","v":""},{"$f":"IF($DO146=\"\",\"\",'Tableau général'!E148)","v":""}]
[null,null,null,null,null,null,null,null,null,null,null,null,null,null,null,null,null,null,null,null,null,null,null,null,null,null,null,null,null,null,null,null,null,null,null,null,null,null,null,null,null,null,null,null,null,null,null,null,null,null,null,null,null,null,null,null,null,null,null,null,null,null,null,null,null,null,null,null,null,null,null,null,null,null,null,null,null,null,null,null,null,null,null,null,null,null,null,null,null,null,null,null,null,null,null,null,null,null,null,null,null,null,null,null,null,null,null,null,null,null,null,null,null,null,null,null,null,null,{"$f":"'Tableau général'!A149","v":""},{"$f":"IF($DO147=\"\",\"\",'Tableau général'!C149)","v":""},{"$f":"IF($DO147=\"\",\"\",'Tableau général'!D149)","v":""},{"$f":"IF($DO147=\"\",\"\",'Tableau général'!E149)","v":""}]
[null,null,null,null,null,null,null,null,null,null,null,null,null,null,null,null,null,null,null,null,null,null,null,null,null,null,null,null,null,null,null,null,null,null,null,null,null,null,null,null,null,null,null,null,null,null,null,null,null,null,null,null,null,null,null,null,null,null,null,null,null,null,null,null,null,null,null,null,null,null,null,null,null,null,null,null,null,null,null,null,null,null,null,null,null,null,null,null,null,null,null,null,null,null,null,null,null,null,null,null,null,null,null,null,null,null,null,null,null,null,null,null,null,null,null,null,null,null,{"$f":"'Tableau général'!A150","v":""},{"$f":"IF($DO148=\"\",\"\",'Tableau général'!C150)","v":""},{"$f":"IF($DO148=\"\",\"\",'Tableau général'!D150)","v":""},{"$f":"IF($DO148=\"\",\"\",'Tableau général'!E150)","v":""}]
[null,null,null,null,null,null,null,null,null,null,null,null,null,null,null,null,null,null,null,null,null,null,null,null,null,null,null,null,null,null,null,null,null,null,null,null,null,null,null,null,null,null,null,null,null,null,null,null,null,null,null,null,null,null,null,null,null,null,null,null,null,null,null,null,null,null,null,null,null,null,null,null,null,null,null,null,null,null,null,null,null,null,null,null,null,null,null,null,null,null,null,null,null,null,null,null,null,null,null,null,null,null,null,null,null,null,null,null,null,null,null,null,null,null,null,null,null,null,{"$f":"'Tableau général'!A151","v":""},{"$f":"IF($DO149=\"\",\"\",'Tableau général'!C151)","v":""},{"$f":"IF($DO149=\"\",\"\",'Tableau général'!D151)","v":""},{"$f":"IF($DO149=\"\",\"\",'Tableau général'!E151)","v":""}]
[null,null,null,null,null,null,null,null,null,null,null,null,null,null,null,null,null,null,null,null,null,null,null,null,null,null,null,null,null,null,null,null,null,null,null,null,null,null,null,null,null,null,null,null,null,null,null,null,null,null,null,null,null,null,null,null,null,null,null,null,null,null,null,null,null,null,null,null,null,null,null,null,null,null,null,null,null,null,null,null,null,null,null,null,null,null,null,null,null,null,null,null,null,null,null,null,null,null,null,null,null,null,null,null,null,null,null,null,null,null,null,null,null,null,null,null,null,null,{"$f":"'Tableau général'!A152","v":""},{"$f":"IF($DO150=\"\",\"\",'Tableau général'!C152)","v":""},{"$f":"IF($DO150=\"\",\"\",'Tableau général'!D152)","v":""},{"$f":"IF($DO150=\"\",\"\",'Tableau général'!E152)","v":""}]
[null,null,null,null,null,null,null,null,null,null,null,null,null,null,null,null,null,null,null,null,null,null,null,null,null,null,null,null,null,null,null,null,null,null,null,null,null,null,null,null,null,null,null,null,null,null,null,null,null,null,null,null,null,null,null,null,null,null,null,null,null,null,null,null,null,null,null,null,null,null,null,null,null,null,null,null,null,null,null,null,null,null,null,null,null,null,null,null,null,null,null,null,null,null,null,null,null,null,null,null,null,null,null,null,null,null,null,null,null,null,null,null,null,null,null,null,null,null,{"$f":"'Tableau général'!A153","v":""},{"$f":"IF($DO151=\"\",\"\",'Tableau général'!C153)","v":""},{"$f":"IF($DO151=\"\",\"\",'Tableau général'!D153)","v":""},{"$f":"IF($DO151=\"\",\"\",'Tableau général'!E153)","v":""}]
[null,null,null,null,null,null,null,null,null,null,null,null,null,null,null,null,null,null,null,null,null,null,null,null,null,null,null,null,null,null,null,null,null,null,null,null,null,null,null,null,null,null,null,null,null,null,null,null,null,null,null,null,null,null,null,null,null,null,null,null,null,null,null,null,null,null,null,null,null,null,null,null,null,null,null,null,null,null,null,null,null,null,null,null,null,null,null,null,null,null,null,null,null,null,null,null,null,null,null,null,null,null,null,null,null,null,null,null,null,null,null,null,null,null,null,null,null,null,{"$f":"'Tableau général'!A154","v":""},{"$f":"IF($DO152=\"\",\"\",'Tableau général'!C154)","v":""},{"$f":"IF($DO152=\"\",\"\",'Tableau général'!D154)","v":""},{"$f":"IF($DO152=\"\",\"\",'Tableau général'!E154)","v":""}]
[null,null,null,null,null,null,null,null,null,null,null,null,null,null,null,null,null,null,null,null,null,null,null,null,null,null,null,null,null,null,null,null,null,null,null,null,null,null,null,null,null,null,null,null,null,null,null,null,null,null,null,null,null,null,null,null,null,null,null,null,null,null,null,null,null,null,null,null,null,null,null,null,null,null,null,null,null,null,null,null,null,null,null,null,null,null,null,null,null,null,null,null,null,null,null,null,null,null,null,null,null,null,null,null,null,null,null,null,null,null,null,null,null,null,null,null,null,null,{"$f":"'Tableau général'!A155","v":""},{"$f":"IF($DO153=\"\",\"\",'Tableau général'!C155)","v":""},{"$f":"IF($DO153=\"\",\"\",'Tableau général'!D155)","v":""},{"$f":"IF($DO153=\"\",\"\",'Tableau général'!E155)","v":""}]
[null,null,null,null,null,null,null,null,null,null,null,null,null,null,null,null,null,null,null,null,null,null,null,null,null,null,null,null,null,null,null,null,null,null,null,null,null,null,null,null,null,null,null,null,null,null,null,null,null,null,null,null,null,null,null,null,null,null,null,null,null,null,null,null,null,null,null,null,null,null,null,null,null,null,null,null,null,null,null,null,null,null,null,null,null,null,null,null,null,null,null,null,null,null,null,null,null,null,null,null,null,null,null,null,null,null,null,null,null,null,null,null,null,null,null,null,null,null,{"$f":"'Tableau général'!A156","v":""},{"$f":"IF($DO154=\"\",\"\",'Tableau général'!C156)","v":""},{"$f":"IF($DO154=\"\",\"\",'Tableau général'!D156)","v":""},{"$f":"IF($DO154=\"\",\"\",'Tableau général'!E156)","v":""}]
[null,null,null,null,null,null,null,null,null,null,null,null,null,null,null,null,null,null,null,null,null,null,null,null,null,null,null,null,null,null,null,null,null,null,null,null,null,null,null,null,null,null,null,null,null,null,null,null,null,null,null,null,null,null,null,null,null,null,null,null,null,null,null,null,null,null,null,null,null,null,null,null,null,null,null,null,null,null,null,null,null,null,null,null,null,null,null,null,null,null,null,null,null,null,null,null,null,null,null,null,null,null,null,null,null,null,null,null,null,null,null,null,null,null,null,null,null,null,{"$f":"'Tableau général'!A157","v":""},{"$f":"IF($DO155=\"\",\"\",'Tableau général'!C157)","v":""},{"$f":"IF($DO155=\"\",\"\",'Tableau général'!D157)","v":""},{"$f":"IF($DO155=\"\",\"\",'Tableau général'!E157)","v":""}]
[null,null,null,null,null,null,null,null,null,null,null,null,null,null,null,null,null,null,null,null,null,null,null,null,null,null,null,null,null,null,null,null,null,null,null,null,null,null,null,null,null,null,null,null,null,null,null,null,null,null,null,null,null,null,null,null,null,null,null,null,null,null,null,null,null,null,null,null,null,null,null,null,null,null,null,null,null,null,null,null,null,null,null,null,null,null,null,null,null,null,null,null,null,null,null,null,null,null,null,null,null,null,null,null,null,null,null,null,null,null,null,null,null,null,null,null,null,null,{"$f":"'Tableau général'!A158","v":""},{"$f":"IF($DO156=\"\",\"\",'Tableau général'!C158)","v":""},{"$f":"IF($DO156=\"\",\"\",'Tableau général'!D158)","v":""},{"$f":"IF($DO156=\"\",\"\",'Tableau général'!E158)","v":""}]
[null,null,null,null,null,null,null,null,null,null,null,null,null,null,null,null,null,null,null,null,null,null,null,null,null,null,null,null,null,null,null,null,null,null,null,null,null,null,null,null,null,null,null,null,null,null,null,null,null,null,null,null,null,null,null,null,null,null,null,null,null,null,null,null,null,null,null,null,null,null,null,null,null,null,null,null,null,null,null,null,null,null,null,null,null,null,null,null,null,null,null,null,null,null,null,null,null,null,null,null,null,null,null,null,null,null,null,null,null,null,null,null,null,null,null,null,null,null,{"$f":"'Tableau général'!A159","v":""},{"$f":"IF($DO157=\"\",\"\",'Tableau général'!C159)","v":""},{"$f":"IF($DO157=\"\",\"\",'Tableau général'!D159)","v":""},{"$f":"IF($DO157=\"\",\"\",'Tableau général'!E159)","v":""}]
[null,null,null,null,null,null,null,null,null,null,null,null,null,null,null,null,null,null,null,null,null,null,null,null,null,null,null,null,null,null,null,null,null,null,null,null,null,null,null,null,null,null,null,null,null,null,null,null,null,null,null,null,null,null,null,null,null,null,null,null,null,null,null,null,null,null,null,null,null,null,null,null,null,null,null,null,null,null,null,null,null,null,null,null,null,null,null,null,null,null,null,null,null,null,null,null,null,null,null,null,null,null,null,null,null,null,null,null,null,null,null,null,null,null,null,null,null,null,{"$f":"'Tableau général'!A160","v":""},{"$f":"IF($DO158=\"\",\"\",'Tableau général'!C160)","v":""},{"$f":"IF($DO158=\"\",\"\",'Tableau général'!D160)","v":""},{"$f":"IF($DO158=\"\",\"\",'Tableau général'!E160)","v":""}]
[null,null,null,null,null,null,null,null,null,null,null,null,null,null,null,null,null,null,null,null,null,null,null,null,null,null,null,null,null,null,null,null,null,null,null,null,null,null,null,null,null,null,null,null,null,null,null,null,null,null,null,null,null,null,null,null,null,null,null,null,null,null,null,null,null,null,null,null,null,null,null,null,null,null,null,null,null,null,null,null,null,null,null,null,null,null,null,null,null,null,null,null,null,null,null,null,null,null,null,null,null,null,null,null,null,null,null,null,null,null,null,null,null,null,null,null,null,null,{"$f":"'Tableau général'!A161","v":""},{"$f":"IF($DO159=\"\",\"\",'Tableau général'!C161)","v":""},{"$f":"IF($DO159=\"\",\"\",'Tableau général'!D161)","v":""},{"$f":"IF($DO159=\"\",\"\",'Tableau général'!E161)","v":""}]
[null,null,null,null,null,null,null,null,null,null,null,null,null,null,null,null,null,null,null,null,null,null,null,null,null,null,null,null,null,null,null,null,null,null,null,null,null,null,null,null,null,null,null,null,null,null,null,null,null,null,null,null,null,null,null,null,null,null,null,null,null,null,null,null,null,null,null,null,null,null,null,null,null,null,null,null,null,null,null,null,null,null,null,null,null,null,null,null,null,null,null,null,null,null,null,null,null,null,null,null,null,null,null,null,null,null,null,null,null,null,null,null,null,null,null,null,null,null,{"$f":"'Tableau général'!A162","v":""},{"$f":"IF($DO160=\"\",\"\",'Tableau général'!C162)","v":""},{"$f":"IF($DO160=\"\",\"\",'Tableau général'!D162)","v":""},{"$f":"IF($DO160=\"\",\"\",'Tableau général'!E162)","v":""}]
[null,null,null,null,null,null,null,null,null,null,null,null,null,null,null,null,null,null,null,null,null,null,null,null,null,null,null,null,null,null,null,null,null,null,null,null,null,null,null,null,null,null,null,null,null,null,null,null,null,null,null,null,null,null,null,null,null,null,null,null,null,null,null,null,null,null,null,null,null,null,null,null,null,null,null,null,null,null,null,null,null,null,null,null,null,null,null,null,null,null,null,null,null,null,null,null,null,null,null,null,null,null,null,null,null,null,null,null,null,null,null,null,null,null,null,null,null,null,{"$f":"'Tableau général'!A163","v":""},{"$f":"IF($DO161=\"\",\"\",'Tableau général'!C163)","v":""},{"$f":"IF($DO161=\"\",\"\",'Tableau général'!D163)","v":""},{"$f":"IF($DO161=\"\",\"\",'Tableau général'!E163)","v":""}]
[null,null,null,null,null,null,null,null,null,null,null,null,null,null,null,null,null,null,null,null,null,null,null,null,null,null,null,null,null,null,null,null,null,null,null,null,null,null,null,null,null,null,null,null,null,null,null,null,null,null,null,null,null,null,null,null,null,null,null,null,null,null,null,null,null,null,null,null,null,null,null,null,null,null,null,null,null,null,null,null,null,null,null,null,null,null,null,null,null,null,null,null,null,null,null,null,null,null,null,null,null,null,null,null,null,null,null,null,null,null,null,null,null,null,null,null,null,null,{"$f":"'Tableau général'!A164","v":""},{"$f":"IF($DO162=\"\",\"\",'Tableau général'!C164)","v":""},{"$f":"IF($DO162=\"\",\"\",'Tableau général'!D164)","v":""},{"$f":"IF($DO162=\"\",\"\",'Tableau général'!E164)","v":""}]
[null,null,null,null,null,null,null,null,null,null,null,null,null,null,null,null,null,null,null,null,null,null,null,null,null,null,null,null,null,null,null,null,null,null,null,null,null,null,null,null,null,null,null,null,null,null,null,null,null,null,null,null,null,null,null,null,null,null,null,null,null,null,null,null,null,null,null,null,null,null,null,null,null,null,null,null,null,null,null,null,null,null,null,null,null,null,null,null,null,null,null,null,null,null,null,null,null,null,null,null,null,null,null,null,null,null,null,null,null,null,null,null,null,null,null,null,null,null,{"$f":"'Tableau général'!A165","v":""},{"$f":"IF($DO163=\"\",\"\",'Tableau général'!C165)","v":""},{"$f":"IF($DO163=\"\",\"\",'Tableau général'!D165)","v":""},{"$f":"IF($DO163=\"\",\"\",'Tableau général'!E165)","v":""}]
[null,null,null,null,null,null,null,null,null,null,null,null,null,null,null,null,null,null,null,null,null,null,null,null,null,null,null,null,null,null,null,null,null,null,null,null,null,null,null,null,null,null,null,null,null,null,null,null,null,null,null,null,null,null,null,null,null,null,null,null,null,null,null,null,null,null,null,null,null,null,null,null,null,null,null,null,null,null,null,null,null,null,null,null,null,null,null,null,null,null,null,null,null,null,null,null,null,null,null,null,null,null,null,null,null,null,null,null,null,null,null,null,null,null,null,null,null,null,{"$f":"'Tableau général'!A166","v":""},{"$f":"IF($DO164=\"\",\"\",'Tableau général'!C166)","v":""},{"$f":"IF($DO164=\"\",\"\",'Tableau général'!D166)","v":""},{"$f":"IF($DO164=\"\",\"\",'Tableau général'!E166)","v":""}]
[null,null,null,null,null,null,null,null,null,null,null,null,null,null,null,null,null,null,null,null,null,null,null,null,null,null,null,null,null,null,null,null,null,null,null,null,null,null,null,null,null,null,null,null,null,null,null,null,null,null,null,null,null,null,null,null,null,null,null,null,null,null,null,null,null,null,null,null,null,null,null,null,null,null,null,null,null,null,null,null,null,null,null,null,null,null,null,null,null,null,null,null,null,null,null,null,null,null,null,null,null,null,null,null,null,null,null,null,null,null,null,null,null,null,null,null,null,null,{"$f":"'Tableau général'!A167","v":""},{"$f":"IF($DO165=\"\",\"\",'Tableau général'!C167)","v":""},{"$f":"IF($DO165=\"\",\"\",'Tableau général'!D167)","v":""},{"$f":"IF($DO165=\"\",\"\",'Tableau général'!E167)","v":""}]
[null,null,null,null,null,null,null,null,null,null,null,null,null,null,null,null,null,null,null,null,null,null,null,null,null,null,null,null,null,null,null,null,null,null,null,null,null,null,null,null,null,null,null,null,null,null,null,null,null,null,null,null,null,null,null,null,null,null,null,null,null,null,null,null,null,null,null,null,null,null,null,null,null,null,null,null,null,null,null,null,null,null,null,null,null,null,null,null,null,null,null,null,null,null,null,null,null,null,null,null,null,null,null,null,null,null,null,null,null,null,null,null,null,null,null,null,null,null,{"$f":"'Tableau général'!A168","v":""},{"$f":"IF($DO166=\"\",\"\",'Tableau général'!C168)","v":""},{"$f":"IF($DO166=\"\",\"\",'Tableau général'!D168)","v":""},{"$f":"IF($DO166=\"\",\"\",'Tableau général'!E168)","v":""}]
[null,null,null,null,null,null,null,null,null,null,null,null,null,null,null,null,null,null,null,null,null,null,null,null,null,null,null,null,null,null,null,null,null,null,null,null,null,null,null,null,null,null,null,null,null,null,null,null,null,null,null,null,null,null,null,null,null,null,null,null,null,null,null,null,null,null,null,null,null,null,null,null,null,null,null,null,null,null,null,null,null,null,null,null,null,null,null,null,null,null,null,null,null,null,null,null,null,null,null,null,null,null,null,null,null,null,null,null,null,null,null,null,null,null,null,null,null,null,{"$f":"'Tableau général'!A169","v":""},{"$f":"IF($DO167=\"\",\"\",'Tableau général'!C169)","v":""},{"$f":"IF($DO167=\"\",\"\",'Tableau général'!D169)","v":""},{"$f":"IF($DO167=\"\",\"\",'Tableau général'!E169)","v":""}]
[null,null,null,null,null,null,null,null,null,null,null,null,null,null,null,null,null,null,null,null,null,null,null,null,null,null,null,null,null,null,null,null,null,null,null,null,null,null,null,null,null,null,null,null,null,null,null,null,null,null,null,null,null,null,null,null,null,null,null,null,null,null,null,null,null,null,null,null,null,null,null,null,null,null,null,null,null,null,null,null,null,null,null,null,null,null,null,null,null,null,null,null,null,null,null,null,null,null,null,null,null,null,null,null,null,null,null,null,null,null,null,null,null,null,null,null,null,null,{"$f":"'Tableau général'!A170","v":""},{"$f":"IF($DO168=\"\",\"\",'Tableau général'!C170)","v":""},{"$f":"IF($DO168=\"\",\"\",'Tableau général'!D170)","v":""},{"$f":"IF($DO168=\"\",\"\",'Tableau général'!E170)","v":""}]
[null,null,null,null,null,null,null,null,null,null,null,null,null,null,null,null,null,null,null,null,null,null,null,null,null,null,null,null,null,null,null,null,null,null,null,null,null,null,null,null,null,null,null,null,null,null,null,null,null,null,null,null,null,null,null,null,null,null,null,null,null,null,null,null,null,null,null,null,null,null,null,null,null,null,null,null,null,null,null,null,null,null,null,null,null,null,null,null,null,null,null,null,null,null,null,null,null,null,null,null,null,null,null,null,null,null,null,null,null,null,null,null,null,null,null,null,null,null,{"$f":"'Tableau général'!A171","v":""},{"$f":"IF($DO169=\"\",\"\",'Tableau général'!C171)","v":""},{"$f":"IF($DO169=\"\",\"\",'Tableau général'!D171)","v":""},{"$f":"IF($DO169=\"\",\"\",'Tableau général'!E171)","v":""}]
[null,null,null,null,null,null,null,null,null,null,null,null,null,null,null,null,null,null,null,null,null,null,null,null,null,null,null,null,null,null,null,null,null,null,null,null,null,null,null,null,null,null,null,null,null,null,null,null,null,null,null,null,null,null,null,null,null,null,null,null,null,null,null,null,null,null,null,null,null,null,null,null,null,null,null,null,null,null,null,null,null,null,null,null,null,null,null,null,null,null,null,null,null,null,null,null,null,null,null,null,null,null,null,null,null,null,null,null,null,null,null,null,null,null,null,null,null,null,{"$f":"'Tableau général'!A172","v":""},{"$f":"IF($DO170=\"\",\"\",'Tableau général'!C172)","v":""},{"$f":"IF($DO170=\"\",\"\",'Tableau général'!D172)","v":""},{"$f":"IF($DO170=\"\",\"\",'Tableau général'!E172)","v":""}]
[null,null,null,null,null,null,null,null,null,null,null,null,null,null,null,null,null,null,null,null,null,null,null,null,null,null,null,null,null,null,null,null,null,null,null,null,null,null,null,null,null,null,null,null,null,null,null,null,null,null,null,null,null,null,null,null,null,null,null,null,null,null,null,null,null,null,null,null,null,null,null,null,null,null,null,null,null,null,null,null,null,null,null,null,null,null,null,null,null,null,null,null,null,null,null,null,null,null,null,null,null,null,null,null,null,null,null,null,null,null,null,null,null,null,null,null,null,null,{"$f":"'Tableau général'!A173","v":""},{"$f":"IF($DO171=\"\",\"\",'Tableau général'!C173)","v":""},{"$f":"IF($DO171=\"\",\"\",'Tableau général'!D173)","v":""},{"$f":"IF($DO171=\"\",\"\",'Tableau général'!E173)","v":""}]
[null,null,null,null,null,null,null,null,null,null,null,null,null,null,null,null,null,null,null,null,null,null,null,null,null,null,null,null,null,null,null,null,null,null,null,null,null,null,null,null,null,null,null,null,null,null,null,null,null,null,null,null,null,null,null,null,null,null,null,null,null,null,null,null,null,null,null,null,null,null,null,null,null,null,null,null,null,null,null,null,null,null,null,null,null,null,null,null,null,null,null,null,null,null,null,null,null,null,null,null,null,null,null,null,null,null,null,null,null,null,null,null,null,null,null,null,null,null,{"$f":"'Tableau général'!A174","v":""},{"$f":"IF($DO172=\"\",\"\",'Tableau général'!C174)","v":""},{"$f":"IF($DO172=\"\",\"\",'Tableau général'!D174)","v":""},{"$f":"IF($DO172=\"\",\"\",'Tableau général'!E174)","v":""}]
[null,null,null,null,null,null,null,null,null,null,null,null,null,null,null,null,null,null,null,null,null,null,null,null,null,null,null,null,null,null,null,null,null,null,null,null,null,null,null,null,null,null,null,null,null,null,null,null,null,null,null,null,null,null,null,null,null,null,null,null,null,null,null,null,null,null,null,null,null,null,null,null,null,null,null,null,null,null,null,null,null,null,null,null,null,null,null,null,null,null,null,null,null,null,null,null,null,null,null,null,null,null,null,null,null,null,null,null,null,null,null,null,null,null,null,null,null,null,{"$f":"'Tableau général'!A175","v":""},{"$f":"IF($DO173=\"\",\"\",'Tableau général'!C175)","v":""},{"$f":"IF($DO173=\"\",\"\",'Tableau général'!D175)","v":""},{"$f":"IF($DO173=\"\",\"\",'Tableau général'!E175)","v":""}]
[null,null,null,null,null,null,null,null,null,null,null,null,null,null,null,null,null,null,null,null,null,null,null,null,null,null,null,null,null,null,null,null,null,null,null,null,null,null,null,null,null,null,null,null,null,null,null,null,null,null,null,null,null,null,null,null,null,null,null,null,null,null,null,null,null,null,null,null,null,null,null,null,null,null,null,null,null,null,null,null,null,null,null,null,null,null,null,null,null,null,null,null,null,null,null,null,null,null,null,null,null,null,null,null,null,null,null,null,null,null,null,null,null,null,null,null,null,null,{"$f":"'Tableau général'!A176","v":""},{"$f":"IF($DO174=\"\",\"\",'Tableau général'!C176)","v":""},{"$f":"IF($DO174=\"\",\"\",'Tableau général'!D176)","v":""},{"$f":"IF($DO174=\"\",\"\",'Tableau général'!E176)","v":""}]
[null,null,null,null,null,null,null,null,null,null,null,null,null,null,null,null,null,null,null,null,null,null,null,null,null,null,null,null,null,null,null,null,null,null,null,null,null,null,null,null,null,null,null,null,null,null,null,null,null,null,null,null,null,null,null,null,null,null,null,null,null,null,null,null,null,null,null,null,null,null,null,null,null,null,null,null,null,null,null,null,null,null,null,null,null,null,null,null,null,null,null,null,null,null,null,null,null,null,null,null,null,null,null,null,null,null,null,null,null,null,null,null,null,null,null,null,null,null,{"$f":"'Tableau général'!A177","v":""},{"$f":"IF($DO175=\"\",\"\",'Tableau général'!C177)","v":""},{"$f":"IF($DO175=\"\",\"\",'Tableau général'!D177)","v":""},{"$f":"IF($DO175=\"\",\"\",'Tableau général'!E177)","v":""}]
[null,null,null,null,null,null,null,null,null,null,null,null,null,null,null,null,null,null,null,null,null,null,null,null,null,null,null,null,null,null,null,null,null,null,null,null,null,null,null,null,null,null,null,null,null,null,null,null,null,null,null,null,null,null,null,null,null,null,null,null,null,null,null,null,null,null,null,null,null,null,null,null,null,null,null,null,null,null,null,null,null,null,null,null,null,null,null,null,null,null,null,null,null,null,null,null,null,null,null,null,null,null,null,null,null,null,null,null,null,null,null,null,null,null,null,null,null,null,{"$f":"'Tableau général'!A178","v":""},{"$f":"IF($DO176=\"\",\"\",'Tableau général'!C178)","v":""},{"$f":"IF($DO176=\"\",\"\",'Tableau général'!D178)","v":""},{"$f":"IF($DO176=\"\",\"\",'Tableau général'!E178)","v":""}]
[null,null,null,null,null,null,null,null,null,null,null,null,null,null,null,null,null,null,null,null,null,null,null,null,null,null,null,null,null,null,null,null,null,null,null,null,null,null,null,null,null,null,null,null,null,null,null,null,null,null,null,null,null,null,null,null,null,null,null,null,null,null,null,null,null,null,null,null,null,null,null,null,null,null,null,null,null,null,null,null,null,null,null,null,null,null,null,null,null,null,null,null,null,null,null,null,null,null,null,null,null,null,null,null,null,null,null,null,null,null,null,null,null,null,null,null,null,null,{"$f":"'Tableau général'!A179","v":""},{"$f":"IF($DO177=\"\",\"\",'Tableau général'!C179)","v":""},{"$f":"IF($DO177=\"\",\"\",'Tableau général'!D179)","v":""},{"$f":"IF($DO177=\"\",\"\",'Tableau général'!E179)","v":""}]
[null,null,null,null,null,null,null,null,null,null,null,null,null,null,null,null,null,null,null,null,null,null,null,null,null,null,null,null,null,null,null,null,null,null,null,null,null,null,null,null,null,null,null,null,null,null,null,null,null,null,null,null,null,null,null,null,null,null,null,null,null,null,null,null,null,null,null,null,null,null,null,null,null,null,null,null,null,null,null,null,null,null,null,null,null,null,null,null,null,null,null,null,null,null,null,null,null,null,null,null,null,null,null,null,null,null,null,null,null,null,null,null,null,null,null,null,null,null,{"$f":"'Tableau général'!A180","v":""},{"$f":"IF($DO178=\"\",\"\",'Tableau général'!C180)","v":""},{"$f":"IF($DO178=\"\",\"\",'Tableau général'!D180)","v":""},{"$f":"IF($DO178=\"\",\"\",'Tableau général'!E180)","v":""}]
[null,null,null,null,null,null,null,null,null,null,null,null,null,null,null,null,null,null,null,null,null,null,null,null,null,null,null,null,null,null,null,null,null,null,null,null,null,null,null,null,null,null,null,null,null,null,null,null,null,null,null,null,null,null,null,null,null,null,null,null,null,null,null,null,null,null,null,null,null,null,null,null,null,null,null,null,null,null,null,null,null,null,null,null,null,null,null,null,null,null,null,null,null,null,null,null,null,null,null,null,null,null,null,null,null,null,null,null,null,null,null,null,null,null,null,null,null,null,{"$f":"'Tableau général'!A181","v":""},{"$f":"IF($DO179=\"\",\"\",'Tableau général'!C181)","v":""},{"$f":"IF($DO179=\"\",\"\",'Tableau général'!D181)","v":""},{"$f":"IF($DO179=\"\",\"\",'Tableau général'!E181)","v":""}]
[null,null,null,null,null,null,null,null,null,null,null,null,null,null,null,null,null,null,null,null,null,null,null,null,null,null,null,null,null,null,null,null,null,null,null,null,null,null,null,null,null,null,null,null,null,null,null,null,null,null,null,null,null,null,null,null,null,null,null,null,null,null,null,null,null,null,null,null,null,null,null,null,null,null,null,null,null,null,null,null,null,null,null,null,null,null,null,null,null,null,null,null,null,null,null,null,null,null,null,null,null,null,null,null,null,null,null,null,null,null,null,null,null,null,null,null,null,null,{"$f":"'Tableau général'!A182","v":""},{"$f":"IF($DO180=\"\",\"\",'Tableau général'!C182)","v":""},{"$f":"IF($DO180=\"\",\"\",'Tableau général'!D182)","v":""},{"$f":"IF($DO180=\"\",\"\",'Tableau général'!E182)","v":""}]
[null,null,null,null,null,null,null,null,null,null,null,null,null,null,null,null,null,null,null,null,null,null,null,null,null,null,null,null,null,null,null,null,null,null,null,null,null,null,null,null,null,null,null,null,null,null,null,null,null,null,null,null,null,null,null,null,null,null,null,null,null,null,null,null,null,null,null,null,null,null,null,null,null,null,null,null,null,null,null,null,null,null,null,null,null,null,null,null,null,null,null,null,null,null,null,null,null,null,null,null,null,null,null,null,null,null,null,null,null,null,null,null,null,null,null,null,null,null,{"$f":"'Tableau général'!A183","v":""},{"$f":"IF($DO181=\"\",\"\",'Tableau général'!C183)","v":""},{"$f":"IF($DO181=\"\",\"\",'Tableau général'!D183)","v":""},{"$f":"IF($DO181=\"\",\"\",'Tableau général'!E183)","v":""}]
[null,null,null,null,null,null,null,null,null,null,null,null,null,null,null,null,null,null,null,null,null,null,null,null,null,null,null,null,null,null,null,null,null,null,null,null,null,null,null,null,null,null,null,null,null,null,null,null,null,null,null,null,null,null,null,null,null,null,null,null,null,null,null,null,null,null,null,null,null,null,null,null,null,null,null,null,null,null,null,null,null,null,null,null,null,null,null,null,null,null,null,null,null,null,null,null,null,null,null,null,null,null,null,null,null,null,null,null,null,null,null,null,null,null,null,null,null,null,{"$f":"'Tableau général'!A184","v":""},{"$f":"IF($DO182=\"\",\"\",'Tableau général'!C184)","v":""},{"$f":"IF($DO182=\"\",\"\",'Tableau général'!D184)","v":""},{"$f":"IF($DO182=\"\",\"\",'Tableau général'!E184)","v":""}]
[null,null,null,null,null,null,null,null,null,null,null,null,null,null,null,null,null,null,null,null,null,null,null,null,null,null,null,null,null,null,null,null,null,null,null,null,null,null,null,null,null,null,null,null,null,null,null,null,null,null,null,null,null,null,null,null,null,null,null,null,null,null,null,null,null,null,null,null,null,null,null,null,null,null,null,null,null,null,null,null,null,null,null,null,null,null,null,null,null,null,null,null,null,null,null,null,null,null,null,null,null,null,null,null,null,null,null,null,null,null,null,null,null,null,null,null,null,null,{"$f":"'Tableau général'!A185","v":""},{"$f":"IF($DO183=\"\",\"\",'Tableau général'!C185)","v":""},{"$f":"IF($DO183=\"\",\"\",'Tableau général'!D185)","v":""},{"$f":"IF($DO183=\"\",\"\",'Tableau général'!E185)","v":""}]
[null,null,null,null,null,null,null,null,null,null,null,null,null,null,null,null,null,null,null,null,null,null,null,null,null,null,null,null,null,null,null,null,null,null,null,null,null,null,null,null,null,null,null,null,null,null,null,null,null,null,null,null,null,null,null,null,null,null,null,null,null,null,null,null,null,null,null,null,null,null,null,null,null,null,null,null,null,null,null,null,null,null,null,null,null,null,null,null,null,null,null,null,null,null,null,null,null,null,null,null,null,null,null,null,null,null,null,null,null,null,null,null,null,null,null,null,null,null,{"$f":"'Tableau général'!A186","v":""},{"$f":"IF($DO184=\"\",\"\",'Tableau général'!C186)","v":""},{"$f":"IF($DO184=\"\",\"\",'Tableau général'!D186)","v":""},{"$f":"IF($DO184=\"\",\"\",'Tableau général'!E186)","v":""}]
[null,null,null,null,null,null,null,null,null,null,null,null,null,null,null,null,null,null,null,null,null,null,null,null,null,null,null,null,null,null,null,null,null,null,null,null,null,null,null,null,null,null,null,null,null,null,null,null,null,null,null,null,null,null,null,null,null,null,null,null,null,null,null,null,null,null,null,null,null,null,null,null,null,null,null,null,null,null,null,null,null,null,null,null,null,null,null,null,null,null,null,null,null,null,null,null,null,null,null,null,null,null,null,null,null,null,null,null,null,null,null,null,null,null,null,null,null,null,{"$f":"'Tableau général'!A187","v":""},{"$f":"IF($DO185=\"\",\"\",'Tableau général'!C187)","v":""},{"$f":"IF($DO185=\"\",\"\",'Tableau général'!D187)","v":""},{"$f":"IF($DO185=\"\",\"\",'Tableau général'!E187)","v":""}]
[null,null,null,null,null,null,null,null,null,null,null,null,null,null,null,null,null,null,null,null,null,null,null,null,null,null,null,null,null,null,null,null,null,null,null,null,null,null,null,null,null,null,null,null,null,null,null,null,null,null,null,null,null,null,null,null,null,null,null,null,null,null,null,null,null,null,null,null,null,null,null,null,null,null,null,null,null,null,null,null,null,null,null,null,null,null,null,null,null,null,null,null,null,null,null,null,null,null,null,null,null,null,null,null,null,null,null,null,null,null,null,null,null,null,null,null,null,null,{"$f":"'Tableau général'!A188","v":""},{"$f":"IF($DO186=\"\",\"\",'Tableau général'!C188)","v":""},{"$f":"IF($DO186=\"\",\"\",'Tableau général'!D188)","v":""},{"$f":"IF($DO186=\"\",\"\",'Tableau général'!E188)","v":""}]
[null,null,null,null,null,null,null,null,null,null,null,null,null,null,null,null,null,null,null,null,null,null,null,null,null,null,null,null,null,null,null,null,null,null,null,null,null,null,null,null,null,null,null,null,null,null,null,null,null,null,null,null,null,null,null,null,null,null,null,null,null,null,null,null,null,null,null,null,null,null,null,null,null,null,null,null,null,null,null,null,null,null,null,null,null,null,null,null,null,null,null,null,null,null,null,null,null,null,null,null,null,null,null,null,null,null,null,null,null,null,null,null,null,null,null,null,null,null,{"$f":"'Tableau général'!A189","v":""},{"$f":"IF($DO187=\"\",\"\",'Tableau général'!C189)","v":""},{"$f":"IF($DO187=\"\",\"\",'Tableau général'!D189)","v":""},{"$f":"IF($DO187=\"\",\"\",'Tableau général'!E189)","v":""}]
[null,null,null,null,null,null,null,null,null,null,null,null,null,null,null,null,null,null,null,null,null,null,null,null,null,null,null,null,null,null,null,null,null,null,null,null,null,null,null,null,null,null,null,null,null,null,null,null,null,null,null,null,null,null,null,null,null,null,null,null,null,null,null,null,null,null,null,null,null,null,null,null,null,null,null,null,null,null,null,null,null,null,null,null,null,null,null,null,null,null,null,null,null,null,null,null,null,null,null,null,null,null,null,null,null,null,null,null,null,null,null,null,null,null,null,null,null,null,{"$f":"'Tableau général'!A190","v":""},{"$f":"IF($DO188=\"\",\"\",'Tableau général'!C190)","v":""},{"$f":"IF($DO188=\"\",\"\",'Tableau général'!D190)","v":""},{"$f":"IF($DO188=\"\",\"\",'Tableau général'!E190)","v":""}]
[null,null,null,null,null,null,null,null,null,null,null,null,null,null,null,null,null,null,null,null,null,null,null,null,null,null,null,null,null,null,null,null,null,null,null,null,null,null,null,null,null,null,null,null,null,null,null,null,null,null,null,null,null,null,null,null,null,null,null,null,null,null,null,null,null,null,null,null,null,null,null,null,null,null,null,null,null,null,null,null,null,null,null,null,null,null,null,null,null,null,null,null,null,null,null,null,null,null,null,null,null,null,null,null,null,null,null,null,null,null,null,null,null,null,null,null,null,null,{"$f":"'Tableau général'!A191","v":""},{"$f":"IF($DO189=\"\",\"\",'Tableau général'!C191)","v":""},{"$f":"IF($DO189=\"\",\"\",'Tableau général'!D191)","v":""},{"$f":"IF($DO189=\"\",\"\",'Tableau général'!E191)","v":""}]
[null,null,null,null,null,null,null,null,null,null,null,null,null,null,null,null,null,null,null,null,null,null,null,null,null,null,null,null,null,null,null,null,null,null,null,null,null,null,null,null,null,null,null,null,null,null,null,null,null,null,null,null,null,null,null,null,null,null,null,null,null,null,null,null,null,null,null,null,null,null,null,null,null,null,null,null,null,null,null,null,null,null,null,null,null,null,null,null,null,null,null,null,null,null,null,null,null,null,null,null,null,null,null,null,null,null,null,null,null,null,null,null,null,null,null,null,null,null,{"$f":"'Tableau général'!A192","v":""},{"$f":"IF($DO190=\"\",\"\",'Tableau général'!C192)","v":""},{"$f":"IF($DO190=\"\",\"\",'Tableau général'!D192)","v":""},{"$f":"IF($DO190=\"\",\"\",'Tableau général'!E192)","v":""}]
[null,null,null,null,null,null,null,null,null,null,null,null,null,null,null,null,null,null,null,null,null,null,null,null,null,null,null,null,null,null,null,null,null,null,null,null,null,null,null,null,null,null,null,null,null,null,null,null,null,null,null,null,null,null,null,null,null,null,null,null,null,null,null,null,null,null,null,null,null,null,null,null,null,null,null,null,null,null,null,null,null,null,null,null,null,null,null,null,null,null,null,null,null,null,null,null,null,null,null,null,null,null,null,null,null,null,null,null,null,null,null,null,null,null,null,null,null,null,{"$f":"'Tableau général'!A193","v":""},{"$f":"IF($DO191=\"\",\"\",'Tableau général'!C193)","v":""},{"$f":"IF($DO191=\"\",\"\",'Tableau général'!D193)","v":""},{"$f":"IF($DO191=\"\",\"\",'Tableau général'!E193)","v":""}]
[null,null,null,null,null,null,null,null,null,null,null,null,null,null,null,null,null,null,null,null,null,null,null,null,null,null,null,null,null,null,null,null,null,null,null,null,null,null,null,null,null,null,null,null,null,null,null,null,null,null,null,null,null,null,null,null,null,null,null,null,null,null,null,null,null,null,null,null,null,null,null,null,null,null,null,null,null,null,null,null,null,null,null,null,null,null,null,null,null,null,null,null,null,null,null,null,null,null,null,null,null,null,null,null,null,null,null,null,null,null,null,null,null,null,null,null,null,null,{"$f":"'Tableau général'!A194","v":""},{"$f":"IF($DO192=\"\",\"\",'Tableau général'!C194)","v":""},{"$f":"IF($DO192=\"\",\"\",'Tableau général'!D194)","v":""},{"$f":"IF($DO192=\"\",\"\",'Tableau général'!E194)","v":""}]
[null,null,null,null,null,null,null,null,null,null,null,null,null,null,null,null,null,null,null,null,null,null,null,null,null,null,null,null,null,null,null,null,null,null,null,null,null,null,null,null,null,null,null,null,null,null,null,null,null,null,null,null,null,null,null,null,null,null,null,null,null,null,null,null,null,null,null,null,null,null,null,null,null,null,null,null,null,null,null,null,null,null,null,null,null,null,null,null,null,null,null,null,null,null,null,null,null,null,null,null,null,null,null,null,null,null,null,null,null,null,null,null,null,null,null,null,null,null,{"$f":"'Tableau général'!A195","v":""},{"$f":"IF($DO193=\"\",\"\",'Tableau général'!C195)","v":""},{"$f":"IF($DO193=\"\",\"\",'Tableau général'!D195)","v":""},{"$f":"IF($DO193=\"\",\"\",'Tableau général'!E195)","v":""}]
[null,null,null,null,null,null,null,null,null,null,null,null,null,null,null,null,null,null,null,null,null,null,null,null,null,null,null,null,null,null,null,null,null,null,null,null,null,null,null,null,null,null,null,null,null,null,null,null,null,null,null,null,null,null,null,null,null,null,null,null,null,null,null,null,null,null,null,null,null,null,null,null,null,null,null,null,null,null,null,null,null,null,null,null,null,null,null,null,null,null,null,null,null,null,null,null,null,null,null,null,null,null,null,null,null,null,null,null,null,null,null,null,null,null,null,null,null,null,{"$f":"'Tableau général'!A196","v":""},{"$f":"IF($DO194=\"\",\"\",'Tableau général'!C196)","v":""},{"$f":"IF($DO194=\"\",\"\",'Tableau général'!D196)","v":""},{"$f":"IF($DO194=\"\",\"\",'Tableau général'!E196)","v":""}]
[null,null,null,null,null,null,null,null,null,null,null,null,null,null,null,null,null,null,null,null,null,null,null,null,null,null,null,null,null,null,null,null,null,null,null,null,null,null,null,null,null,null,null,null,null,null,null,null,null,null,null,null,null,null,null,null,null,null,null,null,null,null,null,null,null,null,null,null,null,null,null,null,null,null,null,null,null,null,null,null,null,null,null,null,null,null,null,null,null,null,null,null,null,null,null,null,null,null,null,null,null,null,null,null,null,null,null,null,null,null,null,null,null,null,null,null,null,null,{"$f":"'Tableau général'!A197","v":""},{"$f":"IF($DO195=\"\",\"\",'Tableau général'!C197)","v":""},{"$f":"IF($DO195=\"\",\"\",'Tableau général'!D197)","v":""},{"$f":"IF($DO195=\"\",\"\",'Tableau général'!E197)","v":""}]
[null,null,null,null,null,null,null,null,null,null,null,null,null,null,null,null,null,null,null,null,null,null,null,null,null,null,null,null,null,null,null,null,null,null,null,null,null,null,null,null,null,null,null,null,null,null,null,null,null,null,null,null,null,null,null,null,null,null,null,null,null,null,null,null,null,null,null,null,null,null,null,null,null,null,null,null,null,null,null,null,null,null,null,null,null,null,null,null,null,null,null,null,null,null,null,null,null,null,null,null,null,null,null,null,null,null,null,null,null,null,null,null,null,null,null,null,null,null,{"$f":"'Tableau général'!A198","v":""},{"$f":"IF($DO196=\"\",\"\",'Tableau général'!C198)","v":""},{"$f":"IF($DO196=\"\",\"\",'Tableau général'!D198)","v":""},{"$f":"IF($DO196=\"\",\"\",'Tableau général'!E198)","v":""}]
[null,null,null,null,null,null,null,null,null,null,null,null,null,null,null,null,null,null,null,null,null,null,null,null,null,null,null,null,null,null,null,null,null,null,null,null,null,null,null,null,null,null,null,null,null,null,null,null,null,null,null,null,null,null,null,null,null,null,null,null,null,null,null,null,null,null,null,null,null,null,null,null,null,null,null,null,null,null,null,null,null,null,null,null,null,null,null,null,null,null,null,null,null,null,null,null,null,null,null,null,null,null,null,null,null,null,null,null,null,null,null,null,null,null,null,null,null,null,{"$f":"'Tableau général'!A199","v":""},{"$f":"IF($DO197=\"\",\"\",'Tableau général'!C199)","v":""},{"$f":"IF($DO197=\"\",\"\",'Tableau général'!D199)","v":""},{"$f":"IF($DO197=\"\",\"\",'Tableau général'!E199)","v":""}]
[null,null,null,null,null,null,null,null,null,null,null,null,null,null,null,null,null,null,null,null,null,null,null,null,null,null,null,null,null,null,null,null,null,null,null,null,null,null,null,null,null,null,null,null,null,null,null,null,null,null,null,null,null,null,null,null,null,null,null,null,null,null,null,null,null,null,null,null,null,null,null,null,null,null,null,null,null,null,null,null,null,null,null,null,null,null,null,null,null,null,null,null,null,null,null,null,null,null,null,null,null,null,null,null,null,null,null,null,null,null,null,null,null,null,null,null,null,null,{"$f":"'Tableau général'!A200","v":""},{"$f":"IF($DO198=\"\",\"\",'Tableau général'!C200)","v":""},{"$f":"IF($DO198=\"\",\"\",'Tableau général'!D200)","v":""},{"$f":"IF($DO198=\"\",\"\",'Tableau général'!E200)","v":""}]
[null,null,null,null,null,null,null,null,null,null,null,null,null,null,null,null,null,null,null,null,null,null,null,null,null,null,null,null,null,null,null,null,null,null,null,null,null,null,null,null,null,null,null,null,null,null,null,null,null,null,null,null,null,null,null,null,null,null,null,null,null,null,null,null,null,null,null,null,null,null,null,null,null,null,null,null,null,null,null,null,null,null,null,null,null,null,null,null,null,null,null,null,null,null,null,null,null,null,null,null,null,null,null,null,null,null,null,null,null,null,null,null,null,null,null,null,null,null,{"$f":"'Tableau général'!A201","v":""},{"$f":"IF($DO199=\"\",\"\",'Tableau général'!C201)","v":""},{"$f":"IF($DO199=\"\",\"\",'Tableau général'!D201)","v":""},{"$f":"IF($DO199=\"\",\"\",'Tableau général'!E201)","v":""}]
[null,null,null,null,null,null,null,null,null,null,null,null,null,null,null,null,null,null,null,null,null,null,null,null,null,null,null,null,null,null,null,null,null,null,null,null,null,null,null,null,null,null,null,null,null,null,null,null,null,null,null,null,null,null,null,null,null,null,null,null,null,null,null,null,null,null,null,null,null,null,null,null,null,null,null,null,null,null,null,null,null,null,null,null,null,null,null,null,null,null,null,null,null,null,null,null,null,null,null,null,null,null,null,null,null,null,null,null,null,null,null,null,null,null,null,null,null,null,{"$f":"'Tableau général'!A202","v":""},{"$f":"IF($DO200=\"\",\"\",'Tableau général'!C202)","v":""},{"$f":"IF($DO200=\"\",\"\",'Tableau général'!D202)","v":""},{"$f":"IF($DO200=\"\",\"\",'Tableau général'!E202)","v":""}]
[null,null,null,null,null,null,null,null,null,null,null,null,null,null,null,null,null,null,null,null,null,null,null,null,null,null,null,null,null,null,null,null,null,null,null,null,null,null,null,null,null,null,null,null,null,null,null,null,null,null,null,null,null,null,null,null,null,null,null,null,null,null,null,null,null,null,null,null,null,null,null,null,null,null,null,null,null,null,null,null,null,null,null,null,null,null,null,null,null,null,null,null,null,null,null,null,null,null,null,null,null,null,null,null,null,null,null,null,null,null,null,null,null,null,null,null,null,null,{"$f":"'Tableau général'!A203","v":""},{"$f":"IF($DO201=\"\",\"\",'Tableau général'!C203)","v":""},{"$f":"IF($DO201=\"\",\"\",'Tableau général'!D203)","v":""},{"$f":"IF($DO201=\"\",\"\",'Tableau général'!E203)","v":""}]
[null,null,null,null,null,null,null,null,null,null,null,null,null,null,null,null,null,null,null,null,null,null,null,null,null,null,null,null,null,null,null,null,null,null,null,null,null,null,null,null,null,null,null,null,null,null,null,null,null,null,null,null,null,null,null,null,null,null,null,null,null,null,null,null,null,null,null,null,null,null,null,null,null,null,null,null,null,null,null,null,null,null,null,null,null,null,null,null,null,null,null,null,null,null,null,null,null,null,null,null,null,null,null,null,null,null,null,null,null,null,null,null,null,null,null,null,null,null,{"$f":"'Tableau général'!A204","v":""},{"$f":"IF($DO202=\"\",\"\",'Tableau général'!C204)","v":""},{"$f":"IF($DO202=\"\",\"\",'Tableau général'!D204)","v":""},{"$f":"IF($DO202=\"\",\"\",'Tableau général'!E204)","v":""}]
[null,null,null,null,null,null,null,null,null,null,null,null,null,null,null,null,null,null,null,null,null,null,null,null,null,null,null,null,null,null,null,null,null,null,null,null,null,null,null,null,null,null,null,null,null,null,null,null,null,null,null,null,null,null,null,null,null,null,null,null,null,null,null,null,null,null,null,null,null,null,null,null,null,null,null,null,null,null,null,null,null,null,null,null,null,null,null,null,null,null,null,null,null,null,null,null,null,null,null,null,null,null,null,null,null,null,null,null,null,null,null,null,null,null,null,null,null,null,{"$f":"'Tableau général'!A205","v":""},{"$f":"IF($DO203=\"\",\"\",'Tableau général'!C205)","v":""},{"$f":"IF($DO203=\"\",\"\",'Tableau général'!D205)","v":""},{"$f":"IF($DO203=\"\",\"\",'Tableau général'!E205)","v":""}]
[null,null,null,null,null,null,null,null,null,null,null,null,null,null,null,null,null,null,null,null,null,null,null,null,null,null,null,null,null,null,null,null,null,null,null,null,null,null,null,null,null,null,null,null,null,null,null,null,null,null,null,null,null,null,null,null,null,null,null,null,null,null,null,null,null,null,null,null,null,null,null,null,null,null,null,null,null,null,null,null,null,null,null,null,null,null,null,null,null,null,null,null,null,null,null,null,null,null,null,null,null,null,null,null,null,null,null,null,null,null,null,null,null,null,null,null,null,null,{"$f":"'Tableau général'!A206","v":""},{"$f":"IF($DO204=\"\",\"\",'Tableau général'!C206)","v":""},{"$f":"IF($DO204=\"\",\"\",'Tableau général'!D206)","v":""},{"$f":"IF($DO204=\"\",\"\",'Tableau général'!E206)","v":""}]
[null,null,null,null,null,null,null,null,null,null,null,null,null,null,null,null,null,null,null,null,null,null,null,null,null,null,null,null,null,null,null,null,null,null,null,null,null,null,null,null,null,null,null,null,null,null,null,null,null,null,null,null,null,null,null,null,null,null,null,null,null,null,null,null,null,null,null,null,null,null,null,null,null,null,null,null,null,null,null,null,null,null,null,null,null,null,null,null,null,null,null,null,null,null,null,null,null,null,null,null,null,null,null,null,null,null,null,null,null,null,null,null,null,null,null,null,null,null,{"$f":"'Tableau général'!A207","v":""},{"$f":"IF($DO205=\"\",\"\",'Tableau général'!C207)","v":""},{"$f":"IF($DO205=\"\",\"\",'Tableau général'!D207)","v":""},{"$f":"IF($DO205=\"\",\"\",'Tableau général'!E207)","v":""}]
[null,null,null,null,null,null,null,null,null,null,null,null,null,null,null,null,null,null,null,null,null,null,null,null,null,null,null,null,null,null,null,null,null,null,null,null,null,null,null,null,null,null,null,null,null,null,null,null,null,null,null,null,null,null,null,null,null,null,null,null,null,null,null,null,null,null,null,null,null,null,null,null,null,null,null,null,null,null,null,null,null,null,null,null,null,null,null,null,null,null,null,null,null,null,null,null,null,null,null,null,null,null,null,null,null,null,null,null,null,null,null,null,null,null,null,null,null,null,{"$f":"'Tableau général'!A208","v":""},{"$f":"IF($DO206=\"\",\"\",'Tableau général'!C208)","v":""},{"$f":"IF($DO206=\"\",\"\",'Tableau général'!D208)","v":""},{"$f":"IF($DO206=\"\",\"\",'Tableau général'!E208)","v":""}]
[null,null,null,null,null,null,null,null,null,null,null,null,null,null,null,null,null,null,null,null,null,null,null,null,null,null,null,null,null,null,null,null,null,null,null,null,null,null,null,null,null,null,null,null,null,null,null,null,null,null,null,null,null,null,null,null,null,null,null,null,null,null,null,null,null,null,null,null,null,null,null,null,null,null,null,null,null,null,null,null,null,null,null,null,null,null,null,null,null,null,null,null,null,null,null,null,null,null,null,null,null,null,null,null,null,null,null,null,null,null,null,null,null,null,null,null,null,null,{"$f":"'Tableau général'!A209","v":""},{"$f":"IF($DO207=\"\",\"\",'Tableau général'!C209)","v":""},{"$f":"IF($DO207=\"\",\"\",'Tableau général'!D209)","v":""},{"$f":"IF($DO207=\"\",\"\",'Tableau général'!E209)","v":""}]
[null,null,null,null,null,null,null,null,null,null,null,null,null,null,null,null,null,null,null,null,null,null,null,null,null,null,null,null,null,null,null,null,null,null,null,null,null,null,null,null,null,null,null,null,null,null,null,null,null,null,null,null,null,null,null,null,null,null,null,null,null,null,null,null,null,null,null,null,null,null,null,null,null,null,null,null,null,null,null,null,null,null,null,null,null,null,null,null,null,null,null,null,null,null,null,null,null,null,null,null,null,null,null,null,null,null,null,null,null,null,null,null,null,null,null,null,null,null,{"$f":"'Tableau général'!A210","v":""},{"$f":"IF($DO208=\"\",\"\",'Tableau général'!C210)","v":""},{"$f":"IF($DO208=\"\",\"\",'Tableau général'!D210)","v":""},{"$f":"IF($DO208=\"\",\"\",'Tableau général'!E210)","v":""}]
[null,null,null,null,null,null,null,null,null,null,null,null,null,null,null,null,null,null,null,null,null,null,null,null,null,null,null,null,null,null,null,null,null,null,null,null,null,null,null,null,null,null,null,null,null,null,null,null,null,null,null,null,null,null,null,null,null,null,null,null,null,null,null,null,null,null,null,null,null,null,null,null,null,null,null,null,null,null,null,null,null,null,null,null,null,null,null,null,null,null,null,null,null,null,null,null,null,null,null,null,null,null,null,null,null,null,null,null,null,null,null,null,null,null,null,null,null,null,{"$f":"'Tableau général'!A211","v":""},{"$f":"IF($DO209=\"\",\"\",'Tableau général'!C211)","v":""},{"$f":"IF($DO209=\"\",\"\",'Tableau général'!D211)","v":""},{"$f":"IF($DO209=\"\",\"\",'Tableau général'!E211)","v":""}]
[null,null,null,null,null,null,null,null,null,null,null,null,null,null,null,null,null,null,null,null,null,null,null,null,null,null,null,null,null,null,null,null,null,null,null,null,null,null,null,null,null,null,null,null,null,null,null,null,null,null,null,null,null,null,null,null,null,null,null,null,null,null,null,null,null,null,null,null,null,null,null,null,null,null,null,null,null,null,null,null,null,null,null,null,null,null,null,null,null,null,null,null,null,null,null,null,null,null,null,null,null,null,null,null,null,null,null,null,null,null,null,null,null,null,null,null,null,null,{"$f":"'Tableau général'!A212","v":""},{"$f":"IF($DO210=\"\",\"\",'Tableau général'!C212)","v":""},{"$f":"IF($DO210=\"\",\"\",'Tableau général'!D212)","v":""},{"$f":"IF($DO210=\"\",\"\",'Tableau général'!E212)","v":""}]
[null,null,null,null,null,null,null,null,null,null,null,null,null,null,null,null,null,null,null,null,null,null,null,null,null,null,null,null,null,null,null,null,null,null,null,null,null,null,null,null,null,null,null,null,null,null,null,null,null,null,null,null,null,null,null,null,null,null,null,null,null,null,null,null,null,null,null,null,null,null,null,null,null,null,null,null,null,null,null,null,null,null,null,null,null,null,null,null,null,null,null,null,null,null,null,null,null,null,null,null,null,null,null,null,null,null,null,null,null,null,null,null,null,null,null,null,null,null,{"$f":"'Tableau général'!A213","v":""},{"$f":"IF($DO211=\"\",\"\",'Tableau général'!C213)","v":""},{"$f":"IF($DO211=\"\",\"\",'Tableau général'!D213)","v":""},{"$f":"IF($DO211=\"\",\"\",'Tableau général'!E213)","v":""}]
[null,null,null,null,null,null,null,null,null,null,null,null,null,null,null,null,null,null,null,null,null,null,null,null,null,null,null,null,null,null,null,null,null,null,null,null,null,null,null,null,null,null,null,null,null,null,null,null,null,null,null,null,null,null,null,null,null,null,null,null,null,null,null,null,null,null,null,null,null,null,null,null,null,null,null,null,null,null,null,null,null,null,null,null,null,null,null,null,null,null,null,null,null,null,null,null,null,null,null,null,null,null,null,null,null,null,null,null,null,null,null,null,null,null,null,null,null,null,{"$f":"'Tableau général'!A214","v":""},{"$f":"IF($DO212=\"\",\"\",'Tableau général'!C214)","v":""},{"$f":"IF($DO212=\"\",\"\",'Tableau général'!D214)","v":""},{"$f":"IF($DO212=\"\",\"\",'Tableau général'!E214)","v":""}]
[null,null,null,null,null,null,null,null,null,null,null,null,null,null,null,null,null,null,null,null,null,null,null,null,null,null,null,null,null,null,null,null,null,null,null,null,null,null,null,null,null,null,null,null,null,null,null,null,null,null,null,null,null,null,null,null,null,null,null,null,null,null,null,null,null,null,null,null,null,null,null,null,null,null,null,null,null,null,null,null,null,null,null,null,null,null,null,null,null,null,null,null,null,null,null,null,null,null,null,null,null,null,null,null,null,null,null,null,null,null,null,null,null,null,null,null,null,null,{"$f":"'Tableau général'!A215","v":""},{"$f":"IF($DO213=\"\",\"\",'Tableau général'!C215)","v":""},{"$f":"IF($DO213=\"\",\"\",'Tableau général'!D215)","v":""},{"$f":"IF($DO213=\"\",\"\",'Tableau général'!E215)","v":""}]
[null,null,null,null,null,null,null,null,null,null,null,null,null,null,null,null,null,null,null,null,null,null,null,null,null,null,null,null,null,null,null,null,null,null,null,null,null,null,null,null,null,null,null,null,null,null,null,null,null,null,null,null,null,null,null,null,null,null,null,null,null,null,null,null,null,null,null,null,null,null,null,null,null,null,null,null,null,null,null,null,null,null,null,null,null,null,null,null,null,null,null,null,null,null,null,null,null,null,null,null,null,null,null,null,null,null,null,null,null,null,null,null,null,null,null,null,null,null,{"$f":"'Tableau général'!A216","v":""},{"$f":"IF($DO214=\"\",\"\",'Tableau général'!C216)","v":""},{"$f":"IF($DO214=\"\",\"\",'Tableau général'!D216)","v":""},{"$f":"IF($DO214=\"\",\"\",'Tableau général'!E216)","v":""}]
[null,null,null,null,null,null,null,null,null,null,null,null,null,null,null,null,null,null,null,null,null,null,null,null,null,null,null,null,null,null,null,null,null,null,null,null,null,null,null,null,null,null,null,null,null,null,null,null,null,null,null,null,null,null,null,null,null,null,null,null,null,null,null,null,null,null,null,null,null,null,null,null,null,null,null,null,null,null,null,null,null,null,null,null,null,null,null,null,null,null,null,null,null,null,null,null,null,null,null,null,null,null,null,null,null,null,null,null,null,null,null,null,null,null,null,null,null,null,{"$f":"'Tableau général'!A217","v":""},{"$f":"IF($DO215=\"\",\"\",'Tableau général'!C217)","v":""},{"$f":"IF($DO215=\"\",\"\",'Tableau général'!D217)","v":""},{"$f":"IF($DO215=\"\",\"\",'Tableau général'!E217)","v":""}]
[null,null,null,null,null,null,null,null,null,null,null,null,null,null,null,null,null,null,null,null,null,null,null,null,null,null,null,null,null,null,null,null,null,null,null,null,null,null,null,null,null,null,null,null,null,null,null,null,null,null,null,null,null,null,null,null,null,null,null,null,null,null,null,null,null,null,null,null,null,null,null,null,null,null,null,null,null,null,null,null,null,null,null,null,null,null,null,null,null,null,null,null,null,null,null,null,null,null,null,null,null,null,null,null,null,null,null,null,null,null,null,null,null,null,null,null,null,null,{"$f":"'Tableau général'!A218","v":""},{"$f":"IF($DO216=\"\",\"\",'Tableau général'!C218)","v":""},{"$f":"IF($DO216=\"\",\"\",'Tableau général'!D218)","v":""},{"$f":"IF($DO216=\"\",\"\",'Tableau général'!E218)","v":""}]
[null,null,null,null,null,null,null,null,null,null,null,null,null,null,null,null,null,null,null,null,null,null,null,null,null,null,null,null,null,null,null,null,null,null,null,null,null,null,null,null,null,null,null,null,null,null,null,null,null,null,null,null,null,null,null,null,null,null,null,null,null,null,null,null,null,null,null,null,null,null,null,null,null,null,null,null,null,null,null,null,null,null,null,null,null,null,null,null,null,null,null,null,null,null,null,null,null,null,null,null,null,null,null,null,null,null,null,null,null,null,null,null,null,null,null,null,null,null,{"$f":"'Tableau général'!A219","v":""},{"$f":"IF($DO217=\"\",\"\",'Tableau général'!C219)","v":""},{"$f":"IF($DO217=\"\",\"\",'Tableau général'!D219)","v":""},{"$f":"IF($DO217=\"\",\"\",'Tableau général'!E219)","v":""}]
[null,null,null,null,null,null,null,null,null,null,null,null,null,null,null,null,null,null,null,null,null,null,null,null,null,null,null,null,null,null,null,null,null,null,null,null,null,null,null,null,null,null,null,null,null,null,null,null,null,null,null,null,null,null,null,null,null,null,null,null,null,null,null,null,null,null,null,null,null,null,null,null,null,null,null,null,null,null,null,null,null,null,null,null,null,null,null,null,null,null,null,null,null,null,null,null,null,null,null,null,null,null,null,null,null,null,null,null,null,null,null,null,null,null,null,null,null,null,{"$f":"'Tableau général'!A220","v":""},{"$f":"IF($DO218=\"\",\"\",'Tableau général'!C220)","v":""},{"$f":"IF($DO218=\"\",\"\",'Tableau général'!D220)","v":""},{"$f":"IF($DO218=\"\",\"\",'Tableau général'!E220)","v":""}]
[null,null,null,null,null,null,null,null,null,null,null,null,null,null,null,null,null,null,null,null,null,null,null,null,null,null,null,null,null,null,null,null,null,null,null,null,null,null,null,null,null,null,null,null,null,null,null,null,null,null,null,null,null,null,null,null,null,null,null,null,null,null,null,null,null,null,null,null,null,null,null,null,null,null,null,null,null,null,null,null,null,null,null,null,null,null,null,null,null,null,null,null,null,null,null,null,null,null,null,null,null,null,null,null,null,null,null,null,null,null,null,null,null,null,null,null,null,null,{"$f":"'Tableau général'!A221","v":""},{"$f":"IF($DO219=\"\",\"\",'Tableau général'!C221)","v":""},{"$f":"IF($DO219=\"\",\"\",'Tableau général'!D221)","v":""},{"$f":"IF($DO219=\"\",\"\",'Tableau général'!E221)","v":""}]
[null,null,null,null,null,null,null,null,null,null,null,null,null,null,null,null,null,null,null,null,null,null,null,null,null,null,null,null,null,null,null,null,null,null,null,null,null,null,null,null,null,null,null,null,null,null,null,null,null,null,null,null,null,null,null,null,null,null,null,null,null,null,null,null,null,null,null,null,null,null,null,null,null,null,null,null,null,null,null,null,null,null,null,null,null,null,null,null,null,null,null,null,null,null,null,null,null,null,null,null,null,null,null,null,null,null,null,null,null,null,null,null,null,null,null,null,null,null,{"$f":"'Tableau général'!A222","v":""},{"$f":"IF($DO220=\"\",\"\",'Tableau général'!C222)","v":""},{"$f":"IF($DO220=\"\",\"\",'Tableau général'!D222)","v":""},{"$f":"IF($DO220=\"\",\"\",'Tableau général'!E222)","v":""}]
[null,null,null,null,null,null,null,null,null,null,null,null,null,null,null,null,null,null,null,null,null,null,null,null,null,null,null,null,null,null,null,null,null,null,null,null,null,null,null,null,null,null,null,null,null,null,null,null,null,null,null,null,null,null,null,null,null,null,null,null,null,null,null,null,null,null,null,null,null,null,null,null,null,null,null,null,null,null,null,null,null,null,null,null,null,null,null,null,null,null,null,null,null,null,null,null,null,null,null,null,null,null,null,null,null,null,null,null,null,null,null,null,null,null,null,null,null,null,{"$f":"'Tableau général'!A223","v":""},{"$f":"IF($DO221=\"\",\"\",'Tableau général'!C223)","v":""},{"$f":"IF($DO221=\"\",\"\",'Tableau général'!D223)","v":""},{"$f":"IF($DO221=\"\",\"\",'Tableau général'!E223)","v":""}]
[null,null,null,null,null,null,null,null,null,null,null,null,null,null,null,null,null,null,null,null,null,null,null,null,null,null,null,null,null,null,null,null,null,null,null,null,null,null,null,null,null,null,null,null,null,null,null,null,null,null,null,null,null,null,null,null,null,null,null,null,null,null,null,null,null,null,null,null,null,null,null,null,null,null,null,null,null,null,null,null,null,null,null,null,null,null,null,null,null,null,null,null,null,null,null,null,null,null,null,null,null,null,null,null,null,null,null,null,null,null,null,null,null,null,null,null,null,null,{"$f":"'Tableau général'!A224","v":""},{"$f":"IF($DO222=\"\",\"\",'Tableau général'!C224)","v":""},{"$f":"IF($DO222=\"\",\"\",'Tableau général'!D224)","v":""},{"$f":"IF($DO222=\"\",\"\",'Tableau général'!E224)","v":""}]
[null,null,null,null,null,null,null,null,null,null,null,null,null,null,null,null,null,null,null,null,null,null,null,null,null,null,null,null,null,null,null,null,null,null,null,null,null,null,null,null,null,null,null,null,null,null,null,null,null,null,null,null,null,null,null,null,null,null,null,null,null,null,null,null,null,null,null,null,null,null,null,null,null,null,null,null,null,null,null,null,null,null,null,null,null,null,null,null,null,null,null,null,null,null,null,null,null,null,null,null,null,null,null,null,null,null,null,null,null,null,null,null,null,null,null,null,null,null,{"$f":"'Tableau général'!A225","v":""},{"$f":"IF($DO223=\"\",\"\",'Tableau général'!C225)","v":""},{"$f":"IF($DO223=\"\",\"\",'Tableau général'!D225)","v":""},{"$f":"IF($DO223=\"\",\"\",'Tableau général'!E225)","v":""}]
[null,null,null,null,null,null,null,null,null,null,null,null,null,null,null,null,null,null,null,null,null,null,null,null,null,null,null,null,null,null,null,null,null,null,null,null,null,null,null,null,null,null,null,null,null,null,null,null,null,null,null,null,null,null,null,null,null,null,null,null,null,null,null,null,null,null,null,null,null,null,null,null,null,null,null,null,null,null,null,null,null,null,null,null,null,null,null,null,null,null,null,null,null,null,null,null,null,null,null,null,null,null,null,null,null,null,null,null,null,null,null,null,null,null,null,null,null,null,{"$f":"'Tableau général'!A226","v":""},{"$f":"IF($DO224=\"\",\"\",'Tableau général'!C226)","v":""},{"$f":"IF($DO224=\"\",\"\",'Tableau général'!D226)","v":""},{"$f":"IF($DO224=\"\",\"\",'Tableau général'!E226)","v":""}]
[null,null,null,null,null,null,null,null,null,null,null,null,null,null,null,null,null,null,null,null,null,null,null,null,null,null,null,null,null,null,null,null,null,null,null,null,null,null,null,null,null,null,null,null,null,null,null,null,null,null,null,null,null,null,null,null,null,null,null,null,null,null,null,null,null,null,null,null,null,null,null,null,null,null,null,null,null,null,null,null,null,null,null,null,null,null,null,null,null,null,null,null,null,null,null,null,null,null,null,null,null,null,null,null,null,null,null,null,null,null,null,null,null,null,null,null,null,null,{"$f":"'Tableau général'!A227","v":""},{"$f":"IF($DO225=\"\",\"\",'Tableau général'!C227)","v":""},{"$f":"IF($DO225=\"\",\"\",'Tableau général'!D227)","v":""},{"$f":"IF($DO225=\"\",\"\",'Tableau général'!E227)","v":""}]
[null,null,null,null,null,null,null,null,null,null,null,null,null,null,null,null,null,null,null,null,null,null,null,null,null,null,null,null,null,null,null,null,null,null,null,null,null,null,null,null,null,null,null,null,null,null,null,null,null,null,null,null,null,null,null,null,null,null,null,null,null,null,null,null,null,null,null,null,null,null,null,null,null,null,null,null,null,null,null,null,null,null,null,null,null,null,null,null,null,null,null,null,null,null,null,null,null,null,null,null,null,null,null,null,null,null,null,null,null,null,null,null,null,null,null,null,null,null,{"$f":"'Tableau général'!A228","v":""},{"$f":"IF($DO226=\"\",\"\",'Tableau général'!C228)","v":""},{"$f":"IF($DO226=\"\",\"\",'Tableau général'!D228)","v":""},{"$f":"IF($DO226=\"\",\"\",'Tableau général'!E228)","v":""}]
[null,null,null,null,null,null,null,null,null,null,null,null,null,null,null,null,null,null,null,null,null,null,null,null,null,null,null,null,null,null,null,null,null,null,null,null,null,null,null,null,null,null,null,null,null,null,null,null,null,null,null,null,null,null,null,null,null,null,null,null,null,null,null,null,null,null,null,null,null,null,null,null,null,null,null,null,null,null,null,null,null,null,null,null,null,null,null,null,null,null,null,null,null,null,null,null,null,null,null,null,null,null,null,null,null,null,null,null,null,null,null,null,null,null,null,null,null,null,{"$f":"'Tableau général'!A229","v":""},{"$f":"IF($DO227=\"\",\"\",'Tableau général'!C229)","v":""},{"$f":"IF($DO227=\"\",\"\",'Tableau général'!D229)","v":""},{"$f":"IF($DO227=\"\",\"\",'Tableau général'!E229)","v":""}]
[null,null,null,null,null,null,null,null,null,null,null,null,null,null,null,null,null,null,null,null,null,null,null,null,null,null,null,null,null,null,null,null,null,null,null,null,null,null,null,null,null,null,null,null,null,null,null,null,null,null,null,null,null,null,null,null,null,null,null,null,null,null,null,null,null,null,null,null,null,null,null,null,null,null,null,null,null,null,null,null,null,null,null,null,null,null,null,null,null,null,null,null,null,null,null,null,null,null,null,null,null,null,null,null,null,null,null,null,null,null,null,null,null,null,null,null,null,null,{"$f":"'Tableau général'!A230","v":""},{"$f":"IF($DO228=\"\",\"\",'Tableau général'!C230)","v":""},{"$f":"IF($DO228=\"\",\"\",'Tableau général'!D230)","v":""},{"$f":"IF($DO228=\"\",\"\",'Tableau général'!E230)","v":""}]
[null,null,null,null,null,null,null,null,null,null,null,null,null,null,null,null,null,null,null,null,null,null,null,null,null,null,null,null,null,null,null,null,null,null,null,null,null,null,null,null,null,null,null,null,null,null,null,null,null,null,null,null,null,null,null,null,null,null,null,null,null,null,null,null,null,null,null,null,null,null,null,null,null,null,null,null,null,null,null,null,null,null,null,null,null,null,null,null,null,null,null,null,null,null,null,null,null,null,null,null,null,null,null,null,null,null,null,null,null,null,null,null,null,null,null,null,null,null,{"$f":"'Tableau général'!A231","v":""},{"$f":"IF($DO229=\"\",\"\",'Tableau général'!C231)","v":""},{"$f":"IF($DO229=\"\",\"\",'Tableau général'!D231)","v":""},{"$f":"IF($DO229=\"\",\"\",'Tableau général'!E231)","v":""}]
[null,null,null,null,null,null,null,null,null,null,null,null,null,null,null,null,null,null,null,null,null,null,null,null,null,null,null,null,null,null,null,null,null,null,null,null,null,null,null,null,null,null,null,null,null,null,null,null,null,null,null,null,null,null,null,null,null,null,null,null,null,null,null,null,null,null,null,null,null,null,null,null,null,null,null,null,null,null,null,null,null,null,null,null,null,null,null,null,null,null,null,null,null,null,null,null,null,null,null,null,null,null,null,null,null,null,null,null,null,null,null,null,null,null,null,null,null,null,{"$f":"'Tableau général'!A232","v":""},{"$f":"IF($DO230=\"\",\"\",'Tableau général'!C232)","v":""},{"$f":"IF($DO230=\"\",\"\",'Tableau général'!D232)","v":""},{"$f":"IF($DO230=\"\",\"\",'Tableau général'!E232)","v":""}]
[null,null,null,null,null,null,null,null,null,null,null,null,null,null,null,null,null,null,null,null,null,null,null,null,null,null,null,null,null,null,null,null,null,null,null,null,null,null,null,null,null,null,null,null,null,null,null,null,null,null,null,null,null,null,null,null,null,null,null,null,null,null,null,null,null,null,null,null,null,null,null,null,null,null,null,null,null,null,null,null,null,null,null,null,null,null,null,null,null,null,null,null,null,null,null,null,null,null,null,null,null,null,null,null,null,null,null,null,null,null,null,null,null,null,null,null,null,null,{"$f":"'Tableau général'!A233","v":""},{"$f":"IF($DO231=\"\",\"\",'Tableau général'!C233)","v":""},{"$f":"IF($DO231=\"\",\"\",'Tableau général'!D233)","v":""},{"$f":"IF($DO231=\"\",\"\",'Tableau général'!E233)","v":""}]
[null,null,null,null,null,null,null,null,null,null,null,null,null,null,null,null,null,null,null,null,null,null,null,null,null,null,null,null,null,null,null,null,null,null,null,null,null,null,null,null,null,null,null,null,null,null,null,null,null,null,null,null,null,null,null,null,null,null,null,null,null,null,null,null,null,null,null,null,null,null,null,null,null,null,null,null,null,null,null,null,null,null,null,null,null,null,null,null,null,null,null,null,null,null,null,null,null,null,null,null,null,null,null,null,null,null,null,null,null,null,null,null,null,null,null,null,null,null,{"$f":"'Tableau général'!A234","v":""},{"$f":"IF($DO232=\"\",\"\",'Tableau général'!C234)","v":""},{"$f":"IF($DO232=\"\",\"\",'Tableau général'!D234)","v":""},{"$f":"IF($DO232=\"\",\"\",'Tableau général'!E234)","v":""}]
[null,null,null,null,null,null,null,null,null,null,null,null,null,null,null,null,null,null,null,null,null,null,null,null,null,null,null,null,null,null,null,null,null,null,null,null,null,null,null,null,null,null,null,null,null,null,null,null,null,null,null,null,null,null,null,null,null,null,null,null,null,null,null,null,null,null,null,null,null,null,null,null,null,null,null,null,null,null,null,null,null,null,null,null,null,null,null,null,null,null,null,null,null,null,null,null,null,null,null,null,null,null,null,null,null,null,null,null,null,null,null,null,null,null,null,null,null,null,{"$f":"'Tableau général'!A235","v":""},{"$f":"IF($DO233=\"\",\"\",'Tableau général'!C235)","v":""},{"$f":"IF($DO233=\"\",\"\",'Tableau général'!D235)","v":""},{"$f":"IF($DO233=\"\",\"\",'Tableau général'!E235)","v":""}]
[null,null,null,null,null,null,null,null,null,null,null,null,null,null,null,null,null,null,null,null,null,null,null,null,null,null,null,null,null,null,null,null,null,null,null,null,null,null,null,null,null,null,null,null,null,null,null,null,null,null,null,null,null,null,null,null,null,null,null,null,null,null,null,null,null,null,null,null,null,null,null,null,null,null,null,null,null,null,null,null,null,null,null,null,null,null,null,null,null,null,null,null,null,null,null,null,null,null,null,null,null,null,null,null,null,null,null,null,null,null,null,null,null,null,null,null,null,null,{"$f":"'Tableau général'!A236","v":""},{"$f":"IF($DO234=\"\",\"\",'Tableau général'!C236)","v":""},{"$f":"IF($DO234=\"\",\"\",'Tableau général'!D236)","v":""},{"$f":"IF($DO234=\"\",\"\",'Tableau général'!E236)","v":""}]
[null,null,null,null,null,null,null,null,null,null,null,null,null,null,null,null,null,null,null,null,null,null,null,null,null,null,null,null,null,null,null,null,null,null,null,null,null,null,null,null,null,null,null,null,null,null,null,null,null,null,null,null,null,null,null,null,null,null,null,null,null,null,null,null,null,null,null,null,null,null,null,null,null,null,null,null,null,null,null,null,null,null,null,null,null,null,null,null,null,null,null,null,null,null,null,null,null,null,null,null,null,null,null,null,null,null,null,null,null,null,null,null,null,null,null,null,null,null,{"$f":"'Tableau général'!A237","v":""},{"$f":"IF($DO235=\"\",\"\",'Tableau général'!C237)","v":""},{"$f":"IF($DO235=\"\",\"\",'Tableau général'!D237)","v":""},{"$f":"IF($DO235=\"\",\"\",'Tableau général'!E237)","v":""}]
[null,null,null,null,null,null,null,null,null,null,null,null,null,null,null,null,null,null,null,null,null,null,null,null,null,null,null,null,null,null,null,null,null,null,null,null,null,null,null,null,null,null,null,null,null,null,null,null,null,null,null,null,null,null,null,null,null,null,null,null,null,null,null,null,null,null,null,null,null,null,null,null,null,null,null,null,null,null,null,null,null,null,null,null,null,null,null,null,null,null,null,null,null,null,null,null,null,null,null,null,null,null,null,null,null,null,null,null,null,null,null,null,null,null,null,null,null,null,{"$f":"'Tableau général'!A238","v":""},{"$f":"IF($DO236=\"\",\"\",'Tableau général'!C238)","v":""},{"$f":"IF($DO236=\"\",\"\",'Tableau général'!D238)","v":""},{"$f":"IF($DO236=\"\",\"\",'Tableau général'!E238)","v":""}]
[null,null,null,null,null,null,null,null,null,null,null,null,null,null,null,null,null,null,null,null,null,null,null,null,null,null,null,null,null,null,null,null,null,null,null,null,null,null,null,null,null,null,null,null,null,null,null,null,null,null,null,null,null,null,null,null,null,null,null,null,null,null,null,null,null,null,null,null,null,null,null,null,null,null,null,null,null,null,null,null,null,null,null,null,null,null,null,null,null,null,null,null,null,null,null,null,null,null,null,null,null,null,null,null,null,null,null,null,null,null,null,null,null,null,null,null,null,null,{"$f":"'Tableau général'!A239","v":""},{"$f":"IF($DO237=\"\",\"\",'Tableau général'!C239)","v":""},{"$f":"IF($DO237=\"\",\"\",'Tableau général'!D239)","v":""},{"$f":"IF($DO237=\"\",\"\",'Tableau général'!E239)","v":""}]
[null,null,null,null,null,null,null,null,null,null,null,null,null,null,null,null,null,null,null,null,null,null,null,null,null,null,null,null,null,null,null,null,null,null,null,null,null,null,null,null,null,null,null,null,null,null,null,null,null,null,null,null,null,null,null,null,null,null,null,null,null,null,null,null,null,null,null,null,null,null,null,null,null,null,null,null,null,null,null,null,null,null,null,null,null,null,null,null,null,null,null,null,null,null,null,null,null,null,null,null,null,null,null,null,null,null,null,null,null,null,null,null,null,null,null,null,null,null,{"$f":"'Tableau général'!A240","v":""},{"$f":"IF($DO238=\"\",\"\",'Tableau général'!C240)","v":""},{"$f":"IF($DO238=\"\",\"\",'Tableau général'!D240)","v":""},{"$f":"IF($DO238=\"\",\"\",'Tableau général'!E240)","v":""}]
[null,null,null,null,null,null,null,null,null,null,null,null,null,null,null,null,null,null,null,null,null,null,null,null,null,null,null,null,null,null,null,null,null,null,null,null,null,null,null,null,null,null,null,null,null,null,null,null,null,null,null,null,null,null,null,null,null,null,null,null,null,null,null,null,null,null,null,null,null,null,null,null,null,null,null,null,null,null,null,null,null,null,null,null,null,null,null,null,null,null,null,null,null,null,null,null,null,null,null,null,null,null,null,null,null,null,null,null,null,null,null,null,null,null,null,null,null,null,{"$f":"'Tableau général'!A241","v":""},{"$f":"IF($DO239=\"\",\"\",'Tableau général'!C241)","v":""},{"$f":"IF($DO239=\"\",\"\",'Tableau général'!D241)","v":""},{"$f":"IF($DO239=\"\",\"\",'Tableau général'!E241)","v":""}]
[null,null,null,null,null,null,null,null,null,null,null,null,null,null,null,null,null,null,null,null,null,null,null,null,null,null,null,null,null,null,null,null,null,null,null,null,null,null,null,null,null,null,null,null,null,null,null,null,null,null,null,null,null,null,null,null,null,null,null,null,null,null,null,null,null,null,null,null,null,null,null,null,null,null,null,null,null,null,null,null,null,null,null,null,null,null,null,null,null,null,null,null,null,null,null,null,null,null,null,null,null,null,null,null,null,null,null,null,null,null,null,null,null,null,null,null,null,null,{"$f":"'Tableau général'!A242","v":""},{"$f":"IF($DO240=\"\",\"\",'Tableau général'!C242)","v":""},{"$f":"IF($DO240=\"\",\"\",'Tableau général'!D242)","v":""},{"$f":"IF($DO240=\"\",\"\",'Tableau général'!E242)","v":""}]
[null,null,null,null,null,null,null,null,null,null,null,null,null,null,null,null,null,null,null,null,null,null,null,null,null,null,null,null,null,null,null,null,null,null,null,null,null,null,null,null,null,null,null,null,null,null,null,null,null,null,null,null,null,null,null,null,null,null,null,null,null,null,null,null,null,null,null,null,null,null,null,null,null,null,null,null,null,null,null,null,null,null,null,null,null,null,null,null,null,null,null,null,null,null,null,null,null,null,null,null,null,null,null,null,null,null,null,null,null,null,null,null,null,null,null,null,null,null,{"$f":"'Tableau général'!A243","v":""},{"$f":"IF($DO241=\"\",\"\",'Tableau général'!C243)","v":""},{"$f":"IF($DO241=\"\",\"\",'Tableau général'!D243)","v":""},{"$f":"IF($DO241=\"\",\"\",'Tableau général'!E243)","v":""}]
[null,null,null,null,null,null,null,null,null,null,null,null,null,null,null,null,null,null,null,null,null,null,null,null,null,null,null,null,null,null,null,null,null,null,null,null,null,null,null,null,null,null,null,null,null,null,null,null,null,null,null,null,null,null,null,null,null,null,null,null,null,null,null,null,null,null,null,null,null,null,null,null,null,null,null,null,null,null,null,null,null,null,null,null,null,null,null,null,null,null,null,null,null,null,null,null,null,null,null,null,null,null,null,null,null,null,null,null,null,null,null,null,null,null,null,null,null,null,{"$f":"'Tableau général'!A244","v":""},{"$f":"IF($DO242=\"\",\"\",'Tableau général'!C244)","v":""},{"$f":"IF($DO242=\"\",\"\",'Tableau général'!D244)","v":""},{"$f":"IF($DO242=\"\",\"\",'Tableau général'!E244)","v":""}]
[null,null,null,null,null,null,null,null,null,null,null,null,null,null,null,null,null,null,null,null,null,null,null,null,null,null,null,null,null,null,null,null,null,null,null,null,null,null,null,null,null,null,null,null,null,null,null,null,null,null,null,null,null,null,null,null,null,null,null,null,null,null,null,null,null,null,null,null,null,null,null,null,null,null,null,null,null,null,null,null,null,null,null,null,null,null,null,null,null,null,null,null,null,null,null,null,null,null,null,null,null,null,null,null,null,null,null,null,null,null,null,null,null,null,null,null,null,null,{"$f":"'Tableau général'!A245","v":""},{"$f":"IF($DO243=\"\",\"\",'Tableau général'!C245)","v":""},{"$f":"IF($DO243=\"\",\"\",'Tableau général'!D245)","v":""},{"$f":"IF($DO243=\"\",\"\",'Tableau général'!E245)","v":""}]
[null,null,null,null,null,null,null,null,null,null,null,null,null,null,null,null,null,null,null,null,null,null,null,null,null,null,null,null,null,null,null,null,null,null,null,null,null,null,null,null,null,null,null,null,null,null,null,null,null,null,null,null,null,null,null,null,null,null,null,null,null,null,null,null,null,null,null,null,null,null,null,null,null,null,null,null,null,null,null,null,null,null,null,null,null,null,null,null,null,null,null,null,null,null,null,null,null,null,null,null,null,null,null,null,null,null,null,null,null,null,null,null,null,null,null,null,null,null,{"$f":"'Tableau général'!A246","v":""},{"$f":"IF($DO244=\"\",\"\",'Tableau général'!C246)","v":""},{"$f":"IF($DO244=\"\",\"\",'Tableau général'!D246)","v":""},{"$f":"IF($DO244=\"\",\"\",'Tableau général'!E246)","v":""}]
[null,null,null,null,null,null,null,null,null,null,null,null,null,null,null,null,null,null,null,null,null,null,null,null,null,null,null,null,null,null,null,null,null,null,null,null,null,null,null,null,null,null,null,null,null,null,null,null,null,null,null,null,null,null,null,null,null,null,null,null,null,null,null,null,null,null,null,null,null,null,null,null,null,null,null,null,null,null,null,null,null,null,null,null,null,null,null,null,null,null,null,null,null,null,null,null,null,null,null,null,null,null,null,null,null,null,null,null,null,null,null,null,null,null,null,null,null,null,{"$f":"'Tableau général'!A247","v":""},{"$f":"IF($DO245=\"\",\"\",'Tableau général'!C247)","v":""},{"$f":"IF($DO245=\"\",\"\",'Tableau général'!D247)","v":""},{"$f":"IF($DO245=\"\",\"\",'Tableau général'!E247)","v":""}]
[null,null,null,null,null,null,null,null,null,null,null,null,null,null,null,null,null,null,null,null,null,null,null,null,null,null,null,null,null,null,null,null,null,null,null,null,null,null,null,null,null,null,null,null,null,null,null,null,null,null,null,null,null,null,null,null,null,null,null,null,null,null,null,null,null,null,null,null,null,null,null,null,null,null,null,null,null,null,null,null,null,null,null,null,null,null,null,null,null,null,null,null,null,null,null,null,null,null,null,null,null,null,null,null,null,null,null,null,null,null,null,null,null,null,null,null,null,null,{"$f":"'Tableau général'!A248","v":""},{"$f":"IF($DO246=\"\",\"\",'Tableau général'!C248)","v":""},{"$f":"IF($DO246=\"\",\"\",'Tableau général'!D248)","v":""},{"$f":"IF($DO246=\"\",\"\",'Tableau général'!E248)","v":""}]
[null,null,null,null,null,null,null,null,null,null,null,null,null,null,null,null,null,null,null,null,null,null,null,null,null,null,null,null,null,null,null,null,null,null,null,null,null,null,null,null,null,null,null,null,null,null,null,null,null,null,null,null,null,null,null,null,null,null,null,null,null,null,null,null,null,null,null,null,null,null,null,null,null,null,null,null,null,null,null,null,null,null,null,null,null,null,null,null,null,null,null,null,null,null,null,null,null,null,null,null,null,null,null,null,null,null,null,null,null,null,null,null,null,null,null,null,null,null,{"$f":"'Tableau général'!A249","v":""},{"$f":"IF($DO247=\"\",\"\",'Tableau général'!C249)","v":""},{"$f":"IF($DO247=\"\",\"\",'Tableau général'!D249)","v":""},{"$f":"IF($DO247=\"\",\"\",'Tableau général'!E249)","v":""}]

{"sheet":"Imprim","index":5,"n_rows":25,"n_cols":47,"rows_kept":25,"cut":false,"hidden":false,"merged":[[22,0,22,35],[0,25,0,35],[1,21,1,24],[0,21,0,24],[1,25,1,35],[4,1,4,7],[4,8,4,14],[4,15,4,21],[4,22,4,28],[4,29,4,35],[3,0,4,0],[5,14,7,14],[0,0,0,7],[1,0,1,7],[1,9,1,18],[3,1,3,7],[3,8,3,14],[3,15,3,21],[3,22,3,28],[3,29,3,35],[5,1,5,3],[5,4,5,6],[5,7,7,7],[5,8,5,10],[5,11,5,13],[5,15,5,17],[5,18,5,20],[5,21,7,21],[5,22,5,24],[5,25,5,27],[18,1,18,3],[18,4,18,6],[18,8,18,10],[18,11,18,13],[18,15,18,17],[19,18,19,20],[19,22,19,24],[5,29,5,31],[5,32,5,34],[5,35,7,35],[18,18,18,20],[18,22,18,24],[5,28,7,28],[19,25,19,27],[19,29,19,31],[19,32,19,34],[18,25,18,27],[18,29,18,31],[18,32,18,34],[19,1,19,3],[19,4,19,6],[19,8,19,10],[19,11,19,13],[19,15,19,17]]}
["Fiche de suivi",null,null,null,null,null,null,null,null,null,null,null,null,null,null,null,null,null,null,null,null,"Nom de l'élève :",null,null,null,{"$f":"IF(nfiche=\"\",\"\",INDEX(tabsignal,MATCH(nfiche,nsignal,0),2))","v":""}]
["Contrat de vie scolaire",null,null,null,null,null,null,null,null,"LPCH",null,null,null,null,null,null,null,null,null,null,null,"Classe :",null,null,null,{"$f":"IF(nfiche=\"\",\"\",INDEX(tabsignal,MATCH(nfiche,nsignal,0),1))","v":""},null,null,null,null,null,null,null,null,null,null,null,null,null,null,null,null,{"$f":"IF(nfiche=\"\",\"\",INDEX(tabsignal,MATCH(nfiche,nsignal,0),3))","v":""}]
["N° fiche",null,null,null,null,null,null,null,null,null,null,null,null,null,null,null,null,null,null,null,null,null,null,null,null,null,null,null,null,null,null,null,null,null,null,null,null,null,null,null,null,null,"Lundi","Mardi","Mercredi","Jeudi","Vendredi"]
[{"$f":"'Tableau général'!K2&\"\"","v":""},"Lundi",null,null,null,null,null,null,"Mardi",null,null,null,null,null,null,"Mercredi",null,null,null,null,null,null,"Jeudi",null,null,null,null,null,null,"Vendredi",null,null,null,null,null,null,null,null,null,null,null,null,{"$f":"AQ3&\" \"&\"AQ2\"","v":"Lundi AQ2"}]
[null,{"$f":"IF(nfiche=\"\",\"\",INDEX(tabsignal,MATCH(nfiche,nsignal,0),3))","v":""},null,null,null,null,null,null,{"$f":"B5+1","v":{"$error":"#VALUE!"}},null,null,null,null,null,null,{"$f":"I5+1","v":{"$error":"#VALUE!"}},null,null,null,null,null,null,{"$f":"P5+1","v":{"$error":"#VALUE!"}},null,null,null,null,null,null,{"$f":"W5+1","v":{"$error":"#VALUE!"}}]
[null,"Travail",null,null,"Comport.",null,null,"Signature","Travail",null,null,"Comport.",null,null,"Signature","Travail",null,null,"Comport.",null,null,"Signature","Travail",null,null,"Comport.",null,null,"Signature","Travail",null,null,"Comport.",null,null,"Signature"]
["Note",2,1,0,2,1,0,null,2,1,0,2,1,0,null,2,1,0,2,1,0,null,2,1,0,2,1,0,null,2,1,0,2,1,0]
["heures","B","M","I","B","M","I",null,"B","M","I","B","M","I",null,"B","M","I","B","M","I",null,"B","M","I","B","M","I",null,"B","M","I","B","M","I"]
["M1"]
["M2"]
["M3"]
["M4"]
[]
["S1"]
["S2"]
["S3"]
["S4"]
[]
["Notes",{"$f":"IF(SUM(B9:D17)=0,\"\",(SUM(B9:B17)*B7)+(SUM(C9:C17)*C7))","v":""},null,null,{"$f":"IF(SUM(E9:G17)=0,\"\",(SUM(E9:E17)*E7)+(SUM(F9:F17)*F7))","v":""},null,null,null,{"$f":"IF(SUM(I9:K17)=0,\"\",(SUM(I9:I17)*I7)+(SUM(J9:J17)*J7))","v":""},null,null,{"$f":"IF(SUM(L9:N17)=0,\"\",(SUM(L9:L17)*L7)+(SUM(M9:M17)*M7))","v":""},null,null,null,{"$f":"IF(SUM(P9:R17)=0,\"\",(SUM(P9:P17)*P7)+(SUM(Q9:Q17)*Q7))","v":""},null,null,{"$f":"IF(SUM(S9:U17)=0,\"\",(SUM(S9:S17)*S7)+(SUM(T9:T17)*T7))","v":""},null,null,null,{"$f":"IF(SUM(W9:Y17)=0,\"\",(SUM(W9:W17)*W7)+(SUM(X9:X17)*X7))","v":""},null,null,{"$f":"IF(SUM(Z9:AB17)=0,\"\",(SUM(Z9:Z17)*Z7)+(SUM(AA9:AA17)*AA7))","v":""},null,null,null,{"$f":"IF(SUM(AD9:AF17)=0,\"\",(SUM(AD9:AD17)*AD7)+(SUM(AE9:AE17)*AE7))","v":""},null,null,{"$f":"IF(SUM(AG9:AI17)=0,\"\",(SUM(AG9:AG17)*AG7)+(SUM(AH9:AH17)*AH7))","v":""}]
["Notes sur",{"$f":"IF(SUM(B9:D17)=0,\"\",COUNT(B9:D17)*2)","v":""},null,null,{"$f":"IF(SUM(E9:G17)=0,\"\",COUNT(E9:G17)*2)","v":""},null,null,null,{"$f":"IF(SUM(I9:K17)=0,\"\",COUNT(I9:K17)*2)","v":""},null,null,{"$f":"IF(SUM(L9:N17)=0,\"\",COUNT(L9:N17)*2)","v":""},null,null,null,{"$f":"IF(SUM(P9:R17)=0,\"\",COUNT(P9:R17)*2)","v":""},null,null,{"$f":"IF(SUM(S9:U17)=0,\"\",COUNT(S9:U17)*2)","v":""},null,null,null,{"$f":"IF(SUM(W9:Y17)=0,\"\",COUNT(W9:Y17)*2)","v":""},null,null,{"$f":"IF(SUM(Z9:AB17)=0,\"\",COUNT(Z9:AB17)*2)","v":""},null,null,null,{"$f":"IF(SUM(AD9:AF17)=0,\"\",COUNT(AD9:AF17)*2)","v":""},null,null,{"$f":"IF(SUM(AG9:AI17)=0,\"\",COUNT(AG9:AI17)*2)","v":""}]
["Signature parents"]
[null,null,null,null,null,null,null,{"$f":"IF(SUM(B20:AI20)=0,\"\",(SUM(B19:AI19)*20)/SUM(B20:AI20))","v":""}]
["Cette fiche doit être montrée à chaque heure de cours et d'étude à l'enseignant ou au surveillant. Elle doit être signée en fin de semaine par les parents, CPE, professeur principal de la classe et directeur du collège. Cette fiche est sous la responsabilité de l'élève. Elle ne doit pas être perdue ou oubliéetout au long de la semaine sous peine de sanction."]
[]
["Observations enseignants"]